{"text_format":"3","workbook":"xlsx","n_sheets":3,"sheets":["tirage","eleves","résultats"],"not_rendered":{"images":1,"macros":1},"read":"whole","date_system":"1900"}

{"sheet":"tirage","index":0,"n_rows":519,"n_cols":18,"rows_kept":519,"merged":[[1,1,2,2],[2,7,4,12],[10,7,10,8],[10,9,10,10],[14,7,14,8],[15,4,15,5],[19,2,19,3],[19,6,19,8],[20,2,20,3],[20,6,20,8],[21,2,21,3],[21,6,21,8],[22,2,22,3],[22,6,22,8],[23,2,23,3],[23,6,23,8],[24,2,24,3],[24,6,24,8],[25,2,25,3],[25,6,25,8],[26,2,26,3],[26,6,26,8],[27,2,27,3],[27,6,27,8],[28,2,28,3],[28,6,28,8],[29,2,29,3],[29,6,29,8],[30,2,30,3],[30,6,30,8],[31,2,31,3],[31,6,31,8],[32,2,32,3],[32,6,32,8],[33,2,33,3],[33,6,33,8],[34,2,34,3],[34,6,34,8],[35,2,35,3],[35,6,35,8],[36,2,36,3],[36,6,36,8],[37,2,37,3],[37,6,37,8],[38,2,38,3],[38,6,38,8],[39,2,39,3],[39,6,39,8],[40,2,40,3],[40,6,40,8],[41,2,41,3],[41,6,41,8],[42,2,42,3],[42,6,42,8],[43,2,43,3],[43,6,43,8],[44,2,44,3],[44,6,44,8],[45,2,45,3],[45,6,45,8],[46,2,46,3],[46,6,46,8],[47,2,47,3],[47,6,47,8],[48,2,48,3],[48,6,48,8],[49,2,49,3],[49,6,49,8],[50,2,50,3],[50,6,50,8],[51,2,51,3],[51,6,51,8],[52,2,52,3],[52,6,52,8],[53,2,53,3],[53,6,53,8],[54,2,54,3],[54,6,54,8],[55,2,55,3],[55,6,55,8],[56,2,56,3],[56,6,56,8],[57,2,57,3],[57,6,57,8],[58,2,58,3],[58,6,58,8],[59,2,59,3],[59,6,59,8],[60,2,60,3],[60,6,60,8],[61,2,61,3],[61,6,61,8],[62,2,62,3],[62,6,62,8],[63,2,63,3],[63,6,63,8],[64,2,64,3],[64,6,64,8],[65,2,65,3],[65,6,65,8],[66,2,66,3],[66,6,66,8],[67,2,67,3],[67,6,67,8],[68,2,68,3],[68,6,68,8],[69,2,69,3],[69,6,69,8],[70,2,70,3],[70,6,70,8],[71,2,71,3],[71,6,71,8],[72,2,72,3],[72,6,72,8],[73,2,73,3],[73,6,73,8],[74,2,74,3],[74,6,74,8],[75,2,75,3],[75,6,75,8],[76,2,76,3],[76,6,76,8],[77,2,77,3],[77,6,77,8],[78,2,78,3],[78,6,78,8],[79,2,79,3],[79,6,79,8],[80,2,80,3],[80,6,80,8],[81,2,81,3],[81,6,81,8],[82,2,82,3],[82,6,82,8],[83,2,83,3],[83,6,83,8],[84,2,84,3],[84,6,84,8],[85,2,85,3],[85,6,85,8],[86,2,86,3],[86,6,86,8],[87,2,87,3],[87,6,87,8],[88,2,88,3],[88,6,88,8],[89,2,89,3],[89,6,89,8],[90,2,90,3],[90,6,90,8],[91,2,91,3],[91,6,91,8],[92,2,92,3],[92,6,92,8],[93,2,93,3],[93,6,93,8],[94,2,94,3],[94,6,94,8],[95,2,95,3],[95,6,95,8],[96,2,96,3],[96,6,96,8],[97,2,97,3],[97,6,97,8],[98,2,98,3],[98,6,98,8],[99,2,99,3],[99,6,99,8],[100,2,100,3],[100,6,100,8],[101,2,101,3],[101,6,101,8],[102,2,102,3],[102,6,102,8],[103,2,103,3],[103,6,103,8],[104,2,104,3],[104,6,104,8],[105,2,105,3],[105,6,105,8],[106,2,106,3],[106,6,106,8],[107,2,107,3],[107,6,107,8],[108,2,108,3],[108,6,108,8],[109,2,109,3],[109,6,109,8],[110,2,110,3],[110,6,110,8],[111,2,111,3],[111,6,111,8],[112,2,112,3],[112,6,112,8],[113,2,113,3],[113,6,113,8],[114,2,114,3],[114,6,114,8],[115,2,115,3],[115,6,115,8],[116,2,116,3],[116,6,116,8],[117,2,117,3],[117,6,117,8],[118,2,118,3],[118,6,118,8],[119,2,119,3],[119,6,119,8],[120,2,120,3],[120,6,120,8],[121,2,121,3],[121,6,121,8],[122,2,122,3],[122,6,122,8],[123,2,123,3],[123,6,123,8],[124,2,124,3],[124,6,124,8],[125,2,125,3],[125,6,125,8],[126,2,126,3],[126,6,126,8],[127,2,127,3],[127,6,127,8],[128,2,128,3],[128,6,128,8],[129,2,129,3],[129,6,129,8],[130,2,130,3],[130,6,130,8],[131,2,131,3],[131,6,131,8],[132,2,132,3],[132,6,132,8],[133,2,133,3],[133,6,133,8],[134,2,134,3],[134,6,134,8],[135,2,135,3],[135,6,135,8],[136,2,136,3],[136,6,136,8],[137,2,137,3],[137,6,137,8],[138,2,138,3],[138,6,138,8],[139,2,139,3],[139,6,139,8],[140,2,140,3],[140,6,140,8],[141,2,141,3],[141,6,141,8],[142,2,142,3],[142,6,142,8],[143,2,143,3],[143,6,143,8],[144,2,144,3],[144,6,144,8],[145,2,145,3],[145,6,145,8],[146,2,146,3],[146,6,146,8],[147,2,147,3],[147,6,147,8],[148,2,148,3],[148,6,148,8],[149,2,149,3],[149,6,149,8],[150,2,150,3],[150,6,150,8],[151,2,151,3],[151,6,151,8],[152,2,152,3],[152,6,152,8],[153,2,153,3],[153,6,153,8],[154,2,154,3],[154,6,154,8],[155,2,155,3],[155,6,155,8],[156,2,156,3],[156,6,156,8],[157,2,157,3],[157,6,157,8],[158,2,158,3],[158,6,158,8],[159,2,159,3],[159,6,159,8],[160,2,160,3],[160,6,160,8],[161,2,161,3],[161,6,161,8],[162,2,162,3],[162,6,162,8],[163,2,163,3],[163,6,163,8],[164,2,164,3],[164,6,164,8],[165,2,165,3],[165,6,165,8],[166,2,166,3],[166,6,166,8],[167,2,167,3],[167,6,167,8],[168,2,168,3],[168,6,168,8],[169,2,169,3],[169,6,169,8],[170,2,170,3],[170,6,170,8],[171,2,171,3],[171,6,171,8],[172,2,172,3],[172,6,172,8],[173,2,173,3],[173,6,173,8],[174,2,174,3],[174,6,174,8],[175,2,175,3],[175,6,175,8],[176,2,176,3],[176,6,176,8],[177,2,177,3],[177,6,177,8],[178,2,178,3],[178,6,178,8],[179,2,179,3],[179,6,179,8],[180,2,180,3],[180,6,180,8],[181,2,181,3],[181,6,181,8],[182,2,182,3],[182,6,182,8],[183,2,183,3],[183,6,183,8],[184,2,184,3],[184,6,184,8],[185,2,185,3],[185,6,185,8],[186,2,186,3],[186,6,186,8],[187,2,187,3],[187,6,187,8],[188,2,188,3],[188,6,188,8],[189,2,189,3],[189,6,189,8],[190,2,190,3],[190,6,190,8],[191,2,191,3],[191,6,191,8],[192,2,192,3],[192,6,192,8],[193,2,193,3],[193,6,193,8],[194,2,194,3],[194,6,194,8],[195,2,195,3],[195,6,195,8],[196,2,196,3],[196,6,196,8],[197,2,197,3],[197,6,197,8],[198,2,198,3],[198,6,198,8],[199,2,199,3],[199,6,199,8],[200,2,200,3],[200,6,200,8],[201,2,201,3],[201,6,201,8],[202,2,202,3],[202,6,202,8],[203,2,203,3],[203,6,203,8],[204,2,204,3],[204,6,204,8],[205,2,205,3],[205,6,205,8],[206,2,206,3],[206,6,206,8],[207,2,207,3],[207,6,207,8],[208,2,208,3],[208,6,208,8],[209,2,209,3],[209,6,209,8],[210,2,210,3],[210,6,210,8],[211,2,211,3],[211,6,211,8],[212,2,212,3],[212,6,212,8],[213,2,213,3],[213,6,213,8],[214,2,214,3],[214,6,214,8],[215,2,215,3],[215,6,215,8],[216,2,216,3],[216,6,216,8],[217,2,217,3],[217,6,217,8],[218,2,218,3],[218,6,218,8],[219,2,219,3],[219,6,219,8],[220,2,220,3],[220,6,220,8],[221,2,221,3],[221,6,221,8],[222,2,222,3],[222,6,222,8],[223,2,223,3],[223,6,223,8],[224,2,224,3],[224,6,224,8],[225,2,225,3],[225,6,225,8],[226,2,226,3],[226,6,226,8],[227,2,227,3],[227,6,227,8],[228,2,228,3],[228,6,228,8],[229,2,229,3],[229,6,229,8],[230,2,230,3],[230,6,230,8],[231,2,231,3],[231,6,231,8],[232,2,232,3],[232,6,232,8],[233,2,233,3],[233,6,233,8],[234,2,234,3],[234,6,234,8],[235,2,235,3],[235,6,235,8],[236,2,236,3],[236,6,236,8],[237,2,237,3],[237,6,237,8],[238,2,238,3],[238,6,238,8],[239,2,239,3],[239,6,239,8],[240,2,240,3],[240,6,240,8],[241,2,241,3],[241,6,241,8],[242,2,242,3],[242,6,242,8],[243,2,243,3],[243,6,243,8],[244,2,244,3],[244,6,244,8],[245,2,245,3],[245,6,245,8],[246,2,246,3],[246,6,246,8],[247,2,247,3],[247,6,247,8],[248,2,248,3],[248,6,248,8],[249,2,249,3],[249,6,249,8],[250,2,250,3],[250,6,250,8],[251,2,251,3],[251,6,251,8],[252,2,252,3],[252,6,252,8],[253,2,253,3],[253,6,253,8],[254,2,254,3],[254,6,254,8],[255,2,255,3],[255,6,255,8],[256,2,256,3],[256,6,256,8],[257,2,257,3],[257,6,257,8],[258,2,258,3],[258,6,258,8],[259,2,259,3],[259,6,259,8],[260,2,260,3],[260,6,260,8],[261,2,261,3],[261,6,261,8],[262,2,262,3],[262,6,262,8],[263,2,263,3],[263,6,263,8],[264,2,264,3],[264,6,264,8],[265,2,265,3],[265,6,265,8],[266,2,266,3],[266,6,266,8],[267,2,267,3],[267,6,267,8],[268,2,268,3],[268,6,268,8],[269,2,269,3],[269,6,269,8],[270,2,270,3],[270,6,270,8],[271,2,271,3],[271,6,271,8],[272,2,272,3],[272,6,272,8],[273,2,273,3],[273,6,273,8],[274,2,274,3],[274,6,274,8],[275,2,275,3],[275,6,275,8],[276,2,276,3],[276,6,276,8],[277,2,277,3],[277,6,277,8],[278,2,278,3],[278,6,278,8],[279,2,279,3],[279,6,279,8],[280,2,280,3],[280,6,280,8],[281,2,281,3],[281,6,281,8],[282,2,282,3],[282,6,282,8],[283,2,283,3],[283,6,283,8],[284,2,284,3],[284,6,284,8],[285,2,285,3],[285,6,285,8],[286,2,286,3],[286,6,286,8],[287,2,287,3],[287,6,287,8],[288,2,288,3],[288,6,288,8],[289,2,289,3],[289,6,289,8],[290,2,290,3],[290,6,290,8],[291,2,291,3],[291,6,291,8],[292,2,292,3],[292,6,292,8],[293,2,293,3],[293,6,293,8],[294,2,294,3],[294,6,294,8],[295,2,295,3],[295,6,295,8],[296,2,296,3],[296,6,296,8],[297,2,297,3],[297,6,297,8],[298,2,298,3],[298,6,298,8],[299,2,299,3],[299,6,299,8],[300,2,300,3],[300,6,300,8],[301,2,301,3],[301,6,301,8],[302,2,302,3],[302,6,302,8],[303,2,303,3],[303,6,303,8],[304,2,304,3],[304,6,304,8],[305,2,305,3],[305,6,305,8],[306,2,306,3],[306,6,306,8],[307,2,307,3],[307,6,307,8],[308,2,308,3],[308,6,308,8],[309,2,309,3],[309,6,309,8],[310,2,310,3],[310,6,310,8],[311,2,311,3],[311,6,311,8],[312,2,312,3],[312,6,312,8],[313,2,313,3],[313,6,313,8],[314,2,314,3],[314,6,314,8],[315,2,315,3],[315,6,315,8],[316,2,316,3],[316,6,316,8],[317,2,317,3],[317,6,317,8],[318,2,318,3],[318,6,318,8],[319,2,319,3],[319,6,319,8],[320,2,320,3],[320,6,320,8],[321,2,321,3],[321,6,321,8],[322,2,322,3],[322,6,322,8],[323,2,323,3],[323,6,323,8],[324,2,324,3],[324,6,324,8],[325,2,325,3],[325,6,325,8],[326,2,326,3],[326,6,326,8],[327,2,327,3],[327,6,327,8],[328,2,328,3],[328,6,328,8],[329,2,329,3],[329,6,329,8],[330,2,330,3],[330,6,330,8],[331,2,331,3],[331,6,331,8],[332,2,332,3],[332,6,332,8],[333,2,333,3],[333,6,333,8],[334,2,334,3],[334,6,334,8],[335,2,335,3],[335,6,335,8],[336,2,336,3],[336,6,336,8],[337,2,337,3],[337,6,337,8],[338,2,338,3],[338,6,338,8],[339,2,339,3],[339,6,339,8],[340,2,340,3],[340,6,340,8],[341,2,341,3],[341,6,341,8],[342,2,342,3],[342,6,342,8],[343,2,343,3],[343,6,343,8],[344,2,344,3],[344,6,344,8],[345,2,345,3],[345,6,345,8],[346,2,346,3],[346,6,346,8],[347,2,347,3],[347,6,347,8],[348,2,348,3],[348,6,348,8],[349,2,349,3],[349,6,349,8],[350,2,350,3],[350,6,350,8],[351,2,351,3],[351,6,351,8],[352,2,352,3],[352,6,352,8],[353,2,353,3],[353,6,353,8],[354,2,354,3],[354,6,354,8],[355,2,355,3],[355,6,355,8],[356,2,356,3],[356,6,356,8],[357,2,357,3],[357,6,357,8],[358,2,358,3],[358,6,358,8],[359,2,359,3],[359,6,359,8],[360,2,360,3],[360,6,360,8],[361,2,361,3],[361,6,361,8],[362,2,362,3],[362,6,362,8],[363,2,363,3],[363,6,363,8],[364,2,364,3],[364,6,364,8],[365,2,365,3],[365,6,365,8],[366,2,366,3],[366,6,366,8],[367,2,367,3],[367,6,367,8],[368,2,368,3],[368,6,368,8],[369,2,369,3],[369,6,369,8],[370,2,370,3],[370,6,370,8],[371,2,371,3],[371,6,371,8],[372,2,372,3],[372,6,372,8],[373,2,373,3],[373,6,373,8],[374,2,374,3],[374,6,374,8],[375,2,375,3],[375,6,375,8],[376,2,376,3],[376,6,376,8],[377,2,377,3],[377,6,377,8],[378,2,378,3],[378,6,378,8],[379,2,379,3],[379,6,379,8],[380,2,380,3],[380,6,380,8],[381,2,381,3],[381,6,381,8],[382,2,382,3],[382,6,382,8],[383,2,383,3],[383,6,383,8],[384,2,384,3],[384,6,384,8],[385,2,385,3],[385,6,385,8],[386,2,386,3],[386,6,386,8],[387,2,387,3],[387,6,387,8],[388,2,388,3],[388,6,388,8],[389,2,389,3],[389,6,389,8],[390,2,390,3],[390,6,390,8],[391,2,391,3],[391,6,391,8],[392,2,392,3],[392,6,392,8],[393,2,393,3],[393,6,393,8],[394,2,394,3],[394,6,394,8],[395,2,395,3],[395,6,395,8],[396,2,396,3],[396,6,396,8],[397,2,397,3],[397,6,397,8],[398,2,398,3],[398,6,398,8],[399,2,399,3],[399,6,399,8],[400,2,400,3],[400,6,400,8],[401,2,401,3],[401,6,401,8],[402,2,402,3],[402,6,402,8],[403,2,403,3],[403,6,403,8],[404,2,404,3],[404,6,404,8],[405,2,405,3],[405,6,405,8],[406,2,406,3],[406,6,406,8],[407,2,407,3],[407,6,407,8],[408,2,408,3],[408,6,408,8],[409,2,409,3],[409,6,409,8],[410,2,410,3],[410,6,410,8],[411,2,411,3],[411,6,411,8],[412,2,412,3],[412,6,412,8],[413,2,413,3],[413,6,413,8],[414,2,414,3],[414,6,414,8],[415,2,415,3],[415,6,415,8],[416,2,416,3],[416,6,416,8],[417,2,417,3],[417,6,417,8],[418,2,418,3],[418,6,418,8],[419,2,419,3],[419,6,419,8],[420,2,420,3],[420,6,420,8],[421,2,421,3],[421,6,421,8],[422,2,422,3],[422,6,422,8],[423,2,423,3],[423,6,423,8],[424,2,424,3],[424,6,424,8],[425,2,425,3],[425,6,425,8],[426,2,426,3],[426,6,426,8],[427,2,427,3],[427,6,427,8],[428,2,428,3],[428,6,428,8],[429,2,429,3],[429,6,429,8],[430,2,430,3],[430,6,430,8],[431,2,431,3],[431,6,431,8],[432,2,432,3],[432,6,432,8],[433,2,433,3],[433,6,433,8],[434,2,434,3],[434,6,434,8],[435,2,435,3],[435,6,435,8],[436,2,436,3],[436,6,436,8],[437,2,437,3],[437,6,437,8],[438,2,438,3],[438,6,438,8],[439,2,439,3],[439,6,439,8],[440,2,440,3],[440,6,440,8],[441,2,441,3],[441,6,441,8],[442,2,442,3],[442,6,442,8],[443,2,443,3],[443,6,443,8],[444,2,444,3],[444,6,444,8],[445,2,445,3],[445,6,445,8],[446,2,446,3],[446,6,446,8],[447,2,447,3],[447,6,447,8],[448,2,448,3],[448,6,448,8],[449,2,449,3],[449,6,449,8],[450,2,450,3],[450,6,450,8],[451,2,451,3],[451,6,451,8],[452,2,452,3],[452,6,452,8],[453,2,453,3],[453,6,453,8],[454,2,454,3],[454,6,454,8],[455,2,455,3],[455,6,455,8],[456,2,456,3],[456,6,456,8],[457,2,457,3],[457,6,457,8],[458,2,458,3],[458,6,458,8],[459,2,459,3],[459,6,459,8],[460,2,460,3],[460,6,460,8],[461,2,461,3],[461,6,461,8],[462,2,462,3],[462,6,462,8],[463,2,463,3],[463,6,463,8],[464,2,464,3],[464,6,464,8],[465,2,465,3],[465,6,465,8],[466,2,466,3],[466,6,466,8],[467,2,467,3],[467,6,467,8],[468,2,468,3],[468,6,468,8],[469,2,469,3],[469,6,469,8],[470,2,470,3],[470,6,470,8],[471,2,471,3],[471,6,471,8],[472,2,472,3],[472,6,472,8],[473,2,473,3],[473,6,473,8],[474,2,474,3],[474,6,474,8],[475,2,475,3],[475,6,475,8],[476,2,476,3],[476,6,476,8],[477,2,477,3],[477,6,477,8],[478,2,478,3],[478,6,478,8],[479,2,479,3],[479,6,479,8],[480,2,480,3],[480,6,480,8],[481,2,481,3],[481,6,481,8],[482,2,482,3],[482,6,482,8],[483,2,483,3],[483,6,483,8],[484,2,484,3],[484,6,484,8],[485,2,485,3],[485,6,485,8],[486,2,486,3],[486,6,486,8],[487,2,487,3],[487,6,487,8],[488,2,488,3],[488,6,488,8],[489,2,489,3],[489,6,489,8],[490,2,490,3],[490,6,490,8],[491,2,491,3],[491,6,491,8],[492,2,492,3],[492,6,492,8],[493,2,493,3],[493,6,493,8],[494,2,494,3],[494,6,494,8],[495,2,495,3],[495,6,495,8],[496,2,496,3],[496,6,496,8],[497,2,497,3],[497,6,497,8],[498,2,498,3],[498,6,498,8],[499,2,499,3],[499,6,499,8],[500,6,500,8],[501,6,501,8],[502,6,502,8],[503,6,503,8],[504,6,504,8],[505,2,505,3],[505,6,505,8],[506,2,506,3],[506,6,506,8],[507,2,507,3],[507,6,507,8],[508,2,508,3],[508,6,508,8],[509,6,509,8],[510,2,510,3],[510,6,510,8],[511,2,511,3],[511,6,511,8],[512,2,512,3],[512,6,512,8],[513,2,513,3],[513,6,513,8],[514,2,514,3],[514,6,514,8],[515,2,515,3],[515,6,515,8],[516,2,516,3],[516,6,516,8],[517,2,517,3],[517,6,517,8],[518,2,518,3],[518,6,518,8]],"merged_total":1006,"flags":["merged_cut"]}
[{"$nulls":13},1,{"$f":"COUNTIF($E$20:$E$108,N1)","v":0},{"$f":"IF(O1=1,1,IF(R1=1,1,0))","v":0},1,{"$f":"COUNTIF($K$20:$K$108,N1)","v":0}]
[null,"TOMBOLA",{"$nulls":11},2,{"$f":"COUNTIF($E$20:$E$108,N2)","v":0},{"$f":"IF(O2=1,1,IF(R2=1,1,0))","v":0},2,{"$f":"COUNTIF($K$20:$K$108,N2)","v":0}]
[{"$nulls":3},"nbre de cartons",null,10," (500 maxi)","* Chaque carton ne gagne qu'une fois",{"$nulls":5},3,{"$f":"COUNTIF($E$20:$E$108,N3)","v":0},{"$f":"IF(O3=1,1,IF(R3=1,1,0))","v":0},3,{"$f":"COUNTIF($K$20:$K$108,N3)","v":0}]
[{"$nulls":13},4,{"$f":"COUNTIF($E$20:$E$108,N4)","v":0},{"$f":"IF(O4=1,1,IF(R4=1,1,0))","v":0},4,{"$f":"COUNTIF($K$20:$K$108,N4)","v":0}]
[{"$nulls":13},5,{"$f":"COUNTIF($E$20:$E$108,N5)","v":0},{"$f":"IF(O5=1,1,IF(R5=1,1,0))","v":0},5,{"$f":"COUNTIF($K$20:$K$108,N5)","v":0}]
[{"$nulls":3},"nbre de cases ",null,6,{"$nulls":7},6,{"$f":"COUNTIF($E$20:$E$108,N6)","v":0},{"$f":"IF(O6=1,1,IF(R6=1,1,0))","v":0},6,{"$f":"COUNTIF($K$20:$K$108,N6)","v":0}]
[{"$nulls":7},"* Activer les macros ",{"$nulls":5},7,{"$f":"COUNTIF($E$20:$E$108,N7)","v":0},{"$f":"IF(O7=1,1,IF(R7=1,1,0))","v":0},7,{"$f":"COUNTIF($K$20:$K$108,N7)","v":0}]
[{"$nulls":13},8,{"$f":"COUNTIF($E$20:$E$108,N8)","v":0},{"$f":"IF(O8=1,1,IF(R8=1,1,0))","v":0},8,{"$f":"COUNTIF($K$20:$K$108,N8)","v":0}]
[{"$nulls":13},9,{"$f":"COUNTIF($E$20:$E$108,N9)","v":0},{"$f":"IF(O9=1,1,IF(R9=1,1,0))","v":0},9,{"$f":"COUNTIF($K$20:$K$108,N9)","v":0}]
[{"$nulls":13},10,{"$f":"COUNTIF($E$20:$E$108,N10)","v":0},{"$f":"IF(O10=1,1,IF(R10=1,1,0))","v":0},10,{"$f":"COUNTIF($K$20:$K$108,N10)","v":0}]
[{"$nulls":13},11,{"$f":"COUNTIF($E$20:$E$108,N11)","v":0},{"$f":"IF(O11=1,1,IF(R11=1,1,0))","v":0},11,{"$f":"COUNTIF($K$20:$K$108,N11)","v":0}]
[{"$nulls":13},12,{"$f":"COUNTIF($E$20:$E$108,N12)","v":0},{"$f":"IF(O12=1,1,IF(R12=1,1,0))","v":0},12,{"$f":"COUNTIF($K$20:$K$108,N12)","v":0}]
[{"$nulls":13},13,{"$f":"COUNTIF($E$20:$E$108,N13)","v":0},{"$f":"IF(O13=1,1,IF(R13=1,1,0))","v":0},13,{"$f":"COUNTIF($K$20:$K$108,N13)","v":0}]
[{"$nulls":13},14,{"$f":"COUNTIF($E$20:$E$108,N14)","v":0},{"$f":"IF(O14=1,1,IF(R14=1,1,0))","v":0},14,{"$f":"COUNTIF($K$20:$K$108,N14)","v":0}]
[{"$nulls":7},"Réinitialisation",{"$nulls":5},15,{"$f":"COUNTIF($E$20:$E$108,N15)","v":0},{"$f":"IF(O15=1,1,IF(R15=1,1,0))","v":0},15,{"$f":"COUNTIF($K$20:$K$108,N15)","v":0}]
[{"$nulls":4},"GAGNANT",{"$nulls":8},16,{"$f":"COUNTIF($E$20:$E$108,N16)","v":0},{"$f":"IF(O16=1,1,IF(R16=1,1,0))","v":0},16,{"$f":"COUNTIF($K$20:$K$108,N16)","v":0}]
[{"$nulls":13},17,{"$f":"COUNTIF($E$20:$E$108,N17)","v":0},{"$f":"IF(O17=1,1,IF(R17=1,1,0))","v":0},17,{"$f":"COUNTIF($K$20:$K$108,N17)","v":0}]
[null,null,1,null,"Carton","Case",null,{"$f":"INT(RAND()*L18)+1","v":7},{"$f":"INT(RAND()*F6)+1","v":6},null,{"$f":"COUNTIF(P1:P500,1)","v":0},{"$f":"F3-K18","v":10},null,18,{"$f":"COUNTIF($E$20:$E$108,N18)","v":0},{"$f":"IF(O18=1,1,IF(R18=1,1,0))","v":0},18,{"$f":"COUNTIF($K$20:$K$108,N18)","v":0}]
[{"$nulls":13},19,{"$f":"COUNTIF($E$20:$E$108,N19)","v":0},{"$f":"IF(O19=1,1,IF(R19=1,1,0))","v":0},19,{"$f":"COUNTIF($K$20:$K$108,N19)","v":0}]
[null,"Lot1","Une porsche",{"$nulls":3},{"$f":"IF(E20=\"\",\"\",IF(VLOOKUP(E20,eleves!$B$3:$E$502,2)=\"\",\"\",VLOOKUP(E20,eleves!$B$3:$E$502,2)))","v":""},null,null,"cartons",null,"retirés",null,20,{"$f":"COUNTIF($E$20:$E$108,N20)","v":0},{"$f":"IF(O20=1,1,IF(R20=1,1,0))","v":0},20,{"$f":"COUNTIF($K$20:$K$108,N20)","v":0}]
[null,"Lot2","Une ferrari",{"$nulls":3},{"$f":"IF(E21=\"\",\"\",IF(VLOOKUP(E21,eleves!$B$3:$E$502,2)=\"\",\"\",VLOOKUP(E21,eleves!$B$3:$E$502,2)))","v":""},{"$nulls":6},21,{"$f":"COUNTIF($E$20:$E$108,N21)","v":0},{"$f":"IF(O21=1,1,IF(R21=1,1,0))","v":0},21,{"$f":"COUNTIF($K$20:$K$108,N21)","v":0}]
[null,"Lot3","Une montre",{"$nulls":3},{"$f":"IF(E22=\"\",\"\",IF(VLOOKUP(E22,eleves!$B$3:$E$502,2)=\"\",\"\",VLOOKUP(E22,eleves!$B$3:$E$502,2)))","v":""},{"$nulls":6},22,{"$f":"COUNTIF($E$20:$E$108,N22)","v":0},{"$f":"IF(O22=1,1,IF(R22=1,1,0))","v":0},22,{"$f":"COUNTIF($K$20:$K$108,N22)","v":0}]
[null,"Lot4","Un scooter",{"$nulls":3},{"$f":"IF(E23=\"\",\"\",IF(VLOOKUP(E23,eleves!$B$3:$E$502,2)=\"\",\"\",VLOOKUP(E23,eleves!$B$3:$E$502,2)))","v":""},{"$nulls":6},23,{"$f":"COUNTIF($E$20:$E$108,N23)","v":0},{"$f":"IF(O23=1,1,IF(R23=1,1,0))","v":0},23,{"$f":"COUNTIF($K$20:$K$108,N23)","v":0}]
[null,"Lot5",{"$nulls":4},{"$f":"IF(E24=\"\",\"\",IF(VLOOKUP(E24,eleves!$B$3:$E$502,2)=\"\",\"\",VLOOKUP(E24,eleves!$B$3:$E$502,2)))","v":""},{"$nulls":6},24,{"$f":"COUNTIF($E$20:$E$108,N24)","v":0},{"$f":"IF(O24=1,1,IF(R24=1,1,0))","v":0},24,{"$f":"COUNTIF($K$20:$K$108,N24)","v":0}]
[null,"Lot6",{"$nulls":4},{"$f":"IF(E25=\"\",\"\",IF(VLOOKUP(E25,eleves!$B$3:$E$502,2)=\"\",\"\",VLOOKUP(E25,eleves!$B$3:$E$502,2)))","v":""},{"$nulls":6},25,{"$f":"COUNTIF($E$20:$E$108,N25)","v":0},{"$f":"IF(O25=1,1,IF(R25=1,1,0))","v":0},25,{"$f":"COUNTIF($K$20:$K$108,N25)","v":0}]
[null,"Lot7",{"$nulls":4},{"$f":"IF(E26=\"\",\"\",IF(VLOOKUP(E26,eleves!$B$3:$E$502,2)=\"\",\"\",VLOOKUP(E26,eleves!$B$3:$E$502,2)))","v":""},{"$nulls":6},26,{"$f":"COUNTIF($E$20:$E$108,N26)","v":0},{"$f":"IF(O26=1,1,IF(R26=1,1,0))","v":0},26,{"$f":"COUNTIF($K$20:$K$108,N26)","v":0}]
[null,"Lot8",{"$nulls":4},{"$f":"IF(E27=\"\",\"\",IF(VLOOKUP(E27,eleves!$B$3:$E$502,2)=\"\",\"\",VLOOKUP(E27,eleves!$B$3:$E$502,2)))","v":""},{"$nulls":6},27,{"$f":"COUNTIF($E$20:$E$108,N27)","v":0},{"$f":"IF(O27=1,1,IF(R27=1,1,0))","v":0},27,{"$f":"COUNTIF($K$20:$K$108,N27)","v":0}]
[null,"Lot9",{"$nulls":4},{"$f":"IF(E28=\"\",\"\",IF(VLOOKUP(E28,eleves!$B$3:$E$502,2)=\"\",\"\",VLOOKUP(E28,eleves!$B$3:$E$502,2)))","v":""},{"$nulls":6},28,{"$f":"COUNTIF($E$20:$E$108,N28)","v":0},{"$f":"IF(O28=1,1,IF(R28=1,1,0))","v":0},28,{"$f":"COUNTIF($K$20:$K$108,N28)","v":0}]
[null,"Lot10",{"$nulls":4},{"$f":"IF(E29=\"\",\"\",IF(VLOOKUP(E29,eleves!$B$3:$E$502,2)=\"\",\"\",VLOOKUP(E29,eleves!$B$3:$E$502,2)))","v":""},{"$nulls":6},29,{"$f":"COUNTIF($E$20:$E$108,N29)","v":0},{"$f":"IF(O29=1,1,IF(R29=1,1,0))","v":0},29,{"$f":"COUNTIF($K$20:$K$108,N29)","v":0}]
[null,"Lot11",{"$nulls":4},{"$f":"IF(E30=\"\",\"\",IF(VLOOKUP(E30,eleves!$B$3:$E$502,2)=\"\",\"\",VLOOKUP(E30,eleves!$B$3:$E$502,2)))","v":""},{"$nulls":6},30,{"$f":"COUNTIF($E$20:$E$108,N30)","v":0},{"$f":"IF(O30=1,1,IF(R30=1,1,0))","v":0},30,{"$f":"COUNTIF($K$20:$K$108,N30)","v":0}]
[null,"Lot12",{"$nulls":4},{"$f":"IF(E31=\"\",\"\",IF(VLOOKUP(E31,eleves!$B$3:$E$502,2)=\"\",\"\",VLOOKUP(E31,eleves!$B$3:$E$502,2)))","v":""},{"$nulls":6},31,{"$f":"COUNTIF($E$20:$E$108,N31)","v":0},{"$f":"IF(O31=1,1,IF(R31=1,1,0))","v":0},31,{"$f":"COUNTIF($K$20:$K$108,N31)","v":0}]
[null,"Lot13",{"$nulls":4},{"$f":"IF(E32=\"\",\"\",IF(VLOOKUP(E32,eleves!$B$3:$E$502,2)=\"\",\"\",VLOOKUP(E32,eleves!$B$3:$E$502,2)))","v":""},{"$nulls":6},32,{"$f":"COUNTIF($E$20:$E$108,N32)","v":0},{"$f":"IF(O32=1,1,IF(R32=1,1,0))","v":0},32,{"$f":"COUNTIF($K$20:$K$108,N32)","v":0}]
[null,"Lot14",{"$nulls":4},{"$f":"IF(E33=\"\",\"\",IF(VLOOKUP(E33,eleves!$B$3:$E$502,2)=\"\",\"\",VLOOKUP(E33,eleves!$B$3:$E$502,2)))","v":""},{"$nulls":6},33,{"$f":"COUNTIF($E$20:$E$108,N33)","v":0},{"$f":"IF(O33=1,1,IF(R33=1,1,0))","v":0},33,{"$f":"COUNTIF($K$20:$K$108,N33)","v":0}]
[null,"Lot15",{"$nulls":4},{"$f":"IF(E34=\"\",\"\",IF(VLOOKUP(E34,eleves!$B$3:$E$502,2)=\"\",\"\",VLOOKUP(E34,eleves!$B$3:$E$502,2)))","v":""},{"$nulls":6},34,{"$f":"COUNTIF($E$20:$E$108,N34)","v":0},{"$f":"IF(O34=1,1,IF(R34=1,1,0))","v":0},34,{"$f":"COUNTIF($K$20:$K$108,N34)","v":0}]
[null,"Lot16",{"$nulls":4},{"$f":"IF(E35=\"\",\"\",IF(VLOOKUP(E35,eleves!$B$3:$E$502,2)=\"\",\"\",VLOOKUP(E35,eleves!$B$3:$E$502,2)))","v":""},{"$nulls":6},35,{"$f":"COUNTIF($E$20:$E$108,N35)","v":0},{"$f":"IF(O35=1,1,IF(R35=1,1,0))","v":0},35,{"$f":"COUNTIF($K$20:$K$108,N35)","v":0}]
[null,"Lot17",{"$nulls":4},{"$f":"IF(E36=\"\",\"\",IF(VLOOKUP(E36,eleves!$B$3:$E$502,2)=\"\",\"\",VLOOKUP(E36,eleves!$B$3:$E$502,2)))","v":""},{"$nulls":6},36,{"$f":"COUNTIF($E$20:$E$108,N36)","v":0},{"$f":"IF(O36=1,1,IF(R36=1,1,0))","v":0},36,{"$f":"COUNTIF($K$20:$K$108,N36)","v":0}]
[null,"Lot18",{"$nulls":4},{"$f":"IF(E37=\"\",\"\",IF(VLOOKUP(E37,eleves!$B$3:$E$502,2)=\"\",\"\",VLOOKUP(E37,eleves!$B$3:$E$502,2)))","v":""},{"$nulls":6},37,{"$f":"COUNTIF($E$20:$E$108,N37)","v":0},{"$f":"IF(O37=1,1,IF(R37=1,1,0))","v":0},37,{"$f":"COUNTIF($K$20:$K$108,N37)","v":0}]
[null,"Lot19",{"$nulls":4},{"$f":"IF(E38=\"\",\"\",IF(VLOOKUP(E38,eleves!$B$3:$E$502,2)=\"\",\"\",VLOOKUP(E38,eleves!$B$3:$E$502,2)))","v":""},{"$nulls":6},38,{"$f":"COUNTIF($E$20:$E$108,N38)","v":0},{"$f":"IF(O38=1,1,IF(R38=1,1,0))","v":0},38,{"$f":"COUNTIF($K$20:$K$108,N38)","v":0}]
[null,"Lot20",{"$nulls":4},{"$f":"IF(E39=\"\",\"\",IF(VLOOKUP(E39,eleves!$B$3:$E$502,2)=\"\",\"\",VLOOKUP(E39,eleves!$B$3:$E$502,2)))","v":""},{"$nulls":6},39,{"$f":"COUNTIF($E$20:$E$108,N39)","v":0},{"$f":"IF(O39=1,1,IF(R39=1,1,0))","v":0},39,{"$f":"COUNTIF($K$20:$K$108,N39)","v":0}]
[null,"Lot21",{"$nulls":4},{"$f":"IF(E40=\"\",\"\",IF(VLOOKUP(E40,eleves!$B$3:$E$502,2)=\"\",\"\",VLOOKUP(E40,eleves!$B$3:$E$502,2)))","v":""},{"$nulls":6},40,{"$f":"COUNTIF($E$20:$E$108,N40)","v":0},{"$f":"IF(O40=1,1,IF(R40=1,1,0))","v":0},40,{"$f":"COUNTIF($K$20:$K$108,N40)","v":0}]
[null,"Lot22",{"$nulls":4},{"$f":"IF(E41=\"\",\"\",IF(VLOOKUP(E41,eleves!$B$3:$E$502,2)=\"\",\"\",VLOOKUP(E41,eleves!$B$3:$E$502,2)))","v":""},{"$nulls":6},41,{"$f":"COUNTIF($E$20:$E$108,N41)","v":0},{"$f":"IF(O41=1,1,IF(R41=1,1,0))","v":0},41,{"$f":"COUNTIF($K$20:$K$108,N41)","v":0}]
[null,"Lot23",{"$nulls":4},{"$f":"IF(E42=\"\",\"\",IF(VLOOKUP(E42,eleves!$B$3:$E$502,2)=\"\",\"\",VLOOKUP(E42,eleves!$B$3:$E$502,2)))","v":""},{"$nulls":6},42,{"$f":"COUNTIF($E$20:$E$108,N42)","v":0},{"$f":"IF(O42=1,1,IF(R42=1,1,0))","v":0},42,{"$f":"COUNTIF($K$20:$K$108,N42)","v":0}]
[null,"Lot24",{"$nulls":4},{"$f":"IF(E43=\"\",\"\",IF(VLOOKUP(E43,eleves!$B$3:$E$502,2)=\"\",\"\",VLOOKUP(E43,eleves!$B$3:$E$502,2)))","v":""},{"$nulls":6},43,{"$f":"COUNTIF($E$20:$E$108,N43)","v":0},{"$f":"IF(O43=1,1,IF(R43=1,1,0))","v":0},43,{"$f":"COUNTIF($K$20:$K$108,N43)","v":0}]
[null,"Lot25",{"$nulls":4},{"$f":"IF(E44=\"\",\"\",IF(VLOOKUP(E44,eleves!$B$3:$E$502,2)=\"\",\"\",VLOOKUP(E44,eleves!$B$3:$E$502,2)))","v":""},{"$nulls":6},44,{"$f":"COUNTIF($E$20:$E$108,N44)","v":0},{"$f":"IF(O44=1,1,IF(R44=1,1,0))","v":0},44,{"$f":"COUNTIF($K$20:$K$108,N44)","v":0}]
[null,"Lot26",{"$nulls":4},{"$f":"IF(E45=\"\",\"\",IF(VLOOKUP(E45,eleves!$B$3:$E$502,2)=\"\",\"\",VLOOKUP(E45,eleves!$B$3:$E$502,2)))","v":""},{"$nulls":6},45,{"$f":"COUNTIF($E$20:$E$108,N45)","v":0},{"$f":"IF(O45=1,1,IF(R45=1,1,0))","v":0},45,{"$f":"COUNTIF($K$20:$K$108,N45)","v":0}]
[null,"Lot27",{"$nulls":4},{"$f":"IF(E46=\"\",\"\",IF(VLOOKUP(E46,eleves!$B$3:$E$502,2)=\"\",\"\",VLOOKUP(E46,eleves!$B$3:$E$502,2)))","v":""},{"$nulls":6},46,{"$f":"COUNTIF($E$20:$E$108,N46)","v":0},{"$f":"IF(O46=1,1,IF(R46=1,1,0))","v":0},46,{"$f":"COUNTIF($K$20:$K$108,N46)","v":0}]
[null,"Lot28",{"$nulls":4},{"$f":"IF(E47=\"\",\"\",IF(VLOOKUP(E47,eleves!$B$3:$E$502,2)=\"\",\"\",VLOOKUP(E47,eleves!$B$3:$E$502,2)))","v":""},{"$nulls":6},47,{"$f":"COUNTIF($E$20:$E$108,N47)","v":0},{"$f":"IF(O47=1,1,IF(R47=1,1,0))","v":0},47,{"$f":"COUNTIF($K$20:$K$108,N47)","v":0}]
[null,"Lot29",{"$nulls":4},{"$f":"IF(E48=\"\",\"\",IF(VLOOKUP(E48,eleves!$B$3:$E$502,2)=\"\",\"\",VLOOKUP(E48,eleves!$B$3:$E$502,2)))","v":""},{"$nulls":6},48,{"$f":"COUNTIF($E$20:$E$108,N48)","v":0},{"$f":"IF(O48=1,1,IF(R48=1,1,0))","v":0},48,{"$f":"COUNTIF($K$20:$K$108,N48)","v":0}]
[null,"Lot30",{"$nulls":4},{"$f":"IF(E49=\"\",\"\",IF(VLOOKUP(E49,eleves!$B$3:$E$502,2)=\"\",\"\",VLOOKUP(E49,eleves!$B$3:$E$502,2)))","v":""},{"$nulls":6},49,{"$f":"COUNTIF($E$20:$E$108,N49)","v":0},{"$f":"IF(O49=1,1,IF(R49=1,1,0))","v":0},49,{"$f":"COUNTIF($K$20:$K$108,N49)","v":0}]
[null,"Lot31",{"$nulls":4},{"$f":"IF(E50=\"\",\"\",IF(VLOOKUP(E50,eleves!$B$3:$E$502,2)=\"\",\"\",VLOOKUP(E50,eleves!$B$3:$E$502,2)))","v":""},{"$nulls":6},50,{"$f":"COUNTIF($E$20:$E$108,N50)","v":0},{"$f":"IF(O50=1,1,IF(R50=1,1,0))","v":0},50,{"$f":"COUNTIF($K$20:$K$108,N50)","v":0}]
[null,"Lot32",{"$nulls":4},{"$f":"IF(E51=\"\",\"\",IF(VLOOKUP(E51,eleves!$B$3:$E$502,2)=\"\",\"\",VLOOKUP(E51,eleves!$B$3:$E$502,2)))","v":""},{"$nulls":6},51,{"$f":"COUNTIF($E$20:$E$108,N51)","v":0},{"$f":"IF(O51=1,1,IF(R51=1,1,0))","v":0},51,{"$f":"COUNTIF($K$20:$K$108,N51)","v":0}]
[null,"Lot33",{"$nulls":4},{"$f":"IF(E52=\"\",\"\",IF(VLOOKUP(E52,eleves!$B$3:$E$502,2)=\"\",\"\",VLOOKUP(E52,eleves!$B$3:$E$502,2)))","v":""},{"$nulls":6},52,{"$f":"COUNTIF($E$20:$E$108,N52)","v":0},{"$f":"IF(O52=1,1,IF(R52=1,1,0))","v":0},52,{"$f":"COUNTIF($K$20:$K$108,N52)","v":0}]
[null,"Lot34",{"$nulls":4},{"$f":"IF(E53=\"\",\"\",IF(VLOOKUP(E53,eleves!$B$3:$E$502,2)=\"\",\"\",VLOOKUP(E53,eleves!$B$3:$E$502,2)))","v":""},{"$nulls":6},53,{"$f":"COUNTIF($E$20:$E$108,N53)","v":0},{"$f":"IF(O53=1,1,IF(R53=1,1,0))","v":0},53,{"$f":"COUNTIF($K$20:$K$108,N53)","v":0}]
[null,"Lot35",{"$nulls":4},{"$f":"IF(E54=\"\",\"\",IF(VLOOKUP(E54,eleves!$B$3:$E$502,2)=\"\",\"\",VLOOKUP(E54,eleves!$B$3:$E$502,2)))","v":""},{"$nulls":6},54,{"$f":"COUNTIF($E$20:$E$108,N54)","v":0},{"$f":"IF(O54=1,1,IF(R54=1,1,0))","v":0},54,{"$f":"COUNTIF($K$20:$K$108,N54)","v":0}]
[null,"Lot36",{"$nulls":4},{"$f":"IF(E55=\"\",\"\",IF(VLOOKUP(E55,eleves!$B$3:$E$502,2)=\"\",\"\",VLOOKUP(E55,eleves!$B$3:$E$502,2)))","v":""},{"$nulls":6},55,{"$f":"COUNTIF($E$20:$E$108,N55)","v":0},{"$f":"IF(O55=1,1,IF(R55=1,1,0))","v":0},55,{"$f":"COUNTIF($K$20:$K$108,N55)","v":0}]
[null,"Lot37",{"$nulls":4},{"$f":"IF(E56=\"\",\"\",IF(VLOOKUP(E56,eleves!$B$3:$E$502,2)=\"\",\"\",VLOOKUP(E56,eleves!$B$3:$E$502,2)))","v":""},{"$nulls":6},56,{"$f":"COUNTIF($E$20:$E$108,N56)","v":0},{"$f":"IF(O56=1,1,IF(R56=1,1,0))","v":0},56,{"$f":"COUNTIF($K$20:$K$108,N56)","v":0}]
[null,"Lot38",{"$nulls":4},{"$f":"IF(E57=\"\",\"\",IF(VLOOKUP(E57,eleves!$B$3:$E$502,2)=\"\",\"\",VLOOKUP(E57,eleves!$B$3:$E$502,2)))","v":""},{"$nulls":6},57,{"$f":"COUNTIF($E$20:$E$108,N57)","v":0},{"$f":"IF(O57=1,1,IF(R57=1,1,0))","v":0},57,{"$f":"COUNTIF($K$20:$K$108,N57)","v":0}]
[null,"Lot39",{"$nulls":4},{"$f":"IF(E58=\"\",\"\",IF(VLOOKUP(E58,eleves!$B$3:$E$502,2)=\"\",\"\",VLOOKUP(E58,eleves!$B$3:$E$502,2)))","v":""},{"$nulls":6},58,{"$f":"COUNTIF($E$20:$E$108,N58)","v":0},{"$f":"IF(O58=1,1,IF(R58=1,1,0))","v":0},58,{"$f":"COUNTIF($K$20:$K$108,N58)","v":0}]
[null,"Lot40",{"$nulls":4},{"$f":"IF(E59=\"\",\"\",IF(VLOOKUP(E59,eleves!$B$3:$E$502,2)=\"\",\"\",VLOOKUP(E59,eleves!$B$3:$E$502,2)))","v":""},{"$nulls":6},59,{"$f":"COUNTIF($E$20:$E$108,N59)","v":0},{"$f":"IF(O59=1,1,IF(R59=1,1,0))","v":0},59,{"$f":"COUNTIF($K$20:$K$108,N59)","v":0}]
[null,"Lot41",{"$nulls":4},{"$f":"IF(E60=\"\",\"\",IF(VLOOKUP(E60,eleves!$B$3:$E$502,2)=\"\",\"\",VLOOKUP(E60,eleves!$B$3:$E$502,2)))","v":""},{"$nulls":6},60,{"$f":"COUNTIF($E$20:$E$108,N60)","v":0},{"$f":"IF(O60=1,1,IF(R60=1,1,0))","v":0},60,{"$f":"COUNTIF($K$20:$K$108,N60)","v":0}]
[null,"Lot42",{"$nulls":4},{"$f":"IF(E61=\"\",\"\",IF(VLOOKUP(E61,eleves!$B$3:$E$502,2)=\"\",\"\",VLOOKUP(E61,eleves!$B$3:$E$502,2)))","v":""},{"$nulls":6},61,{"$f":"COUNTIF($E$20:$E$108,N61)","v":0},{"$f":"IF(O61=1,1,IF(R61=1,1,0))","v":0},61,{"$f":"COUNTIF($K$20:$K$108,N61)","v":0}]
[null,"Lot43",{"$nulls":4},{"$f":"IF(E62=\"\",\"\",IF(VLOOKUP(E62,eleves!$B$3:$E$502,2)=\"\",\"\",VLOOKUP(E62,eleves!$B$3:$E$502,2)))","v":""},{"$nulls":6},62,{"$f":"COUNTIF($E$20:$E$108,N62)","v":0},{"$f":"IF(O62=1,1,IF(R62=1,1,0))","v":0},62,{"$f":"COUNTIF($K$20:$K$108,N62)","v":0}]
[null,"Lot44",{"$nulls":4},{"$f":"IF(E63=\"\",\"\",IF(VLOOKUP(E63,eleves!$B$3:$E$502,2)=\"\",\"\",VLOOKUP(E63,eleves!$B$3:$E$502,2)))","v":""},{"$nulls":6},63,{"$f":"COUNTIF($E$20:$E$108,N63)","v":0},{"$f":"IF(O63=1,1,IF(R63=1,1,0))","v":0},63,{"$f":"COUNTIF($K$20:$K$108,N63)","v":0}]
[null,"Lot45",{"$nulls":4},{"$f":"IF(E64=\"\",\"\",IF(VLOOKUP(E64,eleves!$B$3:$E$502,2)=\"\",\"\",VLOOKUP(E64,eleves!$B$3:$E$502,2)))","v":""},{"$nulls":6},64,{"$f":"COUNTIF($E$20:$E$108,N64)","v":0},{"$f":"IF(O64=1,1,IF(R64=1,1,0))","v":0},64,{"$f":"COUNTIF($K$20:$K$108,N64)","v":0}]
[null,"Lot46",{"$nulls":4},{"$f":"IF(E65=\"\",\"\",IF(VLOOKUP(E65,eleves!$B$3:$E$502,2)=\"\",\"\",VLOOKUP(E65,eleves!$B$3:$E$502,2)))","v":""},{"$nulls":6},65,{"$f":"COUNTIF($E$20:$E$108,N65)","v":0},{"$f":"IF(O65=1,1,IF(R65=1,1,0))","v":0},65,{"$f":"COUNTIF($K$20:$K$108,N65)","v":0}]
[null,"Lot47",{"$nulls":4},{"$f":"IF(E66=\"\",\"\",IF(VLOOKUP(E66,eleves!$B$3:$E$502,2)=\"\",\"\",VLOOKUP(E66,eleves!$B$3:$E$502,2)))","v":""},{"$nulls":6},66,{"$f":"COUNTIF($E$20:$E$108,N66)","v":0},{"$f":"IF(O66=1,1,IF(R66=1,1,0))","v":0},66,{"$f":"COUNTIF($K$20:$K$108,N66)","v":0}]
[null,"Lot48",{"$nulls":4},{"$f":"IF(E67=\"\",\"\",IF(VLOOKUP(E67,eleves!$B$3:$E$502,2)=\"\",\"\",VLOOKUP(E67,eleves!$B$3:$E$502,2)))","v":""},{"$nulls":6},67,{"$f":"COUNTIF($E$20:$E$108,N67)","v":0},{"$f":"IF(O67=1,1,IF(R67=1,1,0))","v":0},67,{"$f":"COUNTIF($K$20:$K$108,N67)","v":0}]
[null,"Lot49",{"$nulls":4},{"$f":"IF(E68=\"\",\"\",IF(VLOOKUP(E68,eleves!$B$3:$E$502,2)=\"\",\"\",VLOOKUP(E68,eleves!$B$3:$E$502,2)))","v":""},{"$nulls":6},68,{"$f":"COUNTIF($E$20:$E$108,N68)","v":0},{"$f":"IF(O68=1,1,IF(R68=1,1,0))","v":0},68,{"$f":"COUNTIF($K$20:$K$108,N68)","v":0}]
[null,"Lot50",{"$nulls":4},{"$f":"IF(E69=\"\",\"\",IF(VLOOKUP(E69,eleves!$B$3:$E$502,2)=\"\",\"\",VLOOKUP(E69,eleves!$B$3:$E$502,2)))","v":""},{"$nulls":6},69,{"$f":"COUNTIF($E$20:$E$108,N69)","v":0},{"$f":"IF(O69=1,1,IF(R69=1,1,0))","v":0},69,{"$f":"COUNTIF($K$20:$K$108,N69)","v":0}]
[null,"Lot51",{"$nulls":4},{"$f":"IF(E70=\"\",\"\",IF(VLOOKUP(E70,eleves!$B$3:$E$502,2)=\"\",\"\",VLOOKUP(E70,eleves!$B$3:$E$502,2)))","v":""},{"$nulls":6},70,{"$f":"COUNTIF($E$20:$E$108,N70)","v":0},{"$f":"IF(O70=1,1,IF(R70=1,1,0))","v":0},70,{"$f":"COUNTIF($K$20:$K$108,N70)","v":0}]
[null,"Lot52",{"$nulls":4},{"$f":"IF(E71=\"\",\"\",IF(VLOOKUP(E71,eleves!$B$3:$E$502,2)=\"\",\"\",VLOOKUP(E71,eleves!$B$3:$E$502,2)))","v":""},{"$nulls":6},71,{"$f":"COUNTIF($E$20:$E$108,N71)","v":0},{"$f":"IF(O71=1,1,IF(R71=1,1,0))","v":0},71,{"$f":"COUNTIF($K$20:$K$108,N71)","v":0}]
[null,"Lot53",{"$nulls":4},{"$f":"IF(E72=\"\",\"\",IF(VLOOKUP(E72,eleves!$B$3:$E$502,2)=\"\",\"\",VLOOKUP(E72,eleves!$B$3:$E$502,2)))","v":""},{"$nulls":6},72,{"$f":"COUNTIF($E$20:$E$108,N72)","v":0},{"$f":"IF(O72=1,1,IF(R72=1,1,0))","v":0},72,{"$f":"COUNTIF($K$20:$K$108,N72)","v":0}]
[null,"Lot54",{"$nulls":4},{"$f":"IF(E73=\"\",\"\",IF(VLOOKUP(E73,eleves!$B$3:$E$502,2)=\"\",\"\",VLOOKUP(E73,eleves!$B$3:$E$502,2)))","v":""},{"$nulls":6},73,{"$f":"COUNTIF($E$20:$E$108,N73)","v":0},{"$f":"IF(O73=1,1,IF(R73=1,1,0))","v":0},73,{"$f":"COUNTIF($K$20:$K$108,N73)","v":0}]
[null,"Lot55",{"$nulls":4},{"$f":"IF(E74=\"\",\"\",IF(VLOOKUP(E74,eleves!$B$3:$E$502,2)=\"\",\"\",VLOOKUP(E74,eleves!$B$3:$E$502,2)))","v":""},{"$nulls":6},74,{"$f":"COUNTIF($E$20:$E$108,N74)","v":0},{"$f":"IF(O74=1,1,IF(R74=1,1,0))","v":0},74,{"$f":"COUNTIF($K$20:$K$108,N74)","v":0}]
[null,"Lot56",{"$nulls":4},{"$f":"IF(E75=\"\",\"\",IF(VLOOKUP(E75,eleves!$B$3:$E$502,2)=\"\",\"\",VLOOKUP(E75,eleves!$B$3:$E$502,2)))","v":""},{"$nulls":6},75,{"$f":"COUNTIF($E$20:$E$108,N75)","v":0},{"$f":"IF(O75=1,1,IF(R75=1,1,0))","v":0},75,{"$f":"COUNTIF($K$20:$K$108,N75)","v":0}]
[null,"Lot57",{"$nulls":4},{"$f":"IF(E76=\"\",\"\",IF(VLOOKUP(E76,eleves!$B$3:$E$502,2)=\"\",\"\",VLOOKUP(E76,eleves!$B$3:$E$502,2)))","v":""},{"$nulls":6},76,{"$f":"COUNTIF($E$20:$E$108,N76)","v":0},{"$f":"IF(O76=1,1,IF(R76=1,1,0))","v":0},76,{"$f":"COUNTIF($K$20:$K$108,N76)","v":0}]
[null,"Lot58",{"$nulls":4},{"$f":"IF(E77=\"\",\"\",IF(VLOOKUP(E77,eleves!$B$3:$E$502,2)=\"\",\"\",VLOOKUP(E77,eleves!$B$3:$E$502,2)))","v":""},{"$nulls":6},77,{"$f":"COUNTIF($E$20:$E$108,N77)","v":0},{"$f":"IF(O77=1,1,IF(R77=1,1,0))","v":0},77,{"$f":"COUNTIF($K$20:$K$108,N77)","v":0}]
[null,"Lot59",{"$nulls":4},{"$f":"IF(E78=\"\",\"\",IF(VLOOKUP(E78,eleves!$B$3:$E$502,2)=\"\",\"\",VLOOKUP(E78,eleves!$B$3:$E$502,2)))","v":""},{"$nulls":6},78,{"$f":"COUNTIF($E$20:$E$108,N78)","v":0},{"$f":"IF(O78=1,1,IF(R78=1,1,0))","v":0},78,{"$f":"COUNTIF($K$20:$K$108,N78)","v":0}]
[null,"Lot60",{"$nulls":4},{"$f":"IF(E79=\"\",\"\",IF(VLOOKUP(E79,eleves!$B$3:$E$502,2)=\"\",\"\",VLOOKUP(E79,eleves!$B$3:$E$502,2)))","v":""},{"$nulls":6},79,{"$f":"COUNTIF($E$20:$E$108,N79)","v":0},{"$f":"IF(O79=1,1,IF(R79=1,1,0))","v":0},79,{"$f":"COUNTIF($K$20:$K$108,N79)","v":0}]
[null,"Lot61",{"$nulls":4},{"$f":"IF(E80=\"\",\"\",IF(VLOOKUP(E80,eleves!$B$3:$E$502,2)=\"\",\"\",VLOOKUP(E80,eleves!$B$3:$E$502,2)))","v":""},{"$nulls":6},80,{"$f":"COUNTIF($E$20:$E$108,N80)","v":0},{"$f":"IF(O80=1,1,IF(R80=1,1,0))","v":0},80,{"$f":"COUNTIF($K$20:$K$108,N80)","v":0}]
[null,"Lot62",{"$nulls":4},{"$f":"IF(E81=\"\",\"\",IF(VLOOKUP(E81,eleves!$B$3:$E$502,2)=\"\",\"\",VLOOKUP(E81,eleves!$B$3:$E$502,2)))","v":""},{"$nulls":6},81,{"$f":"COUNTIF($E$20:$E$108,N81)","v":0},{"$f":"IF(O81=1,1,IF(R81=1,1,0))","v":0},81,{"$f":"COUNTIF($K$20:$K$108,N81)","v":0}]
[null,"Lot63",{"$nulls":4},{"$f":"IF(E82=\"\",\"\",IF(VLOOKUP(E82,eleves!$B$3:$E$502,2)=\"\",\"\",VLOOKUP(E82,eleves!$B$3:$E$502,2)))","v":""},{"$nulls":6},82,{"$f":"COUNTIF($E$20:$E$108,N82)","v":0},{"$f":"IF(O82=1,1,IF(R82=1,1,0))","v":0},82,{"$f":"COUNTIF($K$20:$K$108,N82)","v":0}]
[null,"Lot64",{"$nulls":4},{"$f":"IF(E83=\"\",\"\",IF(VLOOKUP(E83,eleves!$B$3:$E$502,2)=\"\",\"\",VLOOKUP(E83,eleves!$B$3:$E$502,2)))","v":""},{"$nulls":6},83,{"$f":"COUNTIF($E$20:$E$108,N83)","v":0},{"$f":"IF(O83=1,1,IF(R83=1,1,0))","v":0},83,{"$f":"COUNTIF($K$20:$K$108,N83)","v":0}]
[null,"Lot65",{"$nulls":4},{"$f":"IF(E84=\"\",\"\",IF(VLOOKUP(E84,eleves!$B$3:$E$502,2)=\"\",\"\",VLOOKUP(E84,eleves!$B$3:$E$502,2)))","v":""},{"$nulls":6},84,{"$f":"COUNTIF($E$20:$E$108,N84)","v":0},{"$f":"IF(O84=1,1,IF(R84=1,1,0))","v":0},84,{"$f":"COUNTIF($K$20:$K$108,N84)","v":0}]
[null,"Lot66",{"$nulls":4},{"$f":"IF(E85=\"\",\"\",IF(VLOOKUP(E85,eleves!$B$3:$E$502,2)=\"\",\"\",VLOOKUP(E85,eleves!$B$3:$E$502,2)))","v":""},{"$nulls":6},85,{"$f":"COUNTIF($E$20:$E$108,N85)","v":0},{"$f":"IF(O85=1,1,IF(R85=1,1,0))","v":0},85,{"$f":"COUNTIF($K$20:$K$108,N85)","v":0}]
[null,"Lot67",{"$nulls":4},{"$f":"IF(E86=\"\",\"\",IF(VLOOKUP(E86,eleves!$B$3:$E$502,2)=\"\",\"\",VLOOKUP(E86,eleves!$B$3:$E$502,2)))","v":""},{"$nulls":6},86,{"$f":"COUNTIF($E$20:$E$108,N86)","v":0},{"$f":"IF(O86=1,1,IF(R86=1,1,0))","v":0},86,{"$f":"COUNTIF($K$20:$K$108,N86)","v":0}]
[null,"Lot68",{"$nulls":4},{"$f":"IF(E87=\"\",\"\",IF(VLOOKUP(E87,eleves!$B$3:$E$502,2)=\"\",\"\",VLOOKUP(E87,eleves!$B$3:$E$502,2)))","v":""},{"$nulls":6},87,{"$f":"COUNTIF($E$20:$E$108,N87)","v":0},{"$f":"IF(O87=1,1,IF(R87=1,1,0))","v":0},87,{"$f":"COUNTIF($K$20:$K$108,N87)","v":0}]
[null,"Lot69",{"$nulls":4},{"$f":"IF(E88=\"\",\"\",IF(VLOOKUP(E88,eleves!$B$3:$E$502,2)=\"\",\"\",VLOOKUP(E88,eleves!$B$3:$E$502,2)))","v":""},{"$nulls":6},88,{"$f":"COUNTIF($E$20:$E$108,N88)","v":0},{"$f":"IF(O88=1,1,IF(R88=1,1,0))","v":0},88,{"$f":"COUNTIF($K$20:$K$108,N88)","v":0}]
[null,"Lot70",{"$nulls":4},{"$f":"IF(E89=\"\",\"\",IF(VLOOKUP(E89,eleves!$B$3:$E$502,2)=\"\",\"\",VLOOKUP(E89,eleves!$B$3:$E$502,2)))","v":""},{"$nulls":6},89,{"$f":"COUNTIF($E$20:$E$108,N89)","v":0},{"$f":"IF(O89=1,1,IF(R89=1,1,0))","v":0},89,{"$f":"COUNTIF($K$20:$K$108,N89)","v":0}]
[null,"Lot71",{"$nulls":4},{"$f":"IF(E90=\"\",\"\",IF(VLOOKUP(E90,eleves!$B$3:$E$502,2)=\"\",\"\",VLOOKUP(E90,eleves!$B$3:$E$502,2)))","v":""},{"$nulls":6},90,{"$f":"COUNTIF($E$20:$E$108,N90)","v":0},{"$f":"IF(O90=1,1,IF(R90=1,1,0))","v":0},90,{"$f":"COUNTIF($K$20:$K$108,N90)","v":0}]
[null,"Lot72",{"$nulls":4},{"$f":"IF(E91=\"\",\"\",IF(VLOOKUP(E91,eleves!$B$3:$E$502,2)=\"\",\"\",VLOOKUP(E91,eleves!$B$3:$E$502,2)))","v":""},{"$nulls":6},91,{"$f":"COUNTIF($E$20:$E$108,N91)","v":0},{"$f":"IF(O91=1,1,IF(R91=1,1,0))","v":0},91,{"$f":"COUNTIF($K$20:$K$108,N91)","v":0}]
[null,"Lot73",{"$nulls":4},{"$f":"IF(E92=\"\",\"\",IF(VLOOKUP(E92,eleves!$B$3:$E$502,2)=\"\",\"\",VLOOKUP(E92,eleves!$B$3:$E$502,2)))","v":""},{"$nulls":6},92,{"$f":"COUNTIF($E$20:$E$108,N92)","v":0},{"$f":"IF(O92=1,1,IF(R92=1,1,0))","v":0},92,{"$f":"COUNTIF($K$20:$K$108,N92)","v":0}]
[null,"Lot74",{"$nulls":4},{"$f":"IF(E93=\"\",\"\",IF(VLOOKUP(E93,eleves!$B$3:$E$502,2)=\"\",\"\",VLOOKUP(E93,eleves!$B$3:$E$502,2)))","v":""},{"$nulls":6},93,{"$f":"COUNTIF($E$20:$E$108,N93)","v":0},{"$f":"IF(O93=1,1,IF(R93=1,1,0))","v":0},93,{"$f":"COUNTIF($K$20:$K$108,N93)","v":0}]
[null,"Lot75",{"$nulls":4},{"$f":"IF(E94=\"\",\"\",IF(VLOOKUP(E94,eleves!$B$3:$E$502,2)=\"\",\"\",VLOOKUP(E94,eleves!$B$3:$E$502,2)))","v":""},{"$nulls":6},94,{"$f":"COUNTIF($E$20:$E$108,N94)","v":0},{"$f":"IF(O94=1,1,IF(R94=1,1,0))","v":0},94,{"$f":"COUNTIF($K$20:$K$108,N94)","v":0}]
[null,"Lot76",{"$nulls":4},{"$f":"IF(E95=\"\",\"\",IF(VLOOKUP(E95,eleves!$B$3:$E$502,2)=\"\",\"\",VLOOKUP(E95,eleves!$B$3:$E$502,2)))","v":""},{"$nulls":6},95,{"$f":"COUNTIF($E$20:$E$108,N95)","v":0},{"$f":"IF(O95=1,1,IF(R95=1,1,0))","v":0},95,{"$f":"COUNTIF($K$20:$K$108,N95)","v":0}]
[null,"Lot77",{"$nulls":4},{"$f":"IF(E96=\"\",\"\",IF(VLOOKUP(E96,eleves!$B$3:$E$502,2)=\"\",\"\",VLOOKUP(E96,eleves!$B$3:$E$502,2)))","v":""},{"$nulls":6},96,{"$f":"COUNTIF($E$20:$E$108,N96)","v":0},{"$f":"IF(O96=1,1,IF(R96=1,1,0))","v":0},96,{"$f":"COUNTIF($K$20:$K$108,N96)","v":0}]
[null,"Lot78",{"$nulls":4},{"$f":"IF(E97=\"\",\"\",IF(VLOOKUP(E97,eleves!$B$3:$E$502,2)=\"\",\"\",VLOOKUP(E97,eleves!$B$3:$E$502,2)))","v":""},{"$nulls":6},97,{"$f":"COUNTIF($E$20:$E$108,N97)","v":0},{"$f":"IF(O97=1,1,IF(R97=1,1,0))","v":0},97,{"$f":"COUNTIF($K$20:$K$108,N97)","v":0}]
[null,"Lot79",{"$nulls":4},{"$f":"IF(E98=\"\",\"\",IF(VLOOKUP(E98,eleves!$B$3:$E$502,2)=\"\",\"\",VLOOKUP(E98,eleves!$B$3:$E$502,2)))","v":""},{"$nulls":6},98,{"$f":"COUNTIF($E$20:$E$108,N98)","v":0},{"$f":"IF(O98=1,1,IF(R98=1,1,0))","v":0},98,{"$f":"COUNTIF($K$20:$K$108,N98)","v":0}]
[null,"Lot80",{"$nulls":4},{"$f":"IF(E99=\"\",\"\",IF(VLOOKUP(E99,eleves!$B$3:$E$502,2)=\"\",\"\",VLOOKUP(E99,eleves!$B$3:$E$502,2)))","v":""},{"$nulls":6},99,{"$f":"COUNTIF($E$20:$E$108,N99)","v":0},{"$f":"IF(O99=1,1,IF(R99=1,1,0))","v":0},99,{"$f":"COUNTIF($K$20:$K$108,N99)","v":0}]
[null,"Lot81",{"$nulls":4},{"$f":"IF(E100=\"\",\"\",IF(VLOOKUP(E100,eleves!$B$3:$E$502,2)=\"\",\"\",VLOOKUP(E100,eleves!$B$3:$E$502,2)))","v":""},{"$nulls":6},100,{"$f":"COUNTIF($E$20:$E$108,N100)","v":0},{"$f":"IF(O100=1,1,IF(R100=1,1,0))","v":0},100,{"$f":"COUNTIF($K$20:$K$108,N100)","v":0}]
[null,"Lot82",{"$nulls":4},{"$f":"IF(E101=\"\",\"\",IF(VLOOKUP(E101,eleves!$B$3:$E$502,2)=\"\",\"\",VLOOKUP(E101,eleves!$B$3:$E$502,2)))","v":""},{"$nulls":6},101,{"$f":"COUNTIF($E$20:$E$108,N101)","v":0},{"$f":"IF(O101=1,1,IF(R101=1,1,0))","v":0},101,{"$f":"COUNTIF($K$20:$K$108,N101)","v":0}]
[null,"Lot83",{"$nulls":4},{"$f":"IF(E102=\"\",\"\",IF(VLOOKUP(E102,eleves!$B$3:$E$502,2)=\"\",\"\",VLOOKUP(E102,eleves!$B$3:$E$502,2)))","v":""},{"$nulls":6},102,{"$f":"COUNTIF($E$20:$E$108,N102)","v":0},{"$f":"IF(O102=1,1,IF(R102=1,1,0))","v":0},102,{"$f":"COUNTIF($K$20:$K$108,N102)","v":0}]
[null,"Lot84",{"$nulls":4},{"$f":"IF(E103=\"\",\"\",IF(VLOOKUP(E103,eleves!$B$3:$E$502,2)=\"\",\"\",VLOOKUP(E103,eleves!$B$3:$E$502,2)))","v":""},{"$nulls":6},103,{"$f":"COUNTIF($E$20:$E$108,N103)","v":0},{"$f":"IF(O103=1,1,IF(R103=1,1,0))","v":0},103,{"$f":"COUNTIF($K$20:$K$108,N103)","v":0}]
[null,"Lot85",{"$nulls":4},{"$f":"IF(E104=\"\",\"\",IF(VLOOKUP(E104,eleves!$B$3:$E$502,2)=\"\",\"\",VLOOKUP(E104,eleves!$B$3:$E$502,2)))","v":""},{"$nulls":6},104,{"$f":"COUNTIF($E$20:$E$108,N104)","v":0},{"$f":"IF(O104=1,1,IF(R104=1,1,0))","v":0},104,{"$f":"COUNTIF($K$20:$K$108,N104)","v":0}]
[null,"Lot86",{"$nulls":4},{"$f":"IF(E105=\"\",\"\",IF(VLOOKUP(E105,eleves!$B$3:$E$502,2)=\"\",\"\",VLOOKUP(E105,eleves!$B$3:$E$502,2)))","v":""},{"$nulls":6},105,{"$f":"COUNTIF($E$20:$E$108,N105)","v":0},{"$f":"IF(O105=1,1,IF(R105=1,1,0))","v":0},105,{"$f":"COUNTIF($K$20:$K$108,N105)","v":0}]
[null,"Lot87",{"$nulls":4},{"$f":"IF(E106=\"\",\"\",IF(VLOOKUP(E106,eleves!$B$3:$E$502,2)=\"\",\"\",VLOOKUP(E106,eleves!$B$3:$E$502,2)))","v":""},{"$nulls":6},106,{"$f":"COUNTIF($E$20:$E$108,N106)","v":0},{"$f":"IF(O106=1,1,IF(R106=1,1,0))","v":0},106,{"$f":"COUNTIF($K$20:$K$108,N106)","v":0}]
[null,"Lot88",{"$nulls":4},{"$f":"IF(E107=\"\",\"\",IF(VLOOKUP(E107,eleves!$B$3:$E$502,2)=\"\",\"\",VLOOKUP(E107,eleves!$B$3:$E$502,2)))","v":""},{"$nulls":6},107,{"$f":"COUNTIF($E$20:$E$108,N107)","v":0},{"$f":"IF(O107=1,1,IF(R107=1,1,0))","v":0},107,{"$f":"COUNTIF($K$20:$K$108,N107)","v":0}]
[null,"Lot89",{"$nulls":4},{"$f":"IF(E108=\"\",\"\",IF(VLOOKUP(E108,eleves!$B$3:$E$502,2)=\"\",\"\",VLOOKUP(E108,eleves!$B$3:$E$502,2)))","v":""},{"$nulls":6},108,{"$f":"COUNTIF($E$20:$E$108,N108)","v":0},{"$f":"IF(O108=1,1,IF(R108=1,1,0))","v":0},108,{"$f":"COUNTIF($K$20:$K$108,N108)","v":0}]
[null,"Lot90",{"$nulls":4},{"$f":"IF(E109=\"\",\"\",IF(VLOOKUP(E109,eleves!$B$3:$E$502,2)=\"\",\"\",VLOOKUP(E109,eleves!$B$3:$E$502,2)))","v":""},{"$nulls":6},109,{"$f":"COUNTIF($E$20:$E$108,N109)","v":0},{"$f":"IF(O109=1,1,IF(R109=1,1,0))","v":0},109,{"$f":"COUNTIF($K$20:$K$108,N109)","v":0}]
[null,"Lot91",{"$nulls":4},{"$f":"IF(E110=\"\",\"\",IF(VLOOKUP(E110,eleves!$B$3:$E$502,2)=\"\",\"\",VLOOKUP(E110,eleves!$B$3:$E$502,2)))","v":""},{"$nulls":6},110,{"$f":"COUNTIF($E$20:$E$108,N110)","v":0},{"$f":"IF(O110=1,1,IF(R110=1,1,0))","v":0},110,{"$f":"COUNTIF($K$20:$K$108,N110)","v":0}]
[null,"Lot92",{"$nulls":4},{"$f":"IF(E111=\"\",\"\",IF(VLOOKUP(E111,eleves!$B$3:$E$502,2)=\"\",\"\",VLOOKUP(E111,eleves!$B$3:$E$502,2)))","v":""},{"$nulls":6},111,{"$f":"COUNTIF($E$20:$E$108,N111)","v":0},{"$f":"IF(O111=1,1,IF(R111=1,1,0))","v":0},111,{"$f":"COUNTIF($K$20:$K$108,N111)","v":0}]
[null,"Lot93",{"$nulls":4},{"$f":"IF(E112=\"\",\"\",IF(VLOOKUP(E112,eleves!$B$3:$E$502,2)=\"\",\"\",VLOOKUP(E112,eleves!$B$3:$E$502,2)))","v":""},{"$nulls":6},112,{"$f":"COUNTIF($E$20:$E$108,N112)","v":0},{"$f":"IF(O112=1,1,IF(R112=1,1,0))","v":0},112,{"$f":"COUNTIF($K$20:$K$108,N112)","v":0}]
[null,"Lot94",{"$nulls":4},{"$f":"IF(E113=\"\",\"\",IF(VLOOKUP(E113,eleves!$B$3:$E$502,2)=\"\",\"\",VLOOKUP(E113,eleves!$B$3:$E$502,2)))","v":""},{"$nulls":6},113,{"$f":"COUNTIF($E$20:$E$108,N113)","v":0},{"$f":"IF(O113=1,1,IF(R113=1,1,0))","v":0},113,{"$f":"COUNTIF($K$20:$K$108,N113)","v":0}]
[null,"Lot95",{"$nulls":4},{"$f":"IF(E114=\"\",\"\",IF(VLOOKUP(E114,eleves!$B$3:$E$502,2)=\"\",\"\",VLOOKUP(E114,eleves!$B$3:$E$502,2)))","v":""},{"$nulls":6},114,{"$f":"COUNTIF($E$20:$E$108,N114)","v":0},{"$f":"IF(O114=1,1,IF(R114=1,1,0))","v":0},114,{"$f":"COUNTIF($K$20:$K$108,N114)","v":0}]
[null,"Lot96",{"$nulls":4},{"$f":"IF(E115=\"\",\"\",IF(VLOOKUP(E115,eleves!$B$3:$E$502,2)=\"\",\"\",VLOOKUP(E115,eleves!$B$3:$E$502,2)))","v":""},{"$nulls":6},115,{"$f":"COUNTIF($E$20:$E$108,N115)","v":0},{"$f":"IF(O115=1,1,IF(R115=1,1,0))","v":0},115,{"$f":"COUNTIF($K$20:$K$108,N115)","v":0}]
[null,"Lot97",{"$nulls":4},{"$f":"IF(E116=\"\",\"\",IF(VLOOKUP(E116,eleves!$B$3:$E$502,2)=\"\",\"\",VLOOKUP(E116,eleves!$B$3:$E$502,2)))","v":""},{"$nulls":6},116,{"$f":"COUNTIF($E$20:$E$108,N116)","v":0},{"$f":"IF(O116=1,1,IF(R116=1,1,0))","v":0},116,{"$f":"COUNTIF($K$20:$K$108,N116)","v":0}]
[null,"Lot98",{"$nulls":4},{"$f":"IF(E117=\"\",\"\",IF(VLOOKUP(E117,eleves!$B$3:$E$502,2)=\"\",\"\",VLOOKUP(E117,eleves!$B$3:$E$502,2)))","v":""},{"$nulls":6},117,{"$f":"COUNTIF($E$20:$E$108,N117)","v":0},{"$f":"IF(O117=1,1,IF(R117=1,1,0))","v":0},117,{"$f":"COUNTIF($K$20:$K$108,N117)","v":0}]
[null,"Lot99",{"$nulls":4},{"$f":"IF(E118=\"\",\"\",IF(VLOOKUP(E118,eleves!$B$3:$E$502,2)=\"\",\"\",VLOOKUP(E118,eleves!$B$3:$E$502,2)))","v":""},{"$nulls":6},118,{"$f":"COUNTIF($E$20:$E$108,N118)","v":0},{"$f":"IF(O118=1,1,IF(R118=1,1,0))","v":0},118,{"$f":"COUNTIF($K$20:$K$108,N118)","v":0}]
[null,"Lot100",{"$nulls":4},{"$f":"IF(E119=\"\",\"\",IF(VLOOKUP(E119,eleves!$B$3:$E$502,2)=\"\",\"\",VLOOKUP(E119,eleves!$B$3:$E$502,2)))","v":""},{"$nulls":6},119,{"$f":"COUNTIF($E$20:$E$108,N119)","v":0},{"$f":"IF(O119=1,1,IF(R119=1,1,0))","v":0},119,{"$f":"COUNTIF($K$20:$K$108,N119)","v":0}]
[null,"Lot101",{"$nulls":4},{"$f":"IF(E120=\"\",\"\",IF(VLOOKUP(E120,eleves!$B$3:$E$502,2)=\"\",\"\",VLOOKUP(E120,eleves!$B$3:$E$502,2)))","v":""},{"$nulls":6},120,{"$f":"COUNTIF($E$20:$E$108,N120)","v":0},{"$f":"IF(O120=1,1,IF(R120=1,1,0))","v":0},120,{"$f":"COUNTIF($K$20:$K$108,N120)","v":0}]
[null,"Lot102",{"$nulls":4},{"$f":"IF(E121=\"\",\"\",IF(VLOOKUP(E121,eleves!$B$3:$E$502,2)=\"\",\"\",VLOOKUP(E121,eleves!$B$3:$E$502,2)))","v":""},{"$nulls":6},121,{"$f":"COUNTIF($E$20:$E$108,N121)","v":0},{"$f":"IF(O121=1,1,IF(R121=1,1,0))","v":0},121,{"$f":"COUNTIF($K$20:$K$108,N121)","v":0}]
[null,"Lot103",{"$nulls":4},{"$f":"IF(E122=\"\",\"\",IF(VLOOKUP(E122,eleves!$B$3:$E$502,2)=\"\",\"\",VLOOKUP(E122,eleves!$B$3:$E$502,2)))","v":""},{"$nulls":6},122,{"$f":"COUNTIF($E$20:$E$108,N122)","v":0},{"$f":"IF(O122=1,1,IF(R122=1,1,0))","v":0},122,{"$f":"COUNTIF($K$20:$K$108,N122)","v":0}]
[null,"Lot104",{"$nulls":4},{"$f":"IF(E123=\"\",\"\",IF(VLOOKUP(E123,eleves!$B$3:$E$502,2)=\"\",\"\",VLOOKUP(E123,eleves!$B$3:$E$502,2)))","v":""},{"$nulls":6},123,{"$f":"COUNTIF($E$20:$E$108,N123)","v":0},{"$f":"IF(O123=1,1,IF(R123=1,1,0))","v":0},123,{"$f":"COUNTIF($K$20:$K$108,N123)","v":0}]
[null,"Lot105",{"$nulls":4},{"$f":"IF(E124=\"\",\"\",IF(VLOOKUP(E124,eleves!$B$3:$E$502,2)=\"\",\"\",VLOOKUP(E124,eleves!$B$3:$E$502,2)))","v":""},{"$nulls":6},124,{"$f":"COUNTIF($E$20:$E$108,N124)","v":0},{"$f":"IF(O124=1,1,IF(R124=1,1,0))","v":0},124,{"$f":"COUNTIF($K$20:$K$108,N124)","v":0}]
[null,"Lot106",{"$nulls":4},{"$f":"IF(E125=\"\",\"\",IF(VLOOKUP(E125,eleves!$B$3:$E$502,2)=\"\",\"\",VLOOKUP(E125,eleves!$B$3:$E$502,2)))","v":""},{"$nulls":6},125,{"$f":"COUNTIF($E$20:$E$108,N125)","v":0},{"$f":"IF(O125=1,1,IF(R125=1,1,0))","v":0},125,{"$f":"COUNTIF($K$20:$K$108,N125)","v":0}]
[null,"Lot107",{"$nulls":4},{"$f":"IF(E126=\"\",\"\",IF(VLOOKUP(E126,eleves!$B$3:$E$502,2)=\"\",\"\",VLOOKUP(E126,eleves!$B$3:$E$502,2)))","v":""},{"$nulls":6},126,{"$f":"COUNTIF($E$20:$E$108,N126)","v":0},{"$f":"IF(O126=1,1,IF(R126=1,1,0))","v":0},126,{"$f":"COUNTIF($K$20:$K$108,N126)","v":0}]
[null,"Lot108",{"$nulls":4},{"$f":"IF(E127=\"\",\"\",IF(VLOOKUP(E127,eleves!$B$3:$E$502,2)=\"\",\"\",VLOOKUP(E127,eleves!$B$3:$E$502,2)))","v":""},{"$nulls":6},127,{"$f":"COUNTIF($E$20:$E$108,N127)","v":0},{"$f":"IF(O127=1,1,IF(R127=1,1,0))","v":0},127,{"$f":"COUNTIF($K$20:$K$108,N127)","v":0}]
[null,"Lot109",{"$nulls":4},{"$f":"IF(E128=\"\",\"\",IF(VLOOKUP(E128,eleves!$B$3:$E$502,2)=\"\",\"\",VLOOKUP(E128,eleves!$B$3:$E$502,2)))","v":""},{"$nulls":6},128,{"$f":"COUNTIF($E$20:$E$108,N128)","v":0},{"$f":"IF(O128=1,1,IF(R128=1,1,0))","v":0},128,{"$f":"COUNTIF($K$20:$K$108,N128)","v":0}]
[null,"Lot110",{"$nulls":4},{"$f":"IF(E129=\"\",\"\",IF(VLOOKUP(E129,eleves!$B$3:$E$502,2)=\"\",\"\",VLOOKUP(E129,eleves!$B$3:$E$502,2)))","v":""},{"$nulls":6},129,{"$f":"COUNTIF($E$20:$E$108,N129)","v":0},{"$f":"IF(O129=1,1,IF(R129=1,1,0))","v":0},129,{"$f":"COUNTIF($K$20:$K$108,N129)","v":0}]
[null,"Lot111",{"$nulls":4},{"$f":"IF(E130=\"\",\"\",IF(VLOOKUP(E130,eleves!$B$3:$E$502,2)=\"\",\"\",VLOOKUP(E130,eleves!$B$3:$E$502,2)))","v":""},{"$nulls":6},130,{"$f":"COUNTIF($E$20:$E$108,N130)","v":0},{"$f":"IF(O130=1,1,IF(R130=1,1,0))","v":0},130,{"$f":"COUNTIF($K$20:$K$108,N130)","v":0}]
[null,"Lot112",{"$nulls":4},{"$f":"IF(E131=\"\",\"\",IF(VLOOKUP(E131,eleves!$B$3:$E$502,2)=\"\",\"\",VLOOKUP(E131,eleves!$B$3:$E$502,2)))","v":""},{"$nulls":6},131,{"$f":"COUNTIF($E$20:$E$108,N131)","v":0},{"$f":"IF(O131=1,1,IF(R131=1,1,0))","v":0},131,{"$f":"COUNTIF($K$20:$K$108,N131)","v":0}]
[null,"Lot113",{"$nulls":4},{"$f":"IF(E132=\"\",\"\",IF(VLOOKUP(E132,eleves!$B$3:$E$502,2)=\"\",\"\",VLOOKUP(E132,eleves!$B$3:$E$502,2)))","v":""},{"$nulls":6},132,{"$f":"COUNTIF($E$20:$E$108,N132)","v":0},{"$f":"IF(O132=1,1,IF(R132=1,1,0))","v":0},132,{"$f":"COUNTIF($K$20:$K$108,N132)","v":0}]
[null,"Lot114",{"$nulls":4},{"$f":"IF(E133=\"\",\"\",IF(VLOOKUP(E133,eleves!$B$3:$E$502,2)=\"\",\"\",VLOOKUP(E133,eleves!$B$3:$E$502,2)))","v":""},{"$nulls":6},133,{"$f":"COUNTIF($E$20:$E$108,N133)","v":0},{"$f":"IF(O133=1,1,IF(R133=1,1,0))","v":0},133,{"$f":"COUNTIF($K$20:$K$108,N133)","v":0}]
[null,"Lot115",{"$nulls":4},{"$f":"IF(E134=\"\",\"\",IF(VLOOKUP(E134,eleves!$B$3:$E$502,2)=\"\",\"\",VLOOKUP(E134,eleves!$B$3:$E$502,2)))","v":""},{"$nulls":6},134,{"$f":"COUNTIF($E$20:$E$108,N134)","v":0},{"$f":"IF(O134=1,1,IF(R134=1,1,0))","v":0},134,{"$f":"COUNTIF($K$20:$K$108,N134)","v":0}]
[null,"Lot116",{"$nulls":4},{"$f":"IF(E135=\"\",\"\",IF(VLOOKUP(E135,eleves!$B$3:$E$502,2)=\"\",\"\",VLOOKUP(E135,eleves!$B$3:$E$502,2)))","v":""},{"$nulls":6},135,{"$f":"COUNTIF($E$20:$E$108,N135)","v":0},{"$f":"IF(O135=1,1,IF(R135=1,1,0))","v":0},135,{"$f":"COUNTIF($K$20:$K$108,N135)","v":0}]
[null,"Lot117",{"$nulls":4},{"$f":"IF(E136=\"\",\"\",IF(VLOOKUP(E136,eleves!$B$3:$E$502,2)=\"\",\"\",VLOOKUP(E136,eleves!$B$3:$E$502,2)))","v":""},{"$nulls":6},136,{"$f":"COUNTIF($E$20:$E$108,N136)","v":0},{"$f":"IF(O136=1,1,IF(R136=1,1,0))","v":0},136,{"$f":"COUNTIF($K$20:$K$108,N136)","v":0}]
[null,"Lot118",{"$nulls":4},{"$f":"IF(E137=\"\",\"\",IF(VLOOKUP(E137,eleves!$B$3:$E$502,2)=\"\",\"\",VLOOKUP(E137,eleves!$B$3:$E$502,2)))","v":""},{"$nulls":6},137,{"$f":"COUNTIF($E$20:$E$108,N137)","v":0},{"$f":"IF(O137=1,1,IF(R137=1,1,0))","v":0},137,{"$f":"COUNTIF($K$20:$K$108,N137)","v":0}]
[null,"Lot119",{"$nulls":4},{"$f":"IF(E138=\"\",\"\",IF(VLOOKUP(E138,eleves!$B$3:$E$502,2)=\"\",\"\",VLOOKUP(E138,eleves!$B$3:$E$502,2)))","v":""},{"$nulls":6},138,{"$f":"COUNTIF($E$20:$E$108,N138)","v":0},{"$f":"IF(O138=1,1,IF(R138=1,1,0))","v":0},138,{"$f":"COUNTIF($K$20:$K$108,N138)","v":0}]
[null,"Lot120",{"$nulls":4},{"$f":"IF(E139=\"\",\"\",IF(VLOOKUP(E139,eleves!$B$3:$E$502,2)=\"\",\"\",VLOOKUP(E139,eleves!$B$3:$E$502,2)))","v":""},{"$nulls":6},139,{"$f":"COUNTIF($E$20:$E$108,N139)","v":0},{"$f":"IF(O139=1,1,IF(R139=1,1,0))","v":0},139,{"$f":"COUNTIF($K$20:$K$108,N139)","v":0}]
[null,"Lot121",{"$nulls":4},{"$f":"IF(E140=\"\",\"\",IF(VLOOKUP(E140,eleves!$B$3:$E$502,2)=\"\",\"\",VLOOKUP(E140,eleves!$B$3:$E$502,2)))","v":""},{"$nulls":6},140,{"$f":"COUNTIF($E$20:$E$108,N140)","v":0},{"$f":"IF(O140=1,1,IF(R140=1,1,0))","v":0},140,{"$f":"COUNTIF($K$20:$K$108,N140)","v":0}]
[null,"Lot122",{"$nulls":4},{"$f":"IF(E141=\"\",\"\",IF(VLOOKUP(E141,eleves!$B$3:$E$502,2)=\"\",\"\",VLOOKUP(E141,eleves!$B$3:$E$502,2)))","v":""},{"$nulls":6},141,{"$f":"COUNTIF($E$20:$E$108,N141)","v":0},{"$f":"IF(O141=1,1,IF(R141=1,1,0))","v":0},141,{"$f":"COUNTIF($K$20:$K$108,N141)","v":0}]
[null,"Lot123",{"$nulls":4},{"$f":"IF(E142=\"\",\"\",IF(VLOOKUP(E142,eleves!$B$3:$E$502,2)=\"\",\"\",VLOOKUP(E142,eleves!$B$3:$E$502,2)))","v":""},{"$nulls":6},142,{"$f":"COUNTIF($E$20:$E$108,N142)","v":0},{"$f":"IF(O142=1,1,IF(R142=1,1,0))","v":0},142,{"$f":"COUNTIF($K$20:$K$108,N142)","v":0}]
[null,"Lot124",{"$nulls":4},{"$f":"IF(E143=\"\",\"\",IF(VLOOKUP(E143,eleves!$B$3:$E$502,2)=\"\",\"\",VLOOKUP(E143,eleves!$B$3:$E$502,2)))","v":""},{"$nulls":6},143,{"$f":"COUNTIF($E$20:$E$108,N143)","v":0},{"$f":"IF(O143=1,1,IF(R143=1,1,0))","v":0},143,{"$f":"COUNTIF($K$20:$K$108,N143)","v":0}]
[null,"Lot125",{"$nulls":4},{"$f":"IF(E144=\"\",\"\",IF(VLOOKUP(E144,eleves!$B$3:$E$502,2)=\"\",\"\",VLOOKUP(E144,eleves!$B$3:$E$502,2)))","v":""},{"$nulls":6},144,{"$f":"COUNTIF($E$20:$E$108,N144)","v":0},{"$f":"IF(O144=1,1,IF(R144=1,1,0))","v":0},144,{"$f":"COUNTIF($K$20:$K$108,N144)","v":0}]
[null,"Lot126",{"$nulls":4},{"$f":"IF(E145=\"\",\"\",IF(VLOOKUP(E145,eleves!$B$3:$E$502,2)=\"\",\"\",VLOOKUP(E145,eleves!$B$3:$E$502,2)))","v":""},{"$nulls":6},145,{"$f":"COUNTIF($E$20:$E$108,N145)","v":0},{"$f":"IF(O145=1,1,IF(R145=1,1,0))","v":0},145,{"$f":"COUNTIF($K$20:$K$108,N145)","v":0}]
[null,"Lot127",{"$nulls":4},{"$f":"IF(E146=\"\",\"\",IF(VLOOKUP(E146,eleves!$B$3:$E$502,2)=\"\",\"\",VLOOKUP(E146,eleves!$B$3:$E$502,2)))","v":""},{"$nulls":6},146,{"$f":"COUNTIF($E$20:$E$108,N146)","v":0},{"$f":"IF(O146=1,1,IF(R146=1,1,0))","v":0},146,{"$f":"COUNTIF($K$20:$K$108,N146)","v":0}]
[null,"Lot128",{"$nulls":4},{"$f":"IF(E147=\"\",\"\",IF(VLOOKUP(E147,eleves!$B$3:$E$502,2)=\"\",\"\",VLOOKUP(E147,eleves!$B$3:$E$502,2)))","v":""},{"$nulls":6},147,{"$f":"COUNTIF($E$20:$E$108,N147)","v":0},{"$f":"IF(O147=1,1,IF(R147=1,1,0))","v":0},147,{"$f":"COUNTIF($K$20:$K$108,N147)","v":0}]
[null,"Lot129",{"$nulls":4},{"$f":"IF(E148=\"\",\"\",IF(VLOOKUP(E148,eleves!$B$3:$E$502,2)=\"\",\"\",VLOOKUP(E148,eleves!$B$3:$E$502,2)))","v":""},{"$nulls":6},148,{"$f":"COUNTIF($E$20:$E$108,N148)","v":0},{"$f":"IF(O148=1,1,IF(R148=1,1,0))","v":0},148,{"$f":"COUNTIF($K$20:$K$108,N148)","v":0}]
[null,"Lot130",{"$nulls":4},{"$f":"IF(E149=\"\",\"\",IF(VLOOKUP(E149,eleves!$B$3:$E$502,2)=\"\",\"\",VLOOKUP(E149,eleves!$B$3:$E$502,2)))","v":""},{"$nulls":6},149,{"$f":"COUNTIF($E$20:$E$108,N149)","v":0},{"$f":"IF(O149=1,1,IF(R149=1,1,0))","v":0},149,{"$f":"COUNTIF($K$20:$K$108,N149)","v":0}]
[null,"Lot131",{"$nulls":4},{"$f":"IF(E150=\"\",\"\",IF(VLOOKUP(E150,eleves!$B$3:$E$502,2)=\"\",\"\",VLOOKUP(E150,eleves!$B$3:$E$502,2)))","v":""},{"$nulls":6},150,{"$f":"COUNTIF($E$20:$E$108,N150)","v":0},{"$f":"IF(O150=1,1,IF(R150=1,1,0))","v":0},150,{"$f":"COUNTIF($K$20:$K$108,N150)","v":0}]
[null,"Lot132",{"$nulls":4},{"$f":"IF(E151=\"\",\"\",IF(VLOOKUP(E151,eleves!$B$3:$E$502,2)=\"\",\"\",VLOOKUP(E151,eleves!$B$3:$E$502,2)))","v":""},{"$nulls":6},151,{"$f":"COUNTIF($E$20:$E$108,N151)","v":0},{"$f":"IF(O151=1,1,IF(R151=1,1,0))","v":0},151,{"$f":"COUNTIF($K$20:$K$108,N151)","v":0}]
[null,"Lot133",{"$nulls":4},{"$f":"IF(E152=\"\",\"\",IF(VLOOKUP(E152,eleves!$B$3:$E$502,2)=\"\",\"\",VLOOKUP(E152,eleves!$B$3:$E$502,2)))","v":""},{"$nulls":6},152,{"$f":"COUNTIF($E$20:$E$108,N152)","v":0},{"$f":"IF(O152=1,1,IF(R152=1,1,0))","v":0},152,{"$f":"COUNTIF($K$20:$K$108,N152)","v":0}]
[null,"Lot134",{"$nulls":4},{"$f":"IF(E153=\"\",\"\",IF(VLOOKUP(E153,eleves!$B$3:$E$502,2)=\"\",\"\",VLOOKUP(E153,eleves!$B$3:$E$502,2)))","v":""},{"$nulls":6},153,{"$f":"COUNTIF($E$20:$E$108,N153)","v":0},{"$f":"IF(O153=1,1,IF(R153=1,1,0))","v":0},153,{"$f":"COUNTIF($K$20:$K$108,N153)","v":0}]
[null,"Lot135",{"$nulls":4},{"$f":"IF(E154=\"\",\"\",IF(VLOOKUP(E154,eleves!$B$3:$E$502,2)=\"\",\"\",VLOOKUP(E154,eleves!$B$3:$E$502,2)))","v":""},{"$nulls":6},154,{"$f":"COUNTIF($E$20:$E$108,N154)","v":0},{"$f":"IF(O154=1,1,IF(R154=1,1,0))","v":0},154,{"$f":"COUNTIF($K$20:$K$108,N154)","v":0}]
[null,"Lot136",{"$nulls":4},{"$f":"IF(E155=\"\",\"\",IF(VLOOKUP(E155,eleves!$B$3:$E$502,2)=\"\",\"\",VLOOKUP(E155,eleves!$B$3:$E$502,2)))","v":""},{"$nulls":6},155,{"$f":"COUNTIF($E$20:$E$108,N155)","v":0},{"$f":"IF(O155=1,1,IF(R155=1,1,0))","v":0},155,{"$f":"COUNTIF($K$20:$K$108,N155)","v":0}]
[null,"Lot137",{"$nulls":4},{"$f":"IF(E156=\"\",\"\",IF(VLOOKUP(E156,eleves!$B$3:$E$502,2)=\"\",\"\",VLOOKUP(E156,eleves!$B$3:$E$502,2)))","v":""},{"$nulls":6},156,{"$f":"COUNTIF($E$20:$E$108,N156)","v":0},{"$f":"IF(O156=1,1,IF(R156=1,1,0))","v":0},156,{"$f":"COUNTIF($K$20:$K$108,N156)","v":0}]
[null,"Lot138",{"$nulls":4},{"$f":"IF(E157=\"\",\"\",IF(VLOOKUP(E157,eleves!$B$3:$E$502,2)=\"\",\"\",VLOOKUP(E157,eleves!$B$3:$E$502,2)))","v":""},{"$nulls":6},157,{"$f":"COUNTIF($E$20:$E$108,N157)","v":0},{"$f":"IF(O157=1,1,IF(R157=1,1,0))","v":0},157,{"$f":"COUNTIF($K$20:$K$108,N157)","v":0}]
[null,"Lot139",{"$nulls":4},{"$f":"IF(E158=\"\",\"\",IF(VLOOKUP(E158,eleves!$B$3:$E$502,2)=\"\",\"\",VLOOKUP(E158,eleves!$B$3:$E$502,2)))","v":""},{"$nulls":6},158,{"$f":"COUNTIF($E$20:$E$108,N158)","v":0},{"$f":"IF(O158=1,1,IF(R158=1,1,0))","v":0},158,{"$f":"COUNTIF($K$20:$K$108,N158)","v":0}]
[null,"Lot140",{"$nulls":4},{"$f":"IF(E159=\"\",\"\",IF(VLOOKUP(E159,eleves!$B$3:$E$502,2)=\"\",\"\",VLOOKUP(E159,eleves!$B$3:$E$502,2)))","v":""},{"$nulls":6},159,{"$f":"COUNTIF($E$20:$E$108,N159)","v":0},{"$f":"IF(O159=1,1,IF(R159=1,1,0))","v":0},159,{"$f":"COUNTIF($K$20:$K$108,N159)","v":0}]
[null,"Lot141",{"$nulls":4},{"$f":"IF(E160=\"\",\"\",IF(VLOOKUP(E160,eleves!$B$3:$E$502,2)=\"\",\"\",VLOOKUP(E160,eleves!$B$3:$E$502,2)))","v":""},{"$nulls":6},160,{"$f":"COUNTIF($E$20:$E$108,N160)","v":0},{"$f":"IF(O160=1,1,IF(R160=1,1,0))","v":0},160,{"$f":"COUNTIF($K$20:$K$108,N160)","v":0}]
[null,"Lot142",{"$nulls":4},{"$f":"IF(E161=\"\",\"\",IF(VLOOKUP(E161,eleves!$B$3:$E$502,2)=\"\",\"\",VLOOKUP(E161,eleves!$B$3:$E$502,2)))","v":""},{"$nulls":6},161,{"$f":"COUNTIF($E$20:$E$108,N161)","v":0},{"$f":"IF(O161=1,1,IF(R161=1,1,0))","v":0},161,{"$f":"COUNTIF($K$20:$K$108,N161)","v":0}]
[null,"Lot143",{"$nulls":4},{"$f":"IF(E162=\"\",\"\",IF(VLOOKUP(E162,eleves!$B$3:$E$502,2)=\"\",\"\",VLOOKUP(E162,eleves!$B$3:$E$502,2)))","v":""},{"$nulls":6},162,{"$f":"COUNTIF($E$20:$E$108,N162)","v":0},{"$f":"IF(O162=1,1,IF(R162=1,1,0))","v":0},162,{"$f":"COUNTIF($K$20:$K$108,N162)","v":0}]
[null,"Lot144",{"$nulls":4},{"$f":"IF(E163=\"\",\"\",IF(VLOOKUP(E163,eleves!$B$3:$E$502,2)=\"\",\"\",VLOOKUP(E163,eleves!$B$3:$E$502,2)))","v":""},{"$nulls":6},163,{"$f":"COUNTIF($E$20:$E$108,N163)","v":0},{"$f":"IF(O163=1,1,IF(R163=1,1,0))","v":0},163,{"$f":"COUNTIF($K$20:$K$108,N163)","v":0}]
[null,"Lot145",{"$nulls":4},{"$f":"IF(E164=\"\",\"\",IF(VLOOKUP(E164,eleves!$B$3:$E$502,2)=\"\",\"\",VLOOKUP(E164,eleves!$B$3:$E$502,2)))","v":""},{"$nulls":6},164,{"$f":"COUNTIF($E$20:$E$108,N164)","v":0},{"$f":"IF(O164=1,1,IF(R164=1,1,0))","v":0},164,{"$f":"COUNTIF($K$20:$K$108,N164)","v":0}]
[null,"Lot146",{"$nulls":4},{"$f":"IF(E165=\"\",\"\",IF(VLOOKUP(E165,eleves!$B$3:$E$502,2)=\"\",\"\",VLOOKUP(E165,eleves!$B$3:$E$502,2)))","v":""},{"$nulls":6},165,{"$f":"COUNTIF($E$20:$E$108,N165)","v":0},{"$f":"IF(O165=1,1,IF(R165=1,1,0))","v":0},165,{"$f":"COUNTIF($K$20:$K$108,N165)","v":0}]
[null,"Lot147",{"$nulls":4},{"$f":"IF(E166=\"\",\"\",IF(VLOOKUP(E166,eleves!$B$3:$E$502,2)=\"\",\"\",VLOOKUP(E166,eleves!$B$3:$E$502,2)))","v":""},{"$nulls":6},166,{"$f":"COUNTIF($E$20:$E$108,N166)","v":0},{"$f":"IF(O166=1,1,IF(R166=1,1,0))","v":0},166,{"$f":"COUNTIF($K$20:$K$108,N166)","v":0}]
[null,"Lot148",{"$nulls":4},{"$f":"IF(E167=\"\",\"\",IF(VLOOKUP(E167,eleves!$B$3:$E$502,2)=\"\",\"\",VLOOKUP(E167,eleves!$B$3:$E$502,2)))","v":""},{"$nulls":6},167,{"$f":"COUNTIF($E$20:$E$108,N167)","v":0},{"$f":"IF(O167=1,1,IF(R167=1,1,0))","v":0},167,{"$f":"COUNTIF($K$20:$K$108,N167)","v":0}]
[null,"Lot149",{"$nulls":4},{"$f":"IF(E168=\"\",\"\",IF(VLOOKUP(E168,eleves!$B$3:$E$502,2)=\"\",\"\",VLOOKUP(E168,eleves!$B$3:$E$502,2)))","v":""},{"$nulls":6},168,{"$f":"COUNTIF($E$20:$E$108,N168)","v":0},{"$f":"IF(O168=1,1,IF(R168=1,1,0))","v":0},168,{"$f":"COUNTIF($K$20:$K$108,N168)","v":0}]
[null,"Lot150",{"$nulls":4},{"$f":"IF(E169=\"\",\"\",IF(VLOOKUP(E169,eleves!$B$3:$E$502,2)=\"\",\"\",VLOOKUP(E169,eleves!$B$3:$E$502,2)))","v":""},{"$nulls":6},169,{"$f":"COUNTIF($E$20:$E$108,N169)","v":0},{"$f":"IF(O169=1,1,IF(R169=1,1,0))","v":0},169,{"$f":"COUNTIF($K$20:$K$108,N169)","v":0}]
[null,"Lot151",{"$nulls":4},{"$f":"IF(E170=\"\",\"\",IF(VLOOKUP(E170,eleves!$B$3:$E$502,2)=\"\",\"\",VLOOKUP(E170,eleves!$B$3:$E$502,2)))","v":""},{"$nulls":6},170,{"$f":"COUNTIF($E$20:$E$108,N170)","v":0},{"$f":"IF(O170=1,1,IF(R170=1,1,0))","v":0},170,{"$f":"COUNTIF($K$20:$K$108,N170)","v":0}]
[null,"Lot152",{"$nulls":4},{"$f":"IF(E171=\"\",\"\",IF(VLOOKUP(E171,eleves!$B$3:$E$502,2)=\"\",\"\",VLOOKUP(E171,eleves!$B$3:$E$502,2)))","v":""},{"$nulls":6},171,{"$f":"COUNTIF($E$20:$E$108,N171)","v":0},{"$f":"IF(O171=1,1,IF(R171=1,1,0))","v":0},171,{"$f":"COUNTIF($K$20:$K$108,N171)","v":0}]
[null,"Lot153",{"$nulls":4},{"$f":"IF(E172=\"\",\"\",IF(VLOOKUP(E172,eleves!$B$3:$E$502,2)=\"\",\"\",VLOOKUP(E172,eleves!$B$3:$E$502,2)))","v":""},{"$nulls":6},172,{"$f":"COUNTIF($E$20:$E$108,N172)","v":0},{"$f":"IF(O172=1,1,IF(R172=1,1,0))","v":0},172,{"$f":"COUNTIF($K$20:$K$108,N172)","v":0}]
[null,"Lot154",{"$nulls":4},{"$f":"IF(E173=\"\",\"\",IF(VLOOKUP(E173,eleves!$B$3:$E$502,2)=\"\",\"\",VLOOKUP(E173,eleves!$B$3:$E$502,2)))","v":""},{"$nulls":6},173,{"$f":"COUNTIF($E$20:$E$108,N173)","v":0},{"$f":"IF(O173=1,1,IF(R173=1,1,0))","v":0},173,{"$f":"COUNTIF($K$20:$K$108,N173)","v":0}]
[null,"Lot155",{"$nulls":4},{"$f":"IF(E174=\"\",\"\",IF(VLOOKUP(E174,eleves!$B$3:$E$502,2)=\"\",\"\",VLOOKUP(E174,eleves!$B$3:$E$502,2)))","v":""},{"$nulls":6},174,{"$f":"COUNTIF($E$20:$E$108,N174)","v":0},{"$f":"IF(O174=1,1,IF(R174=1,1,0))","v":0},174,{"$f":"COUNTIF($K$20:$K$108,N174)","v":0}]
[null,"Lot156",{"$nulls":4},{"$f":"IF(E175=\"\",\"\",IF(VLOOKUP(E175,eleves!$B$3:$E$502,2)=\"\",\"\",VLOOKUP(E175,eleves!$B$3:$E$502,2)))","v":""},{"$nulls":6},175,{"$f":"COUNTIF($E$20:$E$108,N175)","v":0},{"$f":"IF(O175=1,1,IF(R175=1,1,0))","v":0},175,{"$f":"COUNTIF($K$20:$K$108,N175)","v":0}]
[null,"Lot157",{"$nulls":4},{"$f":"IF(E176=\"\",\"\",IF(VLOOKUP(E176,eleves!$B$3:$E$502,2)=\"\",\"\",VLOOKUP(E176,eleves!$B$3:$E$502,2)))","v":""},{"$nulls":6},176,{"$f":"COUNTIF($E$20:$E$108,N176)","v":0},{"$f":"IF(O176=1,1,IF(R176=1,1,0))","v":0},176,{"$f":"COUNTIF($K$20:$K$108,N176)","v":0}]
[null,"Lot158",{"$nulls":4},{"$f":"IF(E177=\"\",\"\",IF(VLOOKUP(E177,eleves!$B$3:$E$502,2)=\"\",\"\",VLOOKUP(E177,eleves!$B$3:$E$502,2)))","v":""},{"$nulls":6},177,{"$f":"COUNTIF($E$20:$E$108,N177)","v":0},{"$f":"IF(O177=1,1,IF(R177=1,1,0))","v":0},177,{"$f":"COUNTIF($K$20:$K$108,N177)","v":0}]
[null,"Lot159",{"$nulls":4},{"$f":"IF(E178=\"\",\"\",IF(VLOOKUP(E178,eleves!$B$3:$E$502,2)=\"\",\"\",VLOOKUP(E178,eleves!$B$3:$E$502,2)))","v":""},{"$nulls":6},178,{"$f":"COUNTIF($E$20:$E$108,N178)","v":0},{"$f":"IF(O178=1,1,IF(R178=1,1,0))","v":0},178,{"$f":"COUNTIF($K$20:$K$108,N178)","v":0}]
[null,"Lot160",{"$nulls":4},{"$f":"IF(E179=\"\",\"\",IF(VLOOKUP(E179,eleves!$B$3:$E$502,2)=\"\",\"\",VLOOKUP(E179,eleves!$B$3:$E$502,2)))","v":""},{"$nulls":6},179,{"$f":"COUNTIF($E$20:$E$108,N179)","v":0},{"$f":"IF(O179=1,1,IF(R179=1,1,0))","v":0},179,{"$f":"COUNTIF($K$20:$K$108,N179)","v":0}]
[null,"Lot161",{"$nulls":4},{"$f":"IF(E180=\"\",\"\",IF(VLOOKUP(E180,eleves!$B$3:$E$502,2)=\"\",\"\",VLOOKUP(E180,eleves!$B$3:$E$502,2)))","v":""},{"$nulls":6},180,{"$f":"COUNTIF($E$20:$E$108,N180)","v":0},{"$f":"IF(O180=1,1,IF(R180=1,1,0))","v":0},180,{"$f":"COUNTIF($K$20:$K$108,N180)","v":0}]
[null,"Lot162",{"$nulls":4},{"$f":"IF(E181=\"\",\"\",IF(VLOOKUP(E181,eleves!$B$3:$E$502,2)=\"\",\"\",VLOOKUP(E181,eleves!$B$3:$E$502,2)))","v":""},{"$nulls":6},181,{"$f":"COUNTIF($E$20:$E$108,N181)","v":0},{"$f":"IF(O181=1,1,IF(R181=1,1,0))","v":0},181,{"$f":"COUNTIF($K$20:$K$108,N181)","v":0}]
[null,"Lot163",{"$nulls":4},{"$f":"IF(E182=\"\",\"\",IF(VLOOKUP(E182,eleves!$B$3:$E$502,2)=\"\",\"\",VLOOKUP(E182,eleves!$B$3:$E$502,2)))","v":""},{"$nulls":6},182,{"$f":"COUNTIF($E$20:$E$108,N182)","v":0},{"$f":"IF(O182=1,1,IF(R182=1,1,0))","v":0},182,{"$f":"COUNTIF($K$20:$K$108,N182)","v":0}]
[null,"Lot164",{"$nulls":4},{"$f":"IF(E183=\"\",\"\",IF(VLOOKUP(E183,eleves!$B$3:$E$502,2)=\"\",\"\",VLOOKUP(E183,eleves!$B$3:$E$502,2)))","v":""},{"$nulls":6},183,{"$f":"COUNTIF($E$20:$E$108,N183)","v":0},{"$f":"IF(O183=1,1,IF(R183=1,1,0))","v":0},183,{"$f":"COUNTIF($K$20:$K$108,N183)","v":0}]
[null,"Lot165",{"$nulls":4},{"$f":"IF(E184=\"\",\"\",IF(VLOOKUP(E184,eleves!$B$3:$E$502,2)=\"\",\"\",VLOOKUP(E184,eleves!$B$3:$E$502,2)))","v":""},{"$nulls":6},184,{"$f":"COUNTIF($E$20:$E$108,N184)","v":0},{"$f":"IF(O184=1,1,IF(R184=1,1,0))","v":0},184,{"$f":"COUNTIF($K$20:$K$108,N184)","v":0}]
[null,"Lot166",{"$nulls":4},{"$f":"IF(E185=\"\",\"\",IF(VLOOKUP(E185,eleves!$B$3:$E$502,2)=\"\",\"\",VLOOKUP(E185,eleves!$B$3:$E$502,2)))","v":""},{"$nulls":6},185,{"$f":"COUNTIF($E$20:$E$108,N185)","v":0},{"$f":"IF(O185=1,1,IF(R185=1,1,0))","v":0},185,{"$f":"COUNTIF($K$20:$K$108,N185)","v":0}]
[null,"Lot167",{"$nulls":4},{"$f":"IF(E186=\"\",\"\",IF(VLOOKUP(E186,eleves!$B$3:$E$502,2)=\"\",\"\",VLOOKUP(E186,eleves!$B$3:$E$502,2)))","v":""},{"$nulls":6},186,{"$f":"COUNTIF($E$20:$E$108,N186)","v":0},{"$f":"IF(O186=1,1,IF(R186=1,1,0))","v":0},186,{"$f":"COUNTIF($K$20:$K$108,N186)","v":0}]
[null,"Lot168",{"$nulls":4},{"$f":"IF(E187=\"\",\"\",IF(VLOOKUP(E187,eleves!$B$3:$E$502,2)=\"\",\"\",VLOOKUP(E187,eleves!$B$3:$E$502,2)))","v":""},{"$nulls":6},187,{"$f":"COUNTIF($E$20:$E$108,N187)","v":0},{"$f":"IF(O187=1,1,IF(R187=1,1,0))","v":0},187,{"$f":"COUNTIF($K$20:$K$108,N187)","v":0}]
[null,"Lot169",{"$nulls":4},{"$f":"IF(E188=\"\",\"\",IF(VLOOKUP(E188,eleves!$B$3:$E$502,2)=\"\",\"\",VLOOKUP(E188,eleves!$B$3:$E$502,2)))","v":""},{"$nulls":6},188,{"$f":"COUNTIF($E$20:$E$108,N188)","v":0},{"$f":"IF(O188=1,1,IF(R188=1,1,0))","v":0},188,{"$f":"COUNTIF($K$20:$K$108,N188)","v":0}]
[null,"Lot170",{"$nulls":4},{"$f":"IF(E189=\"\",\"\",IF(VLOOKUP(E189,eleves!$B$3:$E$502,2)=\"\",\"\",VLOOKUP(E189,eleves!$B$3:$E$502,2)))","v":""},{"$nulls":6},189,{"$f":"COUNTIF($E$20:$E$108,N189)","v":0},{"$f":"IF(O189=1,1,IF(R189=1,1,0))","v":0},189,{"$f":"COUNTIF($K$20:$K$108,N189)","v":0}]
[null,"Lot171",{"$nulls":4},{"$f":"IF(E190=\"\",\"\",IF(VLOOKUP(E190,eleves!$B$3:$E$502,2)=\"\",\"\",VLOOKUP(E190,eleves!$B$3:$E$502,2)))","v":""},{"$nulls":6},190,{"$f":"COUNTIF($E$20:$E$108,N190)","v":0},{"$f":"IF(O190=1,1,IF(R190=1,1,0))","v":0},190,{"$f":"COUNTIF($K$20:$K$108,N190)","v":0}]
[null,"Lot172",{"$nulls":4},{"$f":"IF(E191=\"\",\"\",IF(VLOOKUP(E191,eleves!$B$3:$E$502,2)=\"\",\"\",VLOOKUP(E191,eleves!$B$3:$E$502,2)))","v":""},{"$nulls":6},191,{"$f":"COUNTIF($E$20:$E$108,N191)","v":0},{"$f":"IF(O191=1,1,IF(R191=1,1,0))","v":0},191,{"$f":"COUNTIF($K$20:$K$108,N191)","v":0}]
[null,"Lot173",{"$nulls":4},{"$f":"IF(E192=\"\",\"\",IF(VLOOKUP(E192,eleves!$B$3:$E$502,2)=\"\",\"\",VLOOKUP(E192,eleves!$B$3:$E$502,2)))","v":""},{"$nulls":6},192,{"$f":"COUNTIF($E$20:$E$108,N192)","v":0},{"$f":"IF(O192=1,1,IF(R192=1,1,0))","v":0},192,{"$f":"COUNTIF($K$20:$K$108,N192)","v":0}]
[null,"Lot174",{"$nulls":4},{"$f":"IF(E193=\"\",\"\",IF(VLOOKUP(E193,eleves!$B$3:$E$502,2)=\"\",\"\",VLOOKUP(E193,eleves!$B$3:$E$502,2)))","v":""},{"$nulls":6},193,{"$f":"COUNTIF($E$20:$E$108,N193)","v":0},{"$f":"IF(O193=1,1,IF(R193=1,1,0))","v":0},193,{"$f":"COUNTIF($K$20:$K$108,N193)","v":0}]
[null,"Lot175",{"$nulls":4},{"$f":"IF(E194=\"\",\"\",IF(VLOOKUP(E194,eleves!$B$3:$E$502,2)=\"\",\"\",VLOOKUP(E194,eleves!$B$3:$E$502,2)))","v":""},{"$nulls":6},194,{"$f":"COUNTIF($E$20:$E$108,N194)","v":0},{"$f":"IF(O194=1,1,IF(R194=1,1,0))","v":0},194,{"$f":"COUNTIF($K$20:$K$108,N194)","v":0}]
[null,"Lot176",{"$nulls":4},{"$f":"IF(E195=\"\",\"\",IF(VLOOKUP(E195,eleves!$B$3:$E$502,2)=\"\",\"\",VLOOKUP(E195,eleves!$B$3:$E$502,2)))","v":""},{"$nulls":6},195,{"$f":"COUNTIF($E$20:$E$108,N195)","v":0},{"$f":"IF(O195=1,1,IF(R195=1,1,0))","v":0},195,{"$f":"COUNTIF($K$20:$K$108,N195)","v":0}]
[null,"Lot177",{"$nulls":4},{"$f":"IF(E196=\"\",\"\",IF(VLOOKUP(E196,eleves!$B$3:$E$502,2)=\"\",\"\",VLOOKUP(E196,eleves!$B$3:$E$502,2)))","v":""},{"$nulls":6},196,{"$f":"COUNTIF($E$20:$E$108,N196)","v":0},{"$f":"IF(O196=1,1,IF(R196=1,1,0))","v":0},196,{"$f":"COUNTIF($K$20:$K$108,N196)","v":0}]
[null,"Lot178",{"$nulls":4},{"$f":"IF(E197=\"\",\"\",IF(VLOOKUP(E197,eleves!$B$3:$E$502,2)=\"\",\"\",VLOOKUP(E197,eleves!$B$3:$E$502,2)))","v":""},{"$nulls":6},197,{"$f":"COUNTIF($E$20:$E$108,N197)","v":0},{"$f":"IF(O197=1,1,IF(R197=1,1,0))","v":0},197,{"$f":"COUNTIF($K$20:$K$108,N197)","v":0}]
[null,"Lot179",{"$nulls":4},{"$f":"IF(E198=\"\",\"\",IF(VLOOKUP(E198,eleves!$B$3:$E$502,2)=\"\",\"\",VLOOKUP(E198,eleves!$B$3:$E$502,2)))","v":""},{"$nulls":6},198,{"$f":"COUNTIF($E$20:$E$108,N198)","v":0},{"$f":"IF(O198=1,1,IF(R198=1,1,0))","v":0},198,{"$f":"COUNTIF($K$20:$K$108,N198)","v":0}]
[null,"Lot180",{"$nulls":4},{"$f":"IF(E199=\"\",\"\",IF(VLOOKUP(E199,eleves!$B$3:$E$502,2)=\"\",\"\",VLOOKUP(E199,eleves!$B$3:$E$502,2)))","v":""},{"$nulls":6},199,{"$f":"COUNTIF($E$20:$E$108,N199)","v":0},{"$f":"IF(O199=1,1,IF(R199=1,1,0))","v":0},199,{"$f":"COUNTIF($K$20:$K$108,N199)","v":0}]
[null,"Lot181",{"$nulls":4},{"$f":"IF(E200=\"\",\"\",IF(VLOOKUP(E200,eleves!$B$3:$E$502,2)=\"\",\"\",VLOOKUP(E200,eleves!$B$3:$E$502,2)))","v":""},{"$nulls":6},200,{"$f":"COUNTIF($E$20:$E$108,N200)","v":0},{"$f":"IF(O200=1,1,IF(R200=1,1,0))","v":0},200,{"$f":"COUNTIF($K$20:$K$108,N200)","v":0}]
[null,"Lot182",{"$nulls":4},{"$f":"IF(E201=\"\",\"\",IF(VLOOKUP(E201,eleves!$B$3:$E$502,2)=\"\",\"\",VLOOKUP(E201,eleves!$B$3:$E$502,2)))","v":""},{"$nulls":6},201,{"$f":"COUNTIF($E$20:$E$108,N201)","v":0},{"$f":"IF(O201=1,1,IF(R201=1,1,0))","v":0},201,{"$f":"COUNTIF($K$20:$K$108,N201)","v":0}]
[null,"Lot183",{"$nulls":4},{"$f":"IF(E202=\"\",\"\",IF(VLOOKUP(E202,eleves!$B$3:$E$502,2)=\"\",\"\",VLOOKUP(E202,eleves!$B$3:$E$502,2)))","v":""},{"$nulls":6},202,{"$f":"COUNTIF($E$20:$E$108,N202)","v":0},{"$f":"IF(O202=1,1,IF(R202=1,1,0))","v":0},202,{"$f":"COUNTIF($K$20:$K$108,N202)","v":0}]
[null,"Lot184",{"$nulls":4},{"$f":"IF(E203=\"\",\"\",IF(VLOOKUP(E203,eleves!$B$3:$E$502,2)=\"\",\"\",VLOOKUP(E203,eleves!$B$3:$E$502,2)))","v":""},{"$nulls":6},203,{"$f":"COUNTIF($E$20:$E$108,N203)","v":0},{"$f":"IF(O203=1,1,IF(R203=1,1,0))","v":0},203,{"$f":"COUNTIF($K$20:$K$108,N203)","v":0}]
[null,"Lot185",{"$nulls":4},{"$f":"IF(E204=\"\",\"\",IF(VLOOKUP(E204,eleves!$B$3:$E$502,2)=\"\",\"\",VLOOKUP(E204,eleves!$B$3:$E$502,2)))","v":""},{"$nulls":6},204,{"$f":"COUNTIF($E$20:$E$108,N204)","v":0},{"$f":"IF(O204=1,1,IF(R204=1,1,0))","v":0},204,{"$f":"COUNTIF($K$20:$K$108,N204)","v":0}]
[null,"Lot186",{"$nulls":4},{"$f":"IF(E205=\"\",\"\",IF(VLOOKUP(E205,eleves!$B$3:$E$502,2)=\"\",\"\",VLOOKUP(E205,eleves!$B$3:$E$502,2)))","v":""},{"$nulls":6},205,{"$f":"COUNTIF($E$20:$E$108,N205)","v":0},{"$f":"IF(O205=1,1,IF(R205=1,1,0))","v":0},205,{"$f":"COUNTIF($K$20:$K$108,N205)","v":0}]
[null,"Lot187",{"$nulls":4},{"$f":"IF(E206=\"\",\"\",IF(VLOOKUP(E206,eleves!$B$3:$E$502,2)=\"\",\"\",VLOOKUP(E206,eleves!$B$3:$E$502,2)))","v":""},{"$nulls":6},206,{"$f":"COUNTIF($E$20:$E$108,N206)","v":0},{"$f":"IF(O206=1,1,IF(R206=1,1,0))","v":0},206,{"$f":"COUNTIF($K$20:$K$108,N206)","v":0}]
[null,"Lot188",{"$nulls":4},{"$f":"IF(E207=\"\",\"\",IF(VLOOKUP(E207,eleves!$B$3:$E$502,2)=\"\",\"\",VLOOKUP(E207,eleves!$B$3:$E$502,2)))","v":""},{"$nulls":6},207,{"$f":"COUNTIF($E$20:$E$108,N207)","v":0},{"$f":"IF(O207=1,1,IF(R207=1,1,0))","v":0},207,{"$f":"COUNTIF($K$20:$K$108,N207)","v":0}]
[null,"Lot189",{"$nulls":4},{"$f":"IF(E208=\"\",\"\",IF(VLOOKUP(E208,eleves!$B$3:$E$502,2)=\"\",\"\",VLOOKUP(E208,eleves!$B$3:$E$502,2)))","v":""},{"$nulls":6},208,{"$f":"COUNTIF($E$20:$E$108,N208)","v":0},{"$f":"IF(O208=1,1,IF(R208=1,1,0))","v":0},208,{"$f":"COUNTIF($K$20:$K$108,N208)","v":0}]
[null,"Lot190",{"$nulls":4},{"$f":"IF(E209=\"\",\"\",IF(VLOOKUP(E209,eleves!$B$3:$E$502,2)=\"\",\"\",VLOOKUP(E209,eleves!$B$3:$E$502,2)))","v":""},{"$nulls":6},209,{"$f":"COUNTIF($E$20:$E$108,N209)","v":0},{"$f":"IF(O209=1,1,IF(R209=1,1,0))","v":0},209,{"$f":"COUNTIF($K$20:$K$108,N209)","v":0}]
[null,"Lot191",{"$nulls":4},{"$f":"IF(E210=\"\",\"\",IF(VLOOKUP(E210,eleves!$B$3:$E$502,2)=\"\",\"\",VLOOKUP(E210,eleves!$B$3:$E$502,2)))","v":""},{"$nulls":6},210,{"$f":"COUNTIF($E$20:$E$108,N210)","v":0},{"$f":"IF(O210=1,1,IF(R210=1,1,0))","v":0},210,{"$f":"COUNTIF($K$20:$K$108,N210)","v":0}]
[null,"Lot192",{"$nulls":4},{"$f":"IF(E211=\"\",\"\",IF(VLOOKUP(E211,eleves!$B$3:$E$502,2)=\"\",\"\",VLOOKUP(E211,eleves!$B$3:$E$502,2)))","v":""},{"$nulls":6},211,{"$f":"COUNTIF($E$20:$E$108,N211)","v":0},{"$f":"IF(O211=1,1,IF(R211=1,1,0))","v":0},211,{"$f":"COUNTIF($K$20:$K$108,N211)","v":0}]
[null,"Lot193",{"$nulls":4},{"$f":"IF(E212=\"\",\"\",IF(VLOOKUP(E212,eleves!$B$3:$E$502,2)=\"\",\"\",VLOOKUP(E212,eleves!$B$3:$E$502,2)))","v":""},{"$nulls":6},212,{"$f":"COUNTIF($E$20:$E$108,N212)","v":0},{"$f":"IF(O212=1,1,IF(R212=1,1,0))","v":0},212,{"$f":"COUNTIF($K$20:$K$108,N212)","v":0}]
[null,"Lot194",{"$nulls":4},{"$f":"IF(E213=\"\",\"\",IF(VLOOKUP(E213,eleves!$B$3:$E$502,2)=\"\",\"\",VLOOKUP(E213,eleves!$B$3:$E$502,2)))","v":""},{"$nulls":6},213,{"$f":"COUNTIF($E$20:$E$108,N213)","v":0},{"$f":"IF(O213=1,1,IF(R213=1,1,0))","v":0},213,{"$f":"COUNTIF($K$20:$K$108,N213)","v":0}]
[null,"Lot195",{"$nulls":4},{"$f":"IF(E214=\"\",\"\",IF(VLOOKUP(E214,eleves!$B$3:$E$502,2)=\"\",\"\",VLOOKUP(E214,eleves!$B$3:$E$502,2)))","v":""},{"$nulls":6},214,{"$f":"COUNTIF($E$20:$E$108,N214)","v":0},{"$f":"IF(O214=1,1,IF(R214=1,1,0))","v":0},214,{"$f":"COUNTIF($K$20:$K$108,N214)","v":0}]
[null,"Lot196",{"$nulls":4},{"$f":"IF(E215=\"\",\"\",IF(VLOOKUP(E215,eleves!$B$3:$E$502,2)=\"\",\"\",VLOOKUP(E215,eleves!$B$3:$E$502,2)))","v":""},{"$nulls":6},215,{"$f":"COUNTIF($E$20:$E$108,N215)","v":0},{"$f":"IF(O215=1,1,IF(R215=1,1,0))","v":0},215,{"$f":"COUNTIF($K$20:$K$108,N215)","v":0}]
[null,"Lot197",{"$nulls":4},{"$f":"IF(E216=\"\",\"\",IF(VLOOKUP(E216,eleves!$B$3:$E$502,2)=\"\",\"\",VLOOKUP(E216,eleves!$B$3:$E$502,2)))","v":""},{"$nulls":6},216,{"$f":"COUNTIF($E$20:$E$108,N216)","v":0},{"$f":"IF(O216=1,1,IF(R216=1,1,0))","v":0},216,{"$f":"COUNTIF($K$20:$K$108,N216)","v":0}]
[null,"Lot198",{"$nulls":4},{"$f":"IF(E217=\"\",\"\",IF(VLOOKUP(E217,eleves!$B$3:$E$502,2)=\"\",\"\",VLOOKUP(E217,eleves!$B$3:$E$502,2)))","v":""},{"$nulls":6},217,{"$f":"COUNTIF($E$20:$E$108,N217)","v":0},{"$f":"IF(O217=1,1,IF(R217=1,1,0))","v":0},217,{"$f":"COUNTIF($K$20:$K$108,N217)","v":0}]
[null,"Lot199",{"$nulls":4},{"$f":"IF(E218=\"\",\"\",IF(VLOOKUP(E218,eleves!$B$3:$E$502,2)=\"\",\"\",VLOOKUP(E218,eleves!$B$3:$E$502,2)))","v":""},{"$nulls":6},218,{"$f":"COUNTIF($E$20:$E$108,N218)","v":0},{"$f":"IF(O218=1,1,IF(R218=1,1,0))","v":0},218,{"$f":"COUNTIF($K$20:$K$108,N218)","v":0}]
[null,"Lot200",{"$nulls":4},{"$f":"IF(E219=\"\",\"\",IF(VLOOKUP(E219,eleves!$B$3:$E$502,2)=\"\",\"\",VLOOKUP(E219,eleves!$B$3:$E$502,2)))","v":""},{"$nulls":6},219,{"$f":"COUNTIF($E$20:$E$108,N219)","v":0},{"$f":"IF(O219=1,1,IF(R219=1,1,0))","v":0},219,{"$f":"COUNTIF($K$20:$K$108,N219)","v":0}]
[null,"Lot201",{"$nulls":4},{"$f":"IF(E220=\"\",\"\",IF(VLOOKUP(E220,eleves!$B$3:$E$502,2)=\"\",\"\",VLOOKUP(E220,eleves!$B$3:$E$502,2)))","v":""},{"$nulls":6},220,{"$f":"COUNTIF($E$20:$E$108,N220)","v":0},{"$f":"IF(O220=1,1,IF(R220=1,1,0))","v":0},220,{"$f":"COUNTIF($K$20:$K$108,N220)","v":0}]
[null,"Lot202",{"$nulls":4},{"$f":"IF(E221=\"\",\"\",IF(VLOOKUP(E221,eleves!$B$3:$E$502,2)=\"\",\"\",VLOOKUP(E221,eleves!$B$3:$E$502,2)))","v":""},{"$nulls":6},221,{"$f":"COUNTIF($E$20:$E$108,N221)","v":0},{"$f":"IF(O221=1,1,IF(R221=1,1,0))","v":0},221,{"$f":"COUNTIF($K$20:$K$108,N221)","v":0}]
[null,"Lot203",{"$nulls":4},{"$f":"IF(E222=\"\",\"\",IF(VLOOKUP(E222,eleves!$B$3:$E$502,2)=\"\",\"\",VLOOKUP(E222,eleves!$B$3:$E$502,2)))","v":""},{"$nulls":6},222,{"$f":"COUNTIF($E$20:$E$108,N222)","v":0},{"$f":"IF(O222=1,1,IF(R222=1,1,0))","v":0},222,{"$f":"COUNTIF($K$20:$K$108,N222)","v":0}]
[null,"Lot204",{"$nulls":4},{"$f":"IF(E223=\"\",\"\",IF(VLOOKUP(E223,eleves!$B$3:$E$502,2)=\"\",\"\",VLOOKUP(E223,eleves!$B$3:$E$502,2)))","v":""},{"$nulls":6},223,{"$f":"COUNTIF($E$20:$E$108,N223)","v":0},{"$f":"IF(O223=1,1,IF(R223=1,1,0))","v":0},223,{"$f":"COUNTIF($K$20:$K$108,N223)","v":0}]
[null,"Lot205",{"$nulls":4},{"$f":"IF(E224=\"\",\"\",IF(VLOOKUP(E224,eleves!$B$3:$E$502,2)=\"\",\"\",VLOOKUP(E224,eleves!$B$3:$E$502,2)))","v":""},{"$nulls":6},224,{"$f":"COUNTIF($E$20:$E$108,N224)","v":0},{"$f":"IF(O224=1,1,IF(R224=1,1,0))","v":0},224,{"$f":"COUNTIF($K$20:$K$108,N224)","v":0}]
[null,"Lot206",{"$nulls":4},{"$f":"IF(E225=\"\",\"\",IF(VLOOKUP(E225,eleves!$B$3:$E$502,2)=\"\",\"\",VLOOKUP(E225,eleves!$B$3:$E$502,2)))","v":""},{"$nulls":6},225,{"$f":"COUNTIF($E$20:$E$108,N225)","v":0},{"$f":"IF(O225=1,1,IF(R225=1,1,0))","v":0},225,{"$f":"COUNTIF($K$20:$K$108,N225)","v":0}]
[null,"Lot207",{"$nulls":4},{"$f":"IF(E226=\"\",\"\",IF(VLOOKUP(E226,eleves!$B$3:$E$502,2)=\"\",\"\",VLOOKUP(E226,eleves!$B$3:$E$502,2)))","v":""},{"$nulls":6},226,{"$f":"COUNTIF($E$20:$E$108,N226)","v":0},{"$f":"IF(O226=1,1,IF(R226=1,1,0))","v":0},226,{"$f":"COUNTIF($K$20:$K$108,N226)","v":0}]
[null,"Lot208",{"$nulls":4},{"$f":"IF(E227=\"\",\"\",IF(VLOOKUP(E227,eleves!$B$3:$E$502,2)=\"\",\"\",VLOOKUP(E227,eleves!$B$3:$E$502,2)))","v":""},{"$nulls":6},227,{"$f":"COUNTIF($E$20:$E$108,N227)","v":0},{"$f":"IF(O227=1,1,IF(R227=1,1,0))","v":0},227,{"$f":"COUNTIF($K$20:$K$108,N227)","v":0}]
[null,"Lot209",{"$nulls":4},{"$f":"IF(E228=\"\",\"\",IF(VLOOKUP(E228,eleves!$B$3:$E$502,2)=\"\",\"\",VLOOKUP(E228,eleves!$B$3:$E$502,2)))","v":""},{"$nulls":6},228,{"$f":"COUNTIF($E$20:$E$108,N228)","v":0},{"$f":"IF(O228=1,1,IF(R228=1,1,0))","v":0},228,{"$f":"COUNTIF($K$20:$K$108,N228)","v":0}]
[null,"Lot210",{"$nulls":4},{"$f":"IF(E229=\"\",\"\",IF(VLOOKUP(E229,eleves!$B$3:$E$502,2)=\"\",\"\",VLOOKUP(E229,eleves!$B$3:$E$502,2)))","v":""},{"$nulls":6},229,{"$f":"COUNTIF($E$20:$E$108,N229)","v":0},{"$f":"IF(O229=1,1,IF(R229=1,1,0))","v":0},229,{"$f":"COUNTIF($K$20:$K$108,N229)","v":0}]
[null,"Lot211",{"$nulls":4},{"$f":"IF(E230=\"\",\"\",IF(VLOOKUP(E230,eleves!$B$3:$E$502,2)=\"\",\"\",VLOOKUP(E230,eleves!$B$3:$E$502,2)))","v":""},{"$nulls":6},230,{"$f":"COUNTIF($E$20:$E$108,N230)","v":0},{"$f":"IF(O230=1,1,IF(R230=1,1,0))","v":0},230,{"$f":"COUNTIF($K$20:$K$108,N230)","v":0}]
[null,"Lot212",{"$nulls":4},{"$f":"IF(E231=\"\",\"\",IF(VLOOKUP(E231,eleves!$B$3:$E$502,2)=\"\",\"\",VLOOKUP(E231,eleves!$B$3:$E$502,2)))","v":""},{"$nulls":6},231,{"$f":"COUNTIF($E$20:$E$108,N231)","v":0},{"$f":"IF(O231=1,1,IF(R231=1,1,0))","v":0},231,{"$f":"COUNTIF($K$20:$K$108,N231)","v":0}]
[null,"Lot213",{"$nulls":4},{"$f":"IF(E232=\"\",\"\",IF(VLOOKUP(E232,eleves!$B$3:$E$502,2)=\"\",\"\",VLOOKUP(E232,eleves!$B$3:$E$502,2)))","v":""},{"$nulls":6},232,{"$f":"COUNTIF($E$20:$E$108,N232)","v":0},{"$f":"IF(O232=1,1,IF(R232=1,1,0))","v":0},232,{"$f":"COUNTIF($K$20:$K$108,N232)","v":0}]
[null,"Lot214",{"$nulls":4},{"$f":"IF(E233=\"\",\"\",IF(VLOOKUP(E233,eleves!$B$3:$E$502,2)=\"\",\"\",VLOOKUP(E233,eleves!$B$3:$E$502,2)))","v":""},{"$nulls":6},233,{"$f":"COUNTIF($E$20:$E$108,N233)","v":0},{"$f":"IF(O233=1,1,IF(R233=1,1,0))","v":0},233,{"$f":"COUNTIF($K$20:$K$108,N233)","v":0}]
[null,"Lot215",{"$nulls":4},{"$f":"IF(E234=\"\",\"\",IF(VLOOKUP(E234,eleves!$B$3:$E$502,2)=\"\",\"\",VLOOKUP(E234,eleves!$B$3:$E$502,2)))","v":""},{"$nulls":6},234,{"$f":"COUNTIF($E$20:$E$108,N234)","v":0},{"$f":"IF(O234=1,1,IF(R234=1,1,0))","v":0},234,{"$f":"COUNTIF($K$20:$K$108,N234)","v":0}]
[null,"Lot216",{"$nulls":4},{"$f":"IF(E235=\"\",\"\",IF(VLOOKUP(E235,eleves!$B$3:$E$502,2)=\"\",\"\",VLOOKUP(E235,eleves!$B$3:$E$502,2)))","v":""},{"$nulls":6},235,{"$f":"COUNTIF($E$20:$E$108,N235)","v":0},{"$f":"IF(O235=1,1,IF(R235=1,1,0))","v":0},235,{"$f":"COUNTIF($K$20:$K$108,N235)","v":0}]
[null,"Lot217",{"$nulls":4},{"$f":"IF(E236=\"\",\"\",IF(VLOOKUP(E236,eleves!$B$3:$E$502,2)=\"\",\"\",VLOOKUP(E236,eleves!$B$3:$E$502,2)))","v":""},{"$nulls":6},236,{"$f":"COUNTIF($E$20:$E$108,N236)","v":0},{"$f":"IF(O236=1,1,IF(R236=1,1,0))","v":0},236,{"$f":"COUNTIF($K$20:$K$108,N236)","v":0}]
[null,"Lot218",{"$nulls":4},{"$f":"IF(E237=\"\",\"\",IF(VLOOKUP(E237,eleves!$B$3:$E$502,2)=\"\",\"\",VLOOKUP(E237,eleves!$B$3:$E$502,2)))","v":""},{"$nulls":6},237,{"$f":"COUNTIF($E$20:$E$108,N237)","v":0},{"$f":"IF(O237=1,1,IF(R237=1,1,0))","v":0},237,{"$f":"COUNTIF($K$20:$K$108,N237)","v":0}]
[null,"Lot219",{"$nulls":4},{"$f":"IF(E238=\"\",\"\",IF(VLOOKUP(E238,eleves!$B$3:$E$502,2)=\"\",\"\",VLOOKUP(E238,eleves!$B$3:$E$502,2)))","v":""},{"$nulls":6},238,{"$f":"COUNTIF($E$20:$E$108,N238)","v":0},{"$f":"IF(O238=1,1,IF(R238=1,1,0))","v":0},238,{"$f":"COUNTIF($K$20:$K$108,N238)","v":0}]
[null,"Lot220",{"$nulls":4},{"$f":"IF(E239=\"\",\"\",IF(VLOOKUP(E239,eleves!$B$3:$E$502,2)=\"\",\"\",VLOOKUP(E239,eleves!$B$3:$E$502,2)))","v":""},{"$nulls":6},239,{"$f":"COUNTIF($E$20:$E$108,N239)","v":0},{"$f":"IF(O239=1,1,IF(R239=1,1,0))","v":0},239,{"$f":"COUNTIF($K$20:$K$108,N239)","v":0}]
[null,"Lot221",{"$nulls":4},{"$f":"IF(E240=\"\",\"\",IF(VLOOKUP(E240,eleves!$B$3:$E$502,2)=\"\",\"\",VLOOKUP(E240,eleves!$B$3:$E$502,2)))","v":""},{"$nulls":6},240,{"$f":"COUNTIF($E$20:$E$108,N240)","v":0},{"$f":"IF(O240=1,1,IF(R240=1,1,0))","v":0},240,{"$f":"COUNTIF($K$20:$K$108,N240)","v":0}]
[null,"Lot222",{"$nulls":4},{"$f":"IF(E241=\"\",\"\",IF(VLOOKUP(E241,eleves!$B$3:$E$502,2)=\"\",\"\",VLOOKUP(E241,eleves!$B$3:$E$502,2)))","v":""},{"$nulls":6},241,{"$f":"COUNTIF($E$20:$E$108,N241)","v":0},{"$f":"IF(O241=1,1,IF(R241=1,1,0))","v":0},241,{"$f":"COUNTIF($K$20:$K$108,N241)","v":0}]
[null,"Lot223",{"$nulls":4},{"$f":"IF(E242=\"\",\"\",IF(VLOOKUP(E242,eleves!$B$3:$E$502,2)=\"\",\"\",VLOOKUP(E242,eleves!$B$3:$E$502,2)))","v":""},{"$nulls":6},242,{"$f":"COUNTIF($E$20:$E$108,N242)","v":0},{"$f":"IF(O242=1,1,IF(R242=1,1,0))","v":0},242,{"$f":"COUNTIF($K$20:$K$108,N242)","v":0}]
[null,"Lot224",{"$nulls":4},{"$f":"IF(E243=\"\",\"\",IF(VLOOKUP(E243,eleves!$B$3:$E$502,2)=\"\",\"\",VLOOKUP(E243,eleves!$B$3:$E$502,2)))","v":""},{"$nulls":6},243,{"$f":"COUNTIF($E$20:$E$108,N243)","v":0},{"$f":"IF(O243=1,1,IF(R243=1,1,0))","v":0},243,{"$f":"COUNTIF($K$20:$K$108,N243)","v":0}]
[null,"Lot225",{"$nulls":4},{"$f":"IF(E244=\"\",\"\",IF(VLOOKUP(E244,eleves!$B$3:$E$502,2)=\"\",\"\",VLOOKUP(E244,eleves!$B$3:$E$502,2)))","v":""},{"$nulls":6},244,{"$f":"COUNTIF($E$20:$E$108,N244)","v":0},{"$f":"IF(O244=1,1,IF(R244=1,1,0))","v":0},244,{"$f":"COUNTIF($K$20:$K$108,N244)","v":0}]
[null,"Lot226",{"$nulls":4},{"$f":"IF(E245=\"\",\"\",IF(VLOOKUP(E245,eleves!$B$3:$E$502,2)=\"\",\"\",VLOOKUP(E245,eleves!$B$3:$E$502,2)))","v":""},{"$nulls":6},245,{"$f":"COUNTIF($E$20:$E$108,N245)","v":0},{"$f":"IF(O245=1,1,IF(R245=1,1,0))","v":0},245,{"$f":"COUNTIF($K$20:$K$108,N245)","v":0}]
[null,"Lot227",{"$nulls":4},{"$f":"IF(E246=\"\",\"\",IF(VLOOKUP(E246,eleves!$B$3:$E$502,2)=\"\",\"\",VLOOKUP(E246,eleves!$B$3:$E$502,2)))","v":""},{"$nulls":6},246,{"$f":"COUNTIF($E$20:$E$108,N246)","v":0},{"$f":"IF(O246=1,1,IF(R246=1,1,0))","v":0},246,{"$f":"COUNTIF($K$20:$K$108,N246)","v":0}]
[null,"Lot228",{"$nulls":4},{"$f":"IF(E247=\"\",\"\",IF(VLOOKUP(E247,eleves!$B$3:$E$502,2)=\"\",\"\",VLOOKUP(E247,eleves!$B$3:$E$502,2)))","v":""},{"$nulls":6},247,{"$f":"COUNTIF($E$20:$E$108,N247)","v":0},{"$f":"IF(O247=1,1,IF(R247=1,1,0))","v":0},247,{"$f":"COUNTIF($K$20:$K$108,N247)","v":0}]
[null,"Lot229",{"$nulls":4},{"$f":"IF(E248=\"\",\"\",IF(VLOOKUP(E248,eleves!$B$3:$E$502,2)=\"\",\"\",VLOOKUP(E248,eleves!$B$3:$E$502,2)))","v":""},{"$nulls":6},248,{"$f":"COUNTIF($E$20:$E$108,N248)","v":0},{"$f":"IF(O248=1,1,IF(R248=1,1,0))","v":0},248,{"$f":"COUNTIF($K$20:$K$108,N248)","v":0}]
[null,"Lot230",{"$nulls":4},{"$f":"IF(E249=\"\",\"\",IF(VLOOKUP(E249,eleves!$B$3:$E$502,2)=\"\",\"\",VLOOKUP(E249,eleves!$B$3:$E$502,2)))","v":""},{"$nulls":6},249,{"$f":"COUNTIF($E$20:$E$108,N249)","v":0},{"$f":"IF(O249=1,1,IF(R249=1,1,0))","v":0},249,{"$f":"COUNTIF($K$20:$K$108,N249)","v":0}]
[null,"Lot231",{"$nulls":4},{"$f":"IF(E250=\"\",\"\",IF(VLOOKUP(E250,eleves!$B$3:$E$502,2)=\"\",\"\",VLOOKUP(E250,eleves!$B$3:$E$502,2)))","v":""},{"$nulls":6},250,{"$f":"COUNTIF($E$20:$E$108,N250)","v":0},{"$f":"IF(O250=1,1,IF(R250=1,1,0))","v":0},250,{"$f":"COUNTIF($K$20:$K$108,N250)","v":0}]
[null,"Lot232",{"$nulls":4},{"$f":"IF(E251=\"\",\"\",IF(VLOOKUP(E251,eleves!$B$3:$E$502,2)=\"\",\"\",VLOOKUP(E251,eleves!$B$3:$E$502,2)))","v":""},{"$nulls":6},251,{"$f":"COUNTIF($E$20:$E$108,N251)","v":0},{"$f":"IF(O251=1,1,IF(R251=1,1,0))","v":0},251,{"$f":"COUNTIF($K$20:$K$108,N251)","v":0}]
[null,"Lot233",{"$nulls":4},{"$f":"IF(E252=\"\",\"\",IF(VLOOKUP(E252,eleves!$B$3:$E$502,2)=\"\",\"\",VLOOKUP(E252,eleves!$B$3:$E$502,2)))","v":""},{"$nulls":6},252,{"$f":"COUNTIF($E$20:$E$108,N252)","v":0},{"$f":"IF(O252=1,1,IF(R252=1,1,0))","v":0},252,{"$f":"COUNTIF($K$20:$K$108,N252)","v":0}]
[null,"Lot234",{"$nulls":4},{"$f":"IF(E253=\"\",\"\",IF(VLOOKUP(E253,eleves!$B$3:$E$502,2)=\"\",\"\",VLOOKUP(E253,eleves!$B$3:$E$502,2)))","v":""},{"$nulls":6},253,{"$f":"COUNTIF($E$20:$E$108,N253)","v":0},{"$f":"IF(O253=1,1,IF(R253=1,1,0))","v":0},253,{"$f":"COUNTIF($K$20:$K$108,N253)","v":0}]
[null,"Lot235",{"$nulls":4},{"$f":"IF(E254=\"\",\"\",IF(VLOOKUP(E254,eleves!$B$3:$E$502,2)=\"\",\"\",VLOOKUP(E254,eleves!$B$3:$E$502,2)))","v":""},{"$nulls":6},254,{"$f":"COUNTIF($E$20:$E$108,N254)","v":0},{"$f":"IF(O254=1,1,IF(R254=1,1,0))","v":0},254,{"$f":"COUNTIF($K$20:$K$108,N254)","v":0}]
[null,"Lot236",{"$nulls":4},{"$f":"IF(E255=\"\",\"\",IF(VLOOKUP(E255,eleves!$B$3:$E$502,2)=\"\",\"\",VLOOKUP(E255,eleves!$B$3:$E$502,2)))","v":""},{"$nulls":6},255,{"$f":"COUNTIF($E$20:$E$108,N255)","v":0},{"$f":"IF(O255=1,1,IF(R255=1,1,0))","v":0},255,{"$f":"COUNTIF($K$20:$K$108,N255)","v":0}]
[null,"Lot237",{"$nulls":4},{"$f":"IF(E256=\"\",\"\",IF(VLOOKUP(E256,eleves!$B$3:$E$502,2)=\"\",\"\",VLOOKUP(E256,eleves!$B$3:$E$502,2)))","v":""},{"$nulls":6},256,{"$f":"COUNTIF($E$20:$E$108,N256)","v":0},{"$f":"IF(O256=1,1,IF(R256=1,1,0))","v":0},256,{"$f":"COUNTIF($K$20:$K$108,N256)","v":0}]
[null,"Lot238",{"$nulls":4},{"$f":"IF(E257=\"\",\"\",IF(VLOOKUP(E257,eleves!$B$3:$E$502,2)=\"\",\"\",VLOOKUP(E257,eleves!$B$3:$E$502,2)))","v":""},{"$nulls":6},257,{"$f":"COUNTIF($E$20:$E$108,N257)","v":0},{"$f":"IF(O257=1,1,IF(R257=1,1,0))","v":0},257,{"$f":"COUNTIF($K$20:$K$108,N257)","v":0}]
[null,"Lot239",{"$nulls":4},{"$f":"IF(E258=\"\",\"\",IF(VLOOKUP(E258,eleves!$B$3:$E$502,2)=\"\",\"\",VLOOKUP(E258,eleves!$B$3:$E$502,2)))","v":""},{"$nulls":6},258,{"$f":"COUNTIF($E$20:$E$108,N258)","v":0},{"$f":"IF(O258=1,1,IF(R258=1,1,0))","v":0},258,{"$f":"COUNTIF($K$20:$K$108,N258)","v":0}]
[null,"Lot240",{"$nulls":4},{"$f":"IF(E259=\"\",\"\",IF(VLOOKUP(E259,eleves!$B$3:$E$502,2)=\"\",\"\",VLOOKUP(E259,eleves!$B$3:$E$502,2)))","v":""},{"$nulls":6},259,{"$f":"COUNTIF($E$20:$E$108,N259)","v":0},{"$f":"IF(O259=1,1,IF(R259=1,1,0))","v":0},259,{"$f":"COUNTIF($K$20:$K$108,N259)","v":0}]
[null,"Lot241",{"$nulls":4},{"$f":"IF(E260=\"\",\"\",IF(VLOOKUP(E260,eleves!$B$3:$E$502,2)=\"\",\"\",VLOOKUP(E260,eleves!$B$3:$E$502,2)))","v":""},{"$nulls":6},260,{"$f":"COUNTIF($E$20:$E$108,N260)","v":0},{"$f":"IF(O260=1,1,IF(R260=1,1,0))","v":0},260,{"$f":"COUNTIF($K$20:$K$108,N260)","v":0}]
[null,"Lot242",{"$nulls":4},{"$f":"IF(E261=\"\",\"\",IF(VLOOKUP(E261,eleves!$B$3:$E$502,2)=\"\",\"\",VLOOKUP(E261,eleves!$B$3:$E$502,2)))","v":""},{"$nulls":6},261,{"$f":"COUNTIF($E$20:$E$108,N261)","v":0},{"$f":"IF(O261=1,1,IF(R261=1,1,0))","v":0},261,{"$f":"COUNTIF($K$20:$K$108,N261)","v":0}]
[null,"Lot243",{"$nulls":4},{"$f":"IF(E262=\"\",\"\",IF(VLOOKUP(E262,eleves!$B$3:$E$502,2)=\"\",\"\",VLOOKUP(E262,eleves!$B$3:$E$502,2)))","v":""},{"$nulls":6},262,{"$f":"COUNTIF($E$20:$E$108,N262)","v":0},{"$f":"IF(O262=1,1,IF(R262=1,1,0))","v":0},262,{"$f":"COUNTIF($K$20:$K$108,N262)","v":0}]
[null,"Lot244",{"$nulls":4},{"$f":"IF(E263=\"\",\"\",IF(VLOOKUP(E263,eleves!$B$3:$E$502,2)=\"\",\"\",VLOOKUP(E263,eleves!$B$3:$E$502,2)))","v":""},{"$nulls":6},263,{"$f":"COUNTIF($E$20:$E$108,N263)","v":0},{"$f":"IF(O263=1,1,IF(R263=1,1,0))","v":0},263,{"$f":"COUNTIF($K$20:$K$108,N263)","v":0}]
[null,"Lot245",{"$nulls":4},{"$f":"IF(E264=\"\",\"\",IF(VLOOKUP(E264,eleves!$B$3:$E$502,2)=\"\",\"\",VLOOKUP(E264,eleves!$B$3:$E$502,2)))","v":""},{"$nulls":6},264,{"$f":"COUNTIF($E$20:$E$108,N264)","v":0},{"$f":"IF(O264=1,1,IF(R264=1,1,0))","v":0},264,{"$f":"COUNTIF($K$20:$K$108,N264)","v":0}]
[null,"Lot246",{"$nulls":4},{"$f":"IF(E265=\"\",\"\",IF(VLOOKUP(E265,eleves!$B$3:$E$502,2)=\"\",\"\",VLOOKUP(E265,eleves!$B$3:$E$502,2)))","v":""},{"$nulls":6},265,{"$f":"COUNTIF($E$20:$E$108,N265)","v":0},{"$f":"IF(O265=1,1,IF(R265=1,1,0))","v":0},265,{"$f":"COUNTIF($K$20:$K$108,N265)","v":0}]
[null,"Lot247",{"$nulls":4},{"$f":"IF(E266=\"\",\"\",IF(VLOOKUP(E266,eleves!$B$3:$E$502,2)=\"\",\"\",VLOOKUP(E266,eleves!$B$3:$E$502,2)))","v":""},{"$nulls":6},266,{"$f":"COUNTIF($E$20:$E$108,N266)","v":0},{"$f":"IF(O266=1,1,IF(R266=1,1,0))","v":0},266,{"$f":"COUNTIF($K$20:$K$108,N266)","v":0}]
[null,"Lot248",{"$nulls":4},{"$f":"IF(E267=\"\",\"\",IF(VLOOKUP(E267,eleves!$B$3:$E$502,2)=\"\",\"\",VLOOKUP(E267,eleves!$B$3:$E$502,2)))","v":""},{"$nulls":6},267,{"$f":"COUNTIF($E$20:$E$108,N267)","v":0},{"$f":"IF(O267=1,1,IF(R267=1,1,0))","v":0},267,{"$f":"COUNTIF($K$20:$K$108,N267)","v":0}]
[null,"Lot249",{"$nulls":4},{"$f":"IF(E268=\"\",\"\",IF(VLOOKUP(E268,eleves!$B$3:$E$502,2)=\"\",\"\",VLOOKUP(E268,eleves!$B$3:$E$502,2)))","v":""},{"$nulls":6},268,{"$f":"COUNTIF($E$20:$E$108,N268)","v":0},{"$f":"IF(O268=1,1,IF(R268=1,1,0))","v":0},268,{"$f":"COUNTIF($K$20:$K$108,N268)","v":0}]
[null,"Lot250",{"$nulls":4},{"$f":"IF(E269=\"\",\"\",IF(VLOOKUP(E269,eleves!$B$3:$E$502,2)=\"\",\"\",VLOOKUP(E269,eleves!$B$3:$E$502,2)))","v":""},{"$nulls":6},269,{"$f":"COUNTIF($E$20:$E$108,N269)","v":0},{"$f":"IF(O269=1,1,IF(R269=1,1,0))","v":0},269,{"$f":"COUNTIF($K$20:$K$108,N269)","v":0}]
[null,"Lot251",{"$nulls":4},{"$f":"IF(E270=\"\",\"\",IF(VLOOKUP(E270,eleves!$B$3:$E$502,2)=\"\",\"\",VLOOKUP(E270,eleves!$B$3:$E$502,2)))","v":""},{"$nulls":6},270,{"$f":"COUNTIF($E$20:$E$108,N270)","v":0},{"$f":"IF(O270=1,1,IF(R270=1,1,0))","v":0},270,{"$f":"COUNTIF($K$20:$K$108,N270)","v":0}]
[null,"Lot252",{"$nulls":4},{"$f":"IF(E271=\"\",\"\",IF(VLOOKUP(E271,eleves!$B$3:$E$502,2)=\"\",\"\",VLOOKUP(E271,eleves!$B$3:$E$502,2)))","v":""},{"$nulls":6},271,{"$f":"COUNTIF($E$20:$E$108,N271)","v":0},{"$f":"IF(O271=1,1,IF(R271=1,1,0))","v":0},271,{"$f":"COUNTIF($K$20:$K$108,N271)","v":0}]
[null,"Lot253",{"$nulls":4},{"$f":"IF(E272=\"\",\"\",IF(VLOOKUP(E272,eleves!$B$3:$E$502,2)=\"\",\"\",VLOOKUP(E272,eleves!$B$3:$E$502,2)))","v":""},{"$nulls":6},272,{"$f":"COUNTIF($E$20:$E$108,N272)","v":0},{"$f":"IF(O272=1,1,IF(R272=1,1,0))","v":0},272,{"$f":"COUNTIF($K$20:$K$108,N272)","v":0}]
[null,"Lot254",{"$nulls":4},{"$f":"IF(E273=\"\",\"\",IF(VLOOKUP(E273,eleves!$B$3:$E$502,2)=\"\",\"\",VLOOKUP(E273,eleves!$B$3:$E$502,2)))","v":""},{"$nulls":6},273,{"$f":"COUNTIF($E$20:$E$108,N273)","v":0},{"$f":"IF(O273=1,1,IF(R273=1,1,0))","v":0},273,{"$f":"COUNTIF($K$20:$K$108,N273)","v":0}]
[null,"Lot255",{"$nulls":4},{"$f":"IF(E274=\"\",\"\",IF(VLOOKUP(E274,eleves!$B$3:$E$502,2)=\"\",\"\",VLOOKUP(E274,eleves!$B$3:$E$502,2)))","v":""},{"$nulls":6},274,{"$f":"COUNTIF($E$20:$E$108,N274)","v":0},{"$f":"IF(O274=1,1,IF(R274=1,1,0))","v":0},274,{"$f":"COUNTIF($K$20:$K$108,N274)","v":0}]
[null,"Lot256",{"$nulls":4},{"$f":"IF(E275=\"\",\"\",IF(VLOOKUP(E275,eleves!$B$3:$E$502,2)=\"\",\"\",VLOOKUP(E275,eleves!$B$3:$E$502,2)))","v":""},{"$nulls":6},275,{"$f":"COUNTIF($E$20:$E$108,N275)","v":0},{"$f":"IF(O275=1,1,IF(R275=1,1,0))","v":0},275,{"$f":"COUNTIF($K$20:$K$108,N275)","v":0}]
[null,"Lot257",{"$nulls":4},{"$f":"IF(E276=\"\",\"\",IF(VLOOKUP(E276,eleves!$B$3:$E$502,2)=\"\",\"\",VLOOKUP(E276,eleves!$B$3:$E$502,2)))","v":""},{"$nulls":6},276,{"$f":"COUNTIF($E$20:$E$108,N276)","v":0},{"$f":"IF(O276=1,1,IF(R276=1,1,0))","v":0},276,{"$f":"COUNTIF($K$20:$K$108,N276)","v":0}]
[null,"Lot258",{"$nulls":4},{"$f":"IF(E277=\"\",\"\",IF(VLOOKUP(E277,eleves!$B$3:$E$502,2)=\"\",\"\",VLOOKUP(E277,eleves!$B$3:$E$502,2)))","v":""},{"$nulls":6},277,{"$f":"COUNTIF($E$20:$E$108,N277)","v":0},{"$f":"IF(O277=1,1,IF(R277=1,1,0))","v":0},277,{"$f":"COUNTIF($K$20:$K$108,N277)","v":0}]
[null,"Lot259",{"$nulls":4},{"$f":"IF(E278=\"\",\"\",IF(VLOOKUP(E278,eleves!$B$3:$E$502,2)=\"\",\"\",VLOOKUP(E278,eleves!$B$3:$E$502,2)))","v":""},{"$nulls":6},278,{"$f":"COUNTIF($E$20:$E$108,N278)","v":0},{"$f":"IF(O278=1,1,IF(R278=1,1,0))","v":0},278,{"$f":"COUNTIF($K$20:$K$108,N278)","v":0}]
[null,"Lot260",{"$nulls":4},{"$f":"IF(E279=\"\",\"\",IF(VLOOKUP(E279,eleves!$B$3:$E$502,2)=\"\",\"\",VLOOKUP(E279,eleves!$B$3:$E$502,2)))","v":""},{"$nulls":6},279,{"$f":"COUNTIF($E$20:$E$108,N279)","v":0},{"$f":"IF(O279=1,1,IF(R279=1,1,0))","v":0},279,{"$f":"COUNTIF($K$20:$K$108,N279)","v":0}]
[null,"Lot261",{"$nulls":4},{"$f":"IF(E280=\"\",\"\",IF(VLOOKUP(E280,eleves!$B$3:$E$502,2)=\"\",\"\",VLOOKUP(E280,eleves!$B$3:$E$502,2)))","v":""},{"$nulls":6},280,{"$f":"COUNTIF($E$20:$E$108,N280)","v":0},{"$f":"IF(O280=1,1,IF(R280=1,1,0))","v":0},280,{"$f":"COUNTIF($K$20:$K$108,N280)","v":0}]
[null,"Lot262",{"$nulls":4},{"$f":"IF(E281=\"\",\"\",IF(VLOOKUP(E281,eleves!$B$3:$E$502,2)=\"\",\"\",VLOOKUP(E281,eleves!$B$3:$E$502,2)))","v":""},{"$nulls":6},281,{"$f":"COUNTIF($E$20:$E$108,N281)","v":0},{"$f":"IF(O281=1,1,IF(R281=1,1,0))","v":0},281,{"$f":"COUNTIF($K$20:$K$108,N281)","v":0}]
[null,"Lot263",{"$nulls":4},{"$f":"IF(E282=\"\",\"\",IF(VLOOKUP(E282,eleves!$B$3:$E$502,2)=\"\",\"\",VLOOKUP(E282,eleves!$B$3:$E$502,2)))","v":""},{"$nulls":6},282,{"$f":"COUNTIF($E$20:$E$108,N282)","v":0},{"$f":"IF(O282=1,1,IF(R282=1,1,0))","v":0},282,{"$f":"COUNTIF($K$20:$K$108,N282)","v":0}]
[null,"Lot264",{"$nulls":4},{"$f":"IF(E283=\"\",\"\",IF(VLOOKUP(E283,eleves!$B$3:$E$502,2)=\"\",\"\",VLOOKUP(E283,eleves!$B$3:$E$502,2)))","v":""},{"$nulls":6},283,{"$f":"COUNTIF($E$20:$E$108,N283)","v":0},{"$f":"IF(O283=1,1,IF(R283=1,1,0))","v":0},283,{"$f":"COUNTIF($K$20:$K$108,N283)","v":0}]
[null,"Lot265",{"$nulls":4},{"$f":"IF(E284=\"\",\"\",IF(VLOOKUP(E284,eleves!$B$3:$E$502,2)=\"\",\"\",VLOOKUP(E284,eleves!$B$3:$E$502,2)))","v":""},{"$nulls":6},284,{"$f":"COUNTIF($E$20:$E$108,N284)","v":0},{"$f":"IF(O284=1,1,IF(R284=1,1,0))","v":0},284,{"$f":"COUNTIF($K$20:$K$108,N284)","v":0}]
[null,"Lot266",{"$nulls":4},{"$f":"IF(E285=\"\",\"\",IF(VLOOKUP(E285,eleves!$B$3:$E$502,2)=\"\",\"\",VLOOKUP(E285,eleves!$B$3:$E$502,2)))","v":""},{"$nulls":6},285,{"$f":"COUNTIF($E$20:$E$108,N285)","v":0},{"$f":"IF(O285=1,1,IF(R285=1,1,0))","v":0},285,{"$f":"COUNTIF($K$20:$K$108,N285)","v":0}]
[null,"Lot267",{"$nulls":4},{"$f":"IF(E286=\"\",\"\",IF(VLOOKUP(E286,eleves!$B$3:$E$502,2)=\"\",\"\",VLOOKUP(E286,eleves!$B$3:$E$502,2)))","v":""},{"$nulls":6},286,{"$f":"COUNTIF($E$20:$E$108,N286)","v":0},{"$f":"IF(O286=1,1,IF(R286=1,1,0))","v":0},286,{"$f":"COUNTIF($K$20:$K$108,N286)","v":0}]
[null,"Lot268",{"$nulls":4},{"$f":"IF(E287=\"\",\"\",IF(VLOOKUP(E287,eleves!$B$3:$E$502,2)=\"\",\"\",VLOOKUP(E287,eleves!$B$3:$E$502,2)))","v":""},{"$nulls":6},287,{"$f":"COUNTIF($E$20:$E$108,N287)","v":0},{"$f":"IF(O287=1,1,IF(R287=1,1,0))","v":0},287,{"$f":"COUNTIF($K$20:$K$108,N287)","v":0}]
[null,"Lot269",{"$nulls":4},{"$f":"IF(E288=\"\",\"\",IF(VLOOKUP(E288,eleves!$B$3:$E$502,2)=\"\",\"\",VLOOKUP(E288,eleves!$B$3:$E$502,2)))","v":""},{"$nulls":6},288,{"$f":"COUNTIF($E$20:$E$108,N288)","v":0},{"$f":"IF(O288=1,1,IF(R288=1,1,0))","v":0},288,{"$f":"COUNTIF($K$20:$K$108,N288)","v":0}]
[null,"Lot270",{"$nulls":4},{"$f":"IF(E289=\"\",\"\",IF(VLOOKUP(E289,eleves!$B$3:$E$502,2)=\"\",\"\",VLOOKUP(E289,eleves!$B$3:$E$502,2)))","v":""},{"$nulls":6},289,{"$f":"COUNTIF($E$20:$E$108,N289)","v":0},{"$f":"IF(O289=1,1,IF(R289=1,1,0))","v":0},289,{"$f":"COUNTIF($K$20:$K$108,N289)","v":0}]
[null,"Lot271",{"$nulls":4},{"$f":"IF(E290=\"\",\"\",IF(VLOOKUP(E290,eleves!$B$3:$E$502,2)=\"\",\"\",VLOOKUP(E290,eleves!$B$3:$E$502,2)))","v":""},{"$nulls":6},290,{"$f":"COUNTIF($E$20:$E$108,N290)","v":0},{"$f":"IF(O290=1,1,IF(R290=1,1,0))","v":0},290,{"$f":"COUNTIF($K$20:$K$108,N290)","v":0}]
[null,"Lot272",{"$nulls":4},{"$f":"IF(E291=\"\",\"\",IF(VLOOKUP(E291,eleves!$B$3:$E$502,2)=\"\",\"\",VLOOKUP(E291,eleves!$B$3:$E$502,2)))","v":""},{"$nulls":6},291,{"$f":"COUNTIF($E$20:$E$108,N291)","v":0},{"$f":"IF(O291=1,1,IF(R291=1,1,0))","v":0},291,{"$f":"COUNTIF($K$20:$K$108,N291)","v":0}]
[null,"Lot273",{"$nulls":4},{"$f":"IF(E292=\"\",\"\",IF(VLOOKUP(E292,eleves!$B$3:$E$502,2)=\"\",\"\",VLOOKUP(E292,eleves!$B$3:$E$502,2)))","v":""},{"$nulls":6},292,{"$f":"COUNTIF($E$20:$E$108,N292)","v":0},{"$f":"IF(O292=1,1,IF(R292=1,1,0))","v":0},292,{"$f":"COUNTIF($K$20:$K$108,N292)","v":0}]
[null,"Lot274",{"$nulls":4},{"$f":"IF(E293=\"\",\"\",IF(VLOOKUP(E293,eleves!$B$3:$E$502,2)=\"\",\"\",VLOOKUP(E293,eleves!$B$3:$E$502,2)))","v":""},{"$nulls":6},293,{"$f":"COUNTIF($E$20:$E$108,N293)","v":0},{"$f":"IF(O293=1,1,IF(R293=1,1,0))","v":0},293,{"$f":"COUNTIF($K$20:$K$108,N293)","v":0}]
[null,"Lot275",{"$nulls":4},{"$f":"IF(E294=\"\",\"\",IF(VLOOKUP(E294,eleves!$B$3:$E$502,2)=\"\",\"\",VLOOKUP(E294,eleves!$B$3:$E$502,2)))","v":""},{"$nulls":6},294,{"$f":"COUNTIF($E$20:$E$108,N294)","v":0},{"$f":"IF(O294=1,1,IF(R294=1,1,0))","v":0},294,{"$f":"COUNTIF($K$20:$K$108,N294)","v":0}]
[null,"Lot276",{"$nulls":4},{"$f":"IF(E295=\"\",\"\",IF(VLOOKUP(E295,eleves!$B$3:$E$502,2)=\"\",\"\",VLOOKUP(E295,eleves!$B$3:$E$502,2)))","v":""},{"$nulls":6},295,{"$f":"COUNTIF($E$20:$E$108,N295)","v":0},{"$f":"IF(O295=1,1,IF(R295=1,1,0))","v":0},295,{"$f":"COUNTIF($K$20:$K$108,N295)","v":0}]
[null,"Lot277",{"$nulls":4},{"$f":"IF(E296=\"\",\"\",IF(VLOOKUP(E296,eleves!$B$3:$E$502,2)=\"\",\"\",VLOOKUP(E296,eleves!$B$3:$E$502,2)))","v":""},{"$nulls":6},296,{"$f":"COUNTIF($E$20:$E$108,N296)","v":0},{"$f":"IF(O296=1,1,IF(R296=1,1,0))","v":0},296,{"$f":"COUNTIF($K$20:$K$108,N296)","v":0}]
[null,"Lot278",{"$nulls":4},{"$f":"IF(E297=\"\",\"\",IF(VLOOKUP(E297,eleves!$B$3:$E$502,2)=\"\",\"\",VLOOKUP(E297,eleves!$B$3:$E$502,2)))","v":""},{"$nulls":6},297,{"$f":"COUNTIF($E$20:$E$108,N297)","v":0},{"$f":"IF(O297=1,1,IF(R297=1,1,0))","v":0},297,{"$f":"COUNTIF($K$20:$K$108,N297)","v":0}]
[null,"Lot279",{"$nulls":4},{"$f":"IF(E298=\"\",\"\",IF(VLOOKUP(E298,eleves!$B$3:$E$502,2)=\"\",\"\",VLOOKUP(E298,eleves!$B$3:$E$502,2)))","v":""},{"$nulls":6},298,{"$f":"COUNTIF($E$20:$E$108,N298)","v":0},{"$f":"IF(O298=1,1,IF(R298=1,1,0))","v":0},298,{"$f":"COUNTIF($K$20:$K$108,N298)","v":0}]
[null,"Lot280",{"$nulls":4},{"$f":"IF(E299=\"\",\"\",IF(VLOOKUP(E299,eleves!$B$3:$E$502,2)=\"\",\"\",VLOOKUP(E299,eleves!$B$3:$E$502,2)))","v":""},{"$nulls":6},299,{"$f":"COUNTIF($E$20:$E$108,N299)","v":0},{"$f":"IF(O299=1,1,IF(R299=1,1,0))","v":0},299,{"$f":"COUNTIF($K$20:$K$108,N299)","v":0}]
[null,"Lot281",{"$nulls":4},{"$f":"IF(E300=\"\",\"\",IF(VLOOKUP(E300,eleves!$B$3:$E$502,2)=\"\",\"\",VLOOKUP(E300,eleves!$B$3:$E$502,2)))","v":""},{"$nulls":6},300,{"$f":"COUNTIF($E$20:$E$108,N300)","v":0},{"$f":"IF(O300=1,1,IF(R300=1,1,0))","v":0},300,{"$f":"COUNTIF($K$20:$K$108,N300)","v":0}]
[null,"Lot282",{"$nulls":4},{"$f":"IF(E301=\"\",\"\",IF(VLOOKUP(E301,eleves!$B$3:$E$502,2)=\"\",\"\",VLOOKUP(E301,eleves!$B$3:$E$502,2)))","v":""},{"$nulls":6},301,{"$f":"COUNTIF($E$20:$E$108,N301)","v":0},{"$f":"IF(O301=1,1,IF(R301=1,1,0))","v":0},301,{"$f":"COUNTIF($K$20:$K$108,N301)","v":0}]
[null,"Lot283",{"$nulls":4},{"$f":"IF(E302=\"\",\"\",IF(VLOOKUP(E302,eleves!$B$3:$E$502,2)=\"\",\"\",VLOOKUP(E302,eleves!$B$3:$E$502,2)))","v":""},{"$nulls":6},302,{"$f":"COUNTIF($E$20:$E$108,N302)","v":0},{"$f":"IF(O302=1,1,IF(R302=1,1,0))","v":0},302,{"$f":"COUNTIF($K$20:$K$108,N302)","v":0}]
[null,"Lot284",{"$nulls":4},{"$f":"IF(E303=\"\",\"\",IF(VLOOKUP(E303,eleves!$B$3:$E$502,2)=\"\",\"\",VLOOKUP(E303,eleves!$B$3:$E$502,2)))","v":""},{"$nulls":6},303,{"$f":"COUNTIF($E$20:$E$108,N303)","v":0},{"$f":"IF(O303=1,1,IF(R303=1,1,0))","v":0},303,{"$f":"COUNTIF($K$20:$K$108,N303)","v":0}]
[null,"Lot285",{"$nulls":4},{"$f":"IF(E304=\"\",\"\",IF(VLOOKUP(E304,eleves!$B$3:$E$502,2)=\"\",\"\",VLOOKUP(E304,eleves!$B$3:$E$502,2)))","v":""},{"$nulls":6},304,{"$f":"COUNTIF($E$20:$E$108,N304)","v":0},{"$f":"IF(O304=1,1,IF(R304=1,1,0))","v":0},304,{"$f":"COUNTIF($K$20:$K$108,N304)","v":0}]
[null,"Lot286",{"$nulls":4},{"$f":"IF(E305=\"\",\"\",IF(VLOOKUP(E305,eleves!$B$3:$E$502,2)=\"\",\"\",VLOOKUP(E305,eleves!$B$3:$E$502,2)))","v":""},{"$nulls":6},305,{"$f":"COUNTIF($E$20:$E$108,N305)","v":0},{"$f":"IF(O305=1,1,IF(R305=1,1,0))","v":0},305,{"$f":"COUNTIF($K$20:$K$108,N305)","v":0}]
[null,"Lot287",{"$nulls":4},{"$f":"IF(E306=\"\",\"\",IF(VLOOKUP(E306,eleves!$B$3:$E$502,2)=\"\",\"\",VLOOKUP(E306,eleves!$B$3:$E$502,2)))","v":""},{"$nulls":6},306,{"$f":"COUNTIF($E$20:$E$108,N306)","v":0},{"$f":"IF(O306=1,1,IF(R306=1,1,0))","v":0},306,{"$f":"COUNTIF($K$20:$K$108,N306)","v":0}]
[null,"Lot288",{"$nulls":4},{"$f":"IF(E307=\"\",\"\",IF(VLOOKUP(E307,eleves!$B$3:$E$502,2)=\"\",\"\",VLOOKUP(E307,eleves!$B$3:$E$502,2)))","v":""},{"$nulls":6},307,{"$f":"COUNTIF($E$20:$E$108,N307)","v":0},{"$f":"IF(O307=1,1,IF(R307=1,1,0))","v":0},307,{"$f":"COUNTIF($K$20:$K$108,N307)","v":0}]
[null,"Lot289",{"$nulls":4},{"$f":"IF(E308=\"\",\"\",IF(VLOOKUP(E308,eleves!$B$3:$E$502,2)=\"\",\"\",VLOOKUP(E308,eleves!$B$3:$E$502,2)))","v":""},{"$nulls":6},308,{"$f":"COUNTIF($E$20:$E$108,N308)","v":0},{"$f":"IF(O308=1,1,IF(R308=1,1,0))","v":0},308,{"$f":"COUNTIF($K$20:$K$108,N308)","v":0}]
[null,"Lot290",{"$nulls":4},{"$f":"IF(E309=\"\",\"\",IF(VLOOKUP(E309,eleves!$B$3:$E$502,2)=\"\",\"\",VLOOKUP(E309,eleves!$B$3:$E$502,2)))","v":""},{"$nulls":6},309,{"$f":"COUNTIF($E$20:$E$108,N309)","v":0},{"$f":"IF(O309=1,1,IF(R309=1,1,0))","v":0},309,{"$f":"COUNTIF($K$20:$K$108,N309)","v":0}]
[null,"Lot291",{"$nulls":4},{"$f":"IF(E310=\"\",\"\",IF(VLOOKUP(E310,eleves!$B$3:$E$502,2)=\"\",\"\",VLOOKUP(E310,eleves!$B$3:$E$502,2)))","v":""},{"$nulls":6},310,{"$f":"COUNTIF($E$20:$E$108,N310)","v":0},{"$f":"IF(O310=1,1,IF(R310=1,1,0))","v":0},310,{"$f":"COUNTIF($K$20:$K$108,N310)","v":0}]
[null,"Lot292",{"$nulls":4},{"$f":"IF(E311=\"\",\"\",IF(VLOOKUP(E311,eleves!$B$3:$E$502,2)=\"\",\"\",VLOOKUP(E311,eleves!$B$3:$E$502,2)))","v":""},{"$nulls":6},311,{"$f":"COUNTIF($E$20:$E$108,N311)","v":0},{"$f":"IF(O311=1,1,IF(R311=1,1,0))","v":0},311,{"$f":"COUNTIF($K$20:$K$108,N311)","v":0}]
[null,"Lot293",{"$nulls":4},{"$f":"IF(E312=\"\",\"\",IF(VLOOKUP(E312,eleves!$B$3:$E$502,2)=\"\",\"\",VLOOKUP(E312,eleves!$B$3:$E$502,2)))","v":""},{"$nulls":6},312,{"$f":"COUNTIF($E$20:$E$108,N312)","v":0},{"$f":"IF(O312=1,1,IF(R312=1,1,0))","v":0},312,{"$f":"COUNTIF($K$20:$K$108,N312)","v":0}]
[null,"Lot294",{"$nulls":4},{"$f":"IF(E313=\"\",\"\",IF(VLOOKUP(E313,eleves!$B$3:$E$502,2)=\"\",\"\",VLOOKUP(E313,eleves!$B$3:$E$502,2)))","v":""},{"$nulls":6},313,{"$f":"COUNTIF($E$20:$E$108,N313)","v":0},{"$f":"IF(O313=1,1,IF(R313=1,1,0))","v":0},313,{"$f":"COUNTIF($K$20:$K$108,N313)","v":0}]
[null,"Lot295",{"$nulls":4},{"$f":"IF(E314=\"\",\"\",IF(VLOOKUP(E314,eleves!$B$3:$E$502,2)=\"\",\"\",VLOOKUP(E314,eleves!$B$3:$E$502,2)))","v":""},{"$nulls":6},314,{"$f":"COUNTIF($E$20:$E$108,N314)","v":0},{"$f":"IF(O314=1,1,IF(R314=1,1,0))","v":0},314,{"$f":"COUNTIF($K$20:$K$108,N314)","v":0}]
[null,"Lot296",{"$nulls":4},{"$f":"IF(E315=\"\",\"\",IF(VLOOKUP(E315,eleves!$B$3:$E$502,2)=\"\",\"\",VLOOKUP(E315,eleves!$B$3:$E$502,2)))","v":""},{"$nulls":6},315,{"$f":"COUNTIF($E$20:$E$108,N315)","v":0},{"$f":"IF(O315=1,1,IF(R315=1,1,0))","v":0},315,{"$f":"COUNTIF($K$20:$K$108,N315)","v":0}]
[null,"Lot297",{"$nulls":4},{"$f":"IF(E316=\"\",\"\",IF(VLOOKUP(E316,eleves!$B$3:$E$502,2)=\"\",\"\",VLOOKUP(E316,eleves!$B$3:$E$502,2)))","v":""},{"$nulls":6},316,{"$f":"COUNTIF($E$20:$E$108,N316)","v":0},{"$f":"IF(O316=1,1,IF(R316=1,1,0))","v":0},316,{"$f":"COUNTIF($K$20:$K$108,N316)","v":0}]
[null,"Lot298",{"$nulls":4},{"$f":"IF(E317=\"\",\"\",IF(VLOOKUP(E317,eleves!$B$3:$E$502,2)=\"\",\"\",VLOOKUP(E317,eleves!$B$3:$E$502,2)))","v":""},{"$nulls":6},317,{"$f":"COUNTIF($E$20:$E$108,N317)","v":0},{"$f":"IF(O317=1,1,IF(R317=1,1,0))","v":0},317,{"$f":"COUNTIF($K$20:$K$108,N317)","v":0}]
[null,"Lot299",{"$nulls":4},{"$f":"IF(E318=\"\",\"\",IF(VLOOKUP(E318,eleves!$B$3:$E$502,2)=\"\",\"\",VLOOKUP(E318,eleves!$B$3:$E$502,2)))","v":""},{"$nulls":6},318,{"$f":"COUNTIF($E$20:$E$108,N318)","v":0},{"$f":"IF(O318=1,1,IF(R318=1,1,0))","v":0},318,{"$f":"COUNTIF($K$20:$K$108,N318)","v":0}]
[null,"Lot300",{"$nulls":4},{"$f":"IF(E319=\"\",\"\",IF(VLOOKUP(E319,eleves!$B$3:$E$502,2)=\"\",\"\",VLOOKUP(E319,eleves!$B$3:$E$502,2)))","v":""},{"$nulls":6},319,{"$f":"COUNTIF($E$20:$E$108,N319)","v":0},{"$f":"IF(O319=1,1,IF(R319=1,1,0))","v":0},319,{"$f":"COUNTIF($K$20:$K$108,N319)","v":0}]
[null,"Lot301",{"$nulls":4},{"$f":"IF(E320=\"\",\"\",IF(VLOOKUP(E320,eleves!$B$3:$E$502,2)=\"\",\"\",VLOOKUP(E320,eleves!$B$3:$E$502,2)))","v":""},{"$nulls":6},320,{"$f":"COUNTIF($E$20:$E$108,N320)","v":0},{"$f":"IF(O320=1,1,IF(R320=1,1,0))","v":0},320,{"$f":"COUNTIF($K$20:$K$108,N320)","v":0}]
[null,"Lot302",{"$nulls":4},{"$f":"IF(E321=\"\",\"\",IF(VLOOKUP(E321,eleves!$B$3:$E$502,2)=\"\",\"\",VLOOKUP(E321,eleves!$B$3:$E$502,2)))","v":""},{"$nulls":6},321,{"$f":"COUNTIF($E$20:$E$108,N321)","v":0},{"$f":"IF(O321=1,1,IF(R321=1,1,0))","v":0},321,{"$f":"COUNTIF($K$20:$K$108,N321)","v":0}]
[null,"Lot303",{"$nulls":4},{"$f":"IF(E322=\"\",\"\",IF(VLOOKUP(E322,eleves!$B$3:$E$502,2)=\"\",\"\",VLOOKUP(E322,eleves!$B$3:$E$502,2)))","v":""},{"$nulls":6},322,{"$f":"COUNTIF($E$20:$E$108,N322)","v":0},{"$f":"IF(O322=1,1,IF(R322=1,1,0))","v":0},322,{"$f":"COUNTIF($K$20:$K$108,N322)","v":0}]
[null,"Lot304",{"$nulls":4},{"$f":"IF(E323=\"\",\"\",IF(VLOOKUP(E323,eleves!$B$3:$E$502,2)=\"\",\"\",VLOOKUP(E323,eleves!$B$3:$E$502,2)))","v":""},{"$nulls":6},323,{"$f":"COUNTIF($E$20:$E$108,N323)","v":0},{"$f":"IF(O323=1,1,IF(R323=1,1,0))","v":0},323,{"$f":"COUNTIF($K$20:$K$108,N323)","v":0}]
[null,"Lot305",{"$nulls":4},{"$f":"IF(E324=\"\",\"\",IF(VLOOKUP(E324,eleves!$B$3:$E$502,2)=\"\",\"\",VLOOKUP(E324,eleves!$B$3:$E$502,2)))","v":""},{"$nulls":6},324,{"$f":"COUNTIF($E$20:$E$108,N324)","v":0},{"$f":"IF(O324=1,1,IF(R324=1,1,0))","v":0},324,{"$f":"COUNTIF($K$20:$K$108,N324)","v":0}]
[null,"Lot306",{"$nulls":4},{"$f":"IF(E325=\"\",\"\",IF(VLOOKUP(E325,eleves!$B$3:$E$502,2)=\"\",\"\",VLOOKUP(E325,eleves!$B$3:$E$502,2)))","v":""},{"$nulls":6},325,{"$f":"COUNTIF($E$20:$E$108,N325)","v":0},{"$f":"IF(O325=1,1,IF(R325=1,1,0))","v":0},325,{"$f":"COUNTIF($K$20:$K$108,N325)","v":0}]
[null,"Lot307",{"$nulls":4},{"$f":"IF(E326=\"\",\"\",IF(VLOOKUP(E326,eleves!$B$3:$E$502,2)=\"\",\"\",VLOOKUP(E326,eleves!$B$3:$E$502,2)))","v":""},{"$nulls":6},326,{"$f":"COUNTIF($E$20:$E$108,N326)","v":0},{"$f":"IF(O326=1,1,IF(R326=1,1,0))","v":0},326,{"$f":"COUNTIF($K$20:$K$108,N326)","v":0}]
[null,"Lot308",{"$nulls":4},{"$f":"IF(E327=\"\",\"\",IF(VLOOKUP(E327,eleves!$B$3:$E$502,2)=\"\",\"\",VLOOKUP(E327,eleves!$B$3:$E$502,2)))","v":""},{"$nulls":6},327,{"$f":"COUNTIF($E$20:$E$108,N327)","v":0},{"$f":"IF(O327=1,1,IF(R327=1,1,0))","v":0},327,{"$f":"COUNTIF($K$20:$K$108,N327)","v":0}]
[null,"Lot309",{"$nulls":4},{"$f":"IF(E328=\"\",\"\",IF(VLOOKUP(E328,eleves!$B$3:$E$502,2)=\"\",\"\",VLOOKUP(E328,eleves!$B$3:$E$502,2)))","v":""},{"$nulls":6},328,{"$f":"COUNTIF($E$20:$E$108,N328)","v":0},{"$f":"IF(O328=1,1,IF(R328=1,1,0))","v":0},328,{"$f":"COUNTIF($K$20:$K$108,N328)","v":0}]
[null,"Lot310",{"$nulls":4},{"$f":"IF(E329=\"\",\"\",IF(VLOOKUP(E329,eleves!$B$3:$E$502,2)=\"\",\"\",VLOOKUP(E329,eleves!$B$3:$E$502,2)))","v":""},{"$nulls":6},329,{"$f":"COUNTIF($E$20:$E$108,N329)","v":0},{"$f":"IF(O329=1,1,IF(R329=1,1,0))","v":0},329,{"$f":"COUNTIF($K$20:$K$108,N329)","v":0}]
[null,"Lot311",{"$nulls":4},{"$f":"IF(E330=\"\",\"\",IF(VLOOKUP(E330,eleves!$B$3:$E$502,2)=\"\",\"\",VLOOKUP(E330,eleves!$B$3:$E$502,2)))","v":""},{"$nulls":6},330,{"$f":"COUNTIF($E$20:$E$108,N330)","v":0},{"$f":"IF(O330=1,1,IF(R330=1,1,0))","v":0},330,{"$f":"COUNTIF($K$20:$K$108,N330)","v":0}]
[null,"Lot312",{"$nulls":4},{"$f":"IF(E331=\"\",\"\",IF(VLOOKUP(E331,eleves!$B$3:$E$502,2)=\"\",\"\",VLOOKUP(E331,eleves!$B$3:$E$502,2)))","v":""},{"$nulls":6},331,{"$f":"COUNTIF($E$20:$E$108,N331)","v":0},{"$f":"IF(O331=1,1,IF(R331=1,1,0))","v":0},331,{"$f":"COUNTIF($K$20:$K$108,N331)","v":0}]
[null,"Lot313",{"$nulls":4},{"$f":"IF(E332=\"\",\"\",IF(VLOOKUP(E332,eleves!$B$3:$E$502,2)=\"\",\"\",VLOOKUP(E332,eleves!$B$3:$E$502,2)))","v":""},{"$nulls":6},332,{"$f":"COUNTIF($E$20:$E$108,N332)","v":0},{"$f":"IF(O332=1,1,IF(R332=1,1,0))","v":0},332,{"$f":"COUNTIF($K$20:$K$108,N332)","v":0}]
[null,"Lot314",{"$nulls":4},{"$f":"IF(E333=\"\",\"\",IF(VLOOKUP(E333,eleves!$B$3:$E$502,2)=\"\",\"\",VLOOKUP(E333,eleves!$B$3:$E$502,2)))","v":""},{"$nulls":6},333,{"$f":"COUNTIF($E$20:$E$108,N333)","v":0},{"$f":"IF(O333=1,1,IF(R333=1,1,0))","v":0},333,{"$f":"COUNTIF($K$20:$K$108,N333)","v":0}]
[null,"Lot315",{"$nulls":4},{"$f":"IF(E334=\"\",\"\",IF(VLOOKUP(E334,eleves!$B$3:$E$502,2)=\"\",\"\",VLOOKUP(E334,eleves!$B$3:$E$502,2)))","v":""},{"$nulls":6},334,{"$f":"COUNTIF($E$20:$E$108,N334)","v":0},{"$f":"IF(O334=1,1,IF(R334=1,1,0))","v":0},334,{"$f":"COUNTIF($K$20:$K$108,N334)","v":0}]
[null,"Lot316",{"$nulls":4},{"$f":"IF(E335=\"\",\"\",IF(VLOOKUP(E335,eleves!$B$3:$E$502,2)=\"\",\"\",VLOOKUP(E335,eleves!$B$3:$E$502,2)))","v":""},{"$nulls":6},335,{"$f":"COUNTIF($E$20:$E$108,N335)","v":0},{"$f":"IF(O335=1,1,IF(R335=1,1,0))","v":0},335,{"$f":"COUNTIF($K$20:$K$108,N335)","v":0}]
[null,"Lot317",{"$nulls":4},{"$f":"IF(E336=\"\",\"\",IF(VLOOKUP(E336,eleves!$B$3:$E$502,2)=\"\",\"\",VLOOKUP(E336,eleves!$B$3:$E$502,2)))","v":""},{"$nulls":6},336,{"$f":"COUNTIF($E$20:$E$108,N336)","v":0},{"$f":"IF(O336=1,1,IF(R336=1,1,0))","v":0},336,{"$f":"COUNTIF($K$20:$K$108,N336)","v":0}]
[null,"Lot318",{"$nulls":4},{"$f":"IF(E337=\"\",\"\",IF(VLOOKUP(E337,eleves!$B$3:$E$502,2)=\"\",\"\",VLOOKUP(E337,eleves!$B$3:$E$502,2)))","v":""},{"$nulls":6},337,{"$f":"COUNTIF($E$20:$E$108,N337)","v":0},{"$f":"IF(O337=1,1,IF(R337=1,1,0))","v":0},337,{"$f":"COUNTIF($K$20:$K$108,N337)","v":0}]
[null,"Lot319",{"$nulls":4},{"$f":"IF(E338=\"\",\"\",IF(VLOOKUP(E338,eleves!$B$3:$E$502,2)=\"\",\"\",VLOOKUP(E338,eleves!$B$3:$E$502,2)))","v":""},{"$nulls":6},338,{"$f":"COUNTIF($E$20:$E$108,N338)","v":0},{"$f":"IF(O338=1,1,IF(R338=1,1,0))","v":0},338,{"$f":"COUNTIF($K$20:$K$108,N338)","v":0}]
[null,"Lot320",{"$nulls":4},{"$f":"IF(E339=\"\",\"\",IF(VLOOKUP(E339,eleves!$B$3:$E$502,2)=\"\",\"\",VLOOKUP(E339,eleves!$B$3:$E$502,2)))","v":""},{"$nulls":6},339,{"$f":"COUNTIF($E$20:$E$108,N339)","v":0},{"$f":"IF(O339=1,1,IF(R339=1,1,0))","v":0},339,{"$f":"COUNTIF($K$20:$K$108,N339)","v":0}]
[null,"Lot321",{"$nulls":4},{"$f":"IF(E340=\"\",\"\",IF(VLOOKUP(E340,eleves!$B$3:$E$502,2)=\"\",\"\",VLOOKUP(E340,eleves!$B$3:$E$502,2)))","v":""},{"$nulls":6},340,{"$f":"COUNTIF($E$20:$E$108,N340)","v":0},{"$f":"IF(O340=1,1,IF(R340=1,1,0))","v":0},340,{"$f":"COUNTIF($K$20:$K$108,N340)","v":0}]
[null,"Lot322",{"$nulls":4},{"$f":"IF(E341=\"\",\"\",IF(VLOOKUP(E341,eleves!$B$3:$E$502,2)=\"\",\"\",VLOOKUP(E341,eleves!$B$3:$E$502,2)))","v":""},{"$nulls":6},341,{"$f":"COUNTIF($E$20:$E$108,N341)","v":0},{"$f":"IF(O341=1,1,IF(R341=1,1,0))","v":0},341,{"$f":"COUNTIF($K$20:$K$108,N341)","v":0}]
[null,"Lot323",{"$nulls":4},{"$f":"IF(E342=\"\",\"\",IF(VLOOKUP(E342,eleves!$B$3:$E$502,2)=\"\",\"\",VLOOKUP(E342,eleves!$B$3:$E$502,2)))","v":""},{"$nulls":6},342,{"$f":"COUNTIF($E$20:$E$108,N342)","v":0},{"$f":"IF(O342=1,1,IF(R342=1,1,0))","v":0},342,{"$f":"COUNTIF($K$20:$K$108,N342)","v":0}]
[null,"Lot324",{"$nulls":4},{"$f":"IF(E343=\"\",\"\",IF(VLOOKUP(E343,eleves!$B$3:$E$502,2)=\"\",\"\",VLOOKUP(E343,eleves!$B$3:$E$502,2)))","v":""},{"$nulls":6},343,{"$f":"COUNTIF($E$20:$E$108,N343)","v":0},{"$f":"IF(O343=1,1,IF(R343=1,1,0))","v":0},343,{"$f":"COUNTIF($K$20:$K$108,N343)","v":0}]
[null,"Lot325",{"$nulls":4},{"$f":"IF(E344=\"\",\"\",IF(VLOOKUP(E344,eleves!$B$3:$E$502,2)=\"\",\"\",VLOOKUP(E344,eleves!$B$3:$E$502,2)))","v":""},{"$nulls":6},344,{"$f":"COUNTIF($E$20:$E$108,N344)","v":0},{"$f":"IF(O344=1,1,IF(R344=1,1,0))","v":0},344,{"$f":"COUNTIF($K$20:$K$108,N344)","v":0}]
[null,"Lot326",{"$nulls":4},{"$f":"IF(E345=\"\",\"\",IF(VLOOKUP(E345,eleves!$B$3:$E$502,2)=\"\",\"\",VLOOKUP(E345,eleves!$B$3:$E$502,2)))","v":""},{"$nulls":6},345,{"$f":"COUNTIF($E$20:$E$108,N345)","v":0},{"$f":"IF(O345=1,1,IF(R345=1,1,0))","v":0},345,{"$f":"COUNTIF($K$20:$K$108,N345)","v":0}]
[null,"Lot327",{"$nulls":4},{"$f":"IF(E346=\"\",\"\",IF(VLOOKUP(E346,eleves!$B$3:$E$502,2)=\"\",\"\",VLOOKUP(E346,eleves!$B$3:$E$502,2)))","v":""},{"$nulls":6},346,{"$f":"COUNTIF($E$20:$E$108,N346)","v":0},{"$f":"IF(O346=1,1,IF(R346=1,1,0))","v":0},346,{"$f":"COUNTIF($K$20:$K$108,N346)","v":0}]
[null,"Lot328",{"$nulls":4},{"$f":"IF(E347=\"\",\"\",IF(VLOOKUP(E347,eleves!$B$3:$E$502,2)=\"\",\"\",VLOOKUP(E347,eleves!$B$3:$E$502,2)))","v":""},{"$nulls":6},347,{"$f":"COUNTIF($E$20:$E$108,N347)","v":0},{"$f":"IF(O347=1,1,IF(R347=1,1,0))","v":0},347,{"$f":"COUNTIF($K$20:$K$108,N347)","v":0}]
[null,"Lot329",{"$nulls":4},{"$f":"IF(E348=\"\",\"\",IF(VLOOKUP(E348,eleves!$B$3:$E$502,2)=\"\",\"\",VLOOKUP(E348,eleves!$B$3:$E$502,2)))","v":""},{"$nulls":6},348,{"$f":"COUNTIF($E$20:$E$108,N348)","v":0},{"$f":"IF(O348=1,1,IF(R348=1,1,0))","v":0},348,{"$f":"COUNTIF($K$20:$K$108,N348)","v":0}]
[null,"Lot330",{"$nulls":4},{"$f":"IF(E349=\"\",\"\",IF(VLOOKUP(E349,eleves!$B$3:$E$502,2)=\"\",\"\",VLOOKUP(E349,eleves!$B$3:$E$502,2)))","v":""},{"$nulls":6},349,{"$f":"COUNTIF($E$20:$E$108,N349)","v":0},{"$f":"IF(O349=1,1,IF(R349=1,1,0))","v":0},349,{"$f":"COUNTIF($K$20:$K$108,N349)","v":0}]
[null,"Lot331",{"$nulls":4},{"$f":"IF(E350=\"\",\"\",IF(VLOOKUP(E350,eleves!$B$3:$E$502,2)=\"\",\"\",VLOOKUP(E350,eleves!$B$3:$E$502,2)))","v":""},{"$nulls":6},350,{"$f":"COUNTIF($E$20:$E$108,N350)","v":0},{"$f":"IF(O350=1,1,IF(R350=1,1,0))","v":0},350,{"$f":"COUNTIF($K$20:$K$108,N350)","v":0}]
[null,"Lot332",{"$nulls":4},{"$f":"IF(E351=\"\",\"\",IF(VLOOKUP(E351,eleves!$B$3:$E$502,2)=\"\",\"\",VLOOKUP(E351,eleves!$B$3:$E$502,2)))","v":""},{"$nulls":6},351,{"$f":"COUNTIF($E$20:$E$108,N351)","v":0},{"$f":"IF(O351=1,1,IF(R351=1,1,0))","v":0},351,{"$f":"COUNTIF($K$20:$K$108,N351)","v":0}]
[null,"Lot333",{"$nulls":4},{"$f":"IF(E352=\"\",\"\",IF(VLOOKUP(E352,eleves!$B$3:$E$502,2)=\"\",\"\",VLOOKUP(E352,eleves!$B$3:$E$502,2)))","v":""},{"$nulls":6},352,{"$f":"COUNTIF($E$20:$E$108,N352)","v":0},{"$f":"IF(O352=1,1,IF(R352=1,1,0))","v":0},352,{"$f":"COUNTIF($K$20:$K$108,N352)","v":0}]
[null,"Lot334",{"$nulls":4},{"$f":"IF(E353=\"\",\"\",IF(VLOOKUP(E353,eleves!$B$3:$E$502,2)=\"\",\"\",VLOOKUP(E353,eleves!$B$3:$E$502,2)))","v":""},{"$nulls":6},353,{"$f":"COUNTIF($E$20:$E$108,N353)","v":0},{"$f":"IF(O353=1,1,IF(R353=1,1,0))","v":0},353,{"$f":"COUNTIF($K$20:$K$108,N353)","v":0}]
[null,"Lot335",{"$nulls":4},{"$f":"IF(E354=\"\",\"\",IF(VLOOKUP(E354,eleves!$B$3:$E$502,2)=\"\",\"\",VLOOKUP(E354,eleves!$B$3:$E$502,2)))","v":""},{"$nulls":6},354,{"$f":"COUNTIF($E$20:$E$108,N354)","v":0},{"$f":"IF(O354=1,1,IF(R354=1,1,0))","v":0},354,{"$f":"COUNTIF($K$20:$K$108,N354)","v":0}]
[null,"Lot336",{"$nulls":4},{"$f":"IF(E355=\"\",\"\",IF(VLOOKUP(E355,eleves!$B$3:$E$502,2)=\"\",\"\",VLOOKUP(E355,eleves!$B$3:$E$502,2)))","v":""},{"$nulls":6},355,{"$f":"COUNTIF($E$20:$E$108,N355)","v":0},{"$f":"IF(O355=1,1,IF(R355=1,1,0))","v":0},355,{"$f":"COUNTIF($K$20:$K$108,N355)","v":0}]
[null,"Lot337",{"$nulls":4},{"$f":"IF(E356=\"\",\"\",IF(VLOOKUP(E356,eleves!$B$3:$E$502,2)=\"\",\"\",VLOOKUP(E356,eleves!$B$3:$E$502,2)))","v":""},{"$nulls":6},356,{"$f":"COUNTIF($E$20:$E$108,N356)","v":0},{"$f":"IF(O356=1,1,IF(R356=1,1,0))","v":0},356,{"$f":"COUNTIF($K$20:$K$108,N356)","v":0}]
[null,"Lot338",{"$nulls":4},{"$f":"IF(E357=\"\",\"\",IF(VLOOKUP(E357,eleves!$B$3:$E$502,2)=\"\",\"\",VLOOKUP(E357,eleves!$B$3:$E$502,2)))","v":""},{"$nulls":6},357,{"$f":"COUNTIF($E$20:$E$108,N357)","v":0},{"$f":"IF(O357=1,1,IF(R357=1,1,0))","v":0},357,{"$f":"COUNTIF($K$20:$K$108,N357)","v":0}]
[null,"Lot339",{"$nulls":4},{"$f":"IF(E358=\"\",\"\",IF(VLOOKUP(E358,eleves!$B$3:$E$502,2)=\"\",\"\",VLOOKUP(E358,eleves!$B$3:$E$502,2)))","v":""},{"$nulls":6},358,{"$f":"COUNTIF($E$20:$E$108,N358)","v":0},{"$f":"IF(O358=1,1,IF(R358=1,1,0))","v":0},358,{"$f":"COUNTIF($K$20:$K$108,N358)","v":0}]
[null,"Lot340",{"$nulls":4},{"$f":"IF(E359=\"\",\"\",IF(VLOOKUP(E359,eleves!$B$3:$E$502,2)=\"\",\"\",VLOOKUP(E359,eleves!$B$3:$E$502,2)))","v":""},{"$nulls":6},359,{"$f":"COUNTIF($E$20:$E$108,N359)","v":0},{"$f":"IF(O359=1,1,IF(R359=1,1,0))","v":0},359,{"$f":"COUNTIF($K$20:$K$108,N359)","v":0}]
[null,"Lot341",{"$nulls":4},{"$f":"IF(E360=\"\",\"\",IF(VLOOKUP(E360,eleves!$B$3:$E$502,2)=\"\",\"\",VLOOKUP(E360,eleves!$B$3:$E$502,2)))","v":""},{"$nulls":6},360,{"$f":"COUNTIF($E$20:$E$108,N360)","v":0},{"$f":"IF(O360=1,1,IF(R360=1,1,0))","v":0},360,{"$f":"COUNTIF($K$20:$K$108,N360)","v":0}]
[null,"Lot342",{"$nulls":4},{"$f":"IF(E361=\"\",\"\",IF(VLOOKUP(E361,eleves!$B$3:$E$502,2)=\"\",\"\",VLOOKUP(E361,eleves!$B$3:$E$502,2)))","v":""},{"$nulls":6},361,{"$f":"COUNTIF($E$20:$E$108,N361)","v":0},{"$f":"IF(O361=1,1,IF(R361=1,1,0))","v":0},361,{"$f":"COUNTIF($K$20:$K$108,N361)","v":0}]
[null,"Lot343",{"$nulls":4},{"$f":"IF(E362=\"\",\"\",IF(VLOOKUP(E362,eleves!$B$3:$E$502,2)=\"\",\"\",VLOOKUP(E362,eleves!$B$3:$E$502,2)))","v":""},{"$nulls":6},362,{"$f":"COUNTIF($E$20:$E$108,N362)","v":0},{"$f":"IF(O362=1,1,IF(R362=1,1,0))","v":0},362,{"$f":"COUNTIF($K$20:$K$108,N362)","v":0}]
[null,"Lot344",{"$nulls":4},{"$f":"IF(E363=\"\",\"\",IF(VLOOKUP(E363,eleves!$B$3:$E$502,2)=\"\",\"\",VLOOKUP(E363,eleves!$B$3:$E$502,2)))","v":""},{"$nulls":6},363,{"$f":"COUNTIF($E$20:$E$108,N363)","v":0},{"$f":"IF(O363=1,1,IF(R363=1,1,0))","v":0},363,{"$f":"COUNTIF($K$20:$K$108,N363)","v":0}]
[null,"Lot345",{"$nulls":4},{"$f":"IF(E364=\"\",\"\",IF(VLOOKUP(E364,eleves!$B$3:$E$502,2)=\"\",\"\",VLOOKUP(E364,eleves!$B$3:$E$502,2)))","v":""},{"$nulls":6},364,{"$f":"COUNTIF($E$20:$E$108,N364)","v":0},{"$f":"IF(O364=1,1,IF(R364=1,1,0))","v":0},364,{"$f":"COUNTIF($K$20:$K$108,N364)","v":0}]
[null,"Lot346",{"$nulls":4},{"$f":"IF(E365=\"\",\"\",IF(VLOOKUP(E365,eleves!$B$3:$E$502,2)=\"\",\"\",VLOOKUP(E365,eleves!$B$3:$E$502,2)))","v":""},{"$nulls":6},365,{"$f":"COUNTIF($E$20:$E$108,N365)","v":0},{"$f":"IF(O365=1,1,IF(R365=1,1,0))","v":0},365,{"$f":"COUNTIF($K$20:$K$108,N365)","v":0}]
[null,"Lot347",{"$nulls":4},{"$f":"IF(E366=\"\",\"\",IF(VLOOKUP(E366,eleves!$B$3:$E$502,2)=\"\",\"\",VLOOKUP(E366,eleves!$B$3:$E$502,2)))","v":""},{"$nulls":6},366,{"$f":"COUNTIF($E$20:$E$108,N366)","v":0},{"$f":"IF(O366=1,1,IF(R366=1,1,0))","v":0},366,{"$f":"COUNTIF($K$20:$K$108,N366)","v":0}]
[null,"Lot348",{"$nulls":4},{"$f":"IF(E367=\"\",\"\",IF(VLOOKUP(E367,eleves!$B$3:$E$502,2)=\"\",\"\",VLOOKUP(E367,eleves!$B$3:$E$502,2)))","v":""},{"$nulls":6},367,{"$f":"COUNTIF($E$20:$E$108,N367)","v":0},{"$f":"IF(O367=1,1,IF(R367=1,1,0))","v":0},367,{"$f":"COUNTIF($K$20:$K$108,N367)","v":0}]
[null,"Lot349",{"$nulls":4},{"$f":"IF(E368=\"\",\"\",IF(VLOOKUP(E368,eleves!$B$3:$E$502,2)=\"\",\"\",VLOOKUP(E368,eleves!$B$3:$E$502,2)))","v":""},{"$nulls":6},368,{"$f":"COUNTIF($E$20:$E$108,N368)","v":0},{"$f":"IF(O368=1,1,IF(R368=1,1,0))","v":0},368,{"$f":"COUNTIF($K$20:$K$108,N368)","v":0}]
[null,"Lot350",{"$nulls":4},{"$f":"IF(E369=\"\",\"\",IF(VLOOKUP(E369,eleves!$B$3:$E$502,2)=\"\",\"\",VLOOKUP(E369,eleves!$B$3:$E$502,2)))","v":""},{"$nulls":6},369,{"$f":"COUNTIF($E$20:$E$108,N369)","v":0},{"$f":"IF(O369=1,1,IF(R369=1,1,0))","v":0},369,{"$f":"COUNTIF($K$20:$K$108,N369)","v":0}]
[null,"Lot351",{"$nulls":4},{"$f":"IF(E370=\"\",\"\",IF(VLOOKUP(E370,eleves!$B$3:$E$502,2)=\"\",\"\",VLOOKUP(E370,eleves!$B$3:$E$502,2)))","v":""},{"$nulls":6},370,{"$f":"COUNTIF($E$20:$E$108,N370)","v":0},{"$f":"IF(O370=1,1,IF(R370=1,1,0))","v":0},370,{"$f":"COUNTIF($K$20:$K$108,N370)","v":0}]
[null,"Lot352",{"$nulls":4},{"$f":"IF(E371=\"\",\"\",IF(VLOOKUP(E371,eleves!$B$3:$E$502,2)=\"\",\"\",VLOOKUP(E371,eleves!$B$3:$E$502,2)))","v":""},{"$nulls":6},371,{"$f":"COUNTIF($E$20:$E$108,N371)","v":0},{"$f":"IF(O371=1,1,IF(R371=1,1,0))","v":0},371,{"$f":"COUNTIF($K$20:$K$108,N371)","v":0}]
[null,"Lot353",{"$nulls":4},{"$f":"IF(E372=\"\",\"\",IF(VLOOKUP(E372,eleves!$B$3:$E$502,2)=\"\",\"\",VLOOKUP(E372,eleves!$B$3:$E$502,2)))","v":""},{"$nulls":6},372,{"$f":"COUNTIF($E$20:$E$108,N372)","v":0},{"$f":"IF(O372=1,1,IF(R372=1,1,0))","v":0},372,{"$f":"COUNTIF($K$20:$K$108,N372)","v":0}]
[null,"Lot354",{"$nulls":4},{"$f":"IF(E373=\"\",\"\",IF(VLOOKUP(E373,eleves!$B$3:$E$502,2)=\"\",\"\",VLOOKUP(E373,eleves!$B$3:$E$502,2)))","v":""},{"$nulls":6},373,{"$f":"COUNTIF($E$20:$E$108,N373)","v":0},{"$f":"IF(O373=1,1,IF(R373=1,1,0))","v":0},373,{"$f":"COUNTIF($K$20:$K$108,N373)","v":0}]
[null,"Lot355",{"$nulls":4},{"$f":"IF(E374=\"\",\"\",IF(VLOOKUP(E374,eleves!$B$3:$E$502,2)=\"\",\"\",VLOOKUP(E374,eleves!$B$3:$E$502,2)))","v":""},{"$nulls":6},374,{"$f":"COUNTIF($E$20:$E$108,N374)","v":0},{"$f":"IF(O374=1,1,IF(R374=1,1,0))","v":0},374,{"$f":"COUNTIF($K$20:$K$108,N374)","v":0}]
[null,"Lot356",{"$nulls":4},{"$f":"IF(E375=\"\",\"\",IF(VLOOKUP(E375,eleves!$B$3:$E$502,2)=\"\",\"\",VLOOKUP(E375,eleves!$B$3:$E$502,2)))","v":""},{"$nulls":6},375,{"$f":"COUNTIF($E$20:$E$108,N375)","v":0},{"$f":"IF(O375=1,1,IF(R375=1,1,0))","v":0},375,{"$f":"COUNTIF($K$20:$K$108,N375)","v":0}]
[null,"Lot357",{"$nulls":4},{"$f":"IF(E376=\"\",\"\",IF(VLOOKUP(E376,eleves!$B$3:$E$502,2)=\"\",\"\",VLOOKUP(E376,eleves!$B$3:$E$502,2)))","v":""},{"$nulls":6},376,{"$f":"COUNTIF($E$20:$E$108,N376)","v":0},{"$f":"IF(O376=1,1,IF(R376=1,1,0))","v":0},376,{"$f":"COUNTIF($K$20:$K$108,N376)","v":0}]
[null,"Lot358",{"$nulls":4},{"$f":"IF(E377=\"\",\"\",IF(VLOOKUP(E377,eleves!$B$3:$E$502,2)=\"\",\"\",VLOOKUP(E377,eleves!$B$3:$E$502,2)))","v":""},{"$nulls":6},377,{"$f":"COUNTIF($E$20:$E$108,N377)","v":0},{"$f":"IF(O377=1,1,IF(R377=1,1,0))","v":0},377,{"$f":"COUNTIF($K$20:$K$108,N377)","v":0}]
[null,"Lot359",{"$nulls":4},{"$f":"IF(E378=\"\",\"\",IF(VLOOKUP(E378,eleves!$B$3:$E$502,2)=\"\",\"\",VLOOKUP(E378,eleves!$B$3:$E$502,2)))","v":""},{"$nulls":6},378,{"$f":"COUNTIF($E$20:$E$108,N378)","v":0},{"$f":"IF(O378=1,1,IF(R378=1,1,0))","v":0},378,{"$f":"COUNTIF($K$20:$K$108,N378)","v":0}]
[null,"Lot360",{"$nulls":4},{"$f":"IF(E379=\"\",\"\",IF(VLOOKUP(E379,eleves!$B$3:$E$502,2)=\"\",\"\",VLOOKUP(E379,eleves!$B$3:$E$502,2)))","v":""},{"$nulls":6},379,{"$f":"COUNTIF($E$20:$E$108,N379)","v":0},{"$f":"IF(O379=1,1,IF(R379=1,1,0))","v":0},379,{"$f":"COUNTIF($K$20:$K$108,N379)","v":0}]
[null,"Lot361",{"$nulls":4},{"$f":"IF(E380=\"\",\"\",IF(VLOOKUP(E380,eleves!$B$3:$E$502,2)=\"\",\"\",VLOOKUP(E380,eleves!$B$3:$E$502,2)))","v":""},{"$nulls":6},380,{"$f":"COUNTIF($E$20:$E$108,N380)","v":0},{"$f":"IF(O380=1,1,IF(R380=1,1,0))","v":0},380,{"$f":"COUNTIF($K$20:$K$108,N380)","v":0}]
[null,"Lot362",{"$nulls":4},{"$f":"IF(E381=\"\",\"\",IF(VLOOKUP(E381,eleves!$B$3:$E$502,2)=\"\",\"\",VLOOKUP(E381,eleves!$B$3:$E$502,2)))","v":""},{"$nulls":6},381,{"$f":"COUNTIF($E$20:$E$108,N381)","v":0},{"$f":"IF(O381=1,1,IF(R381=1,1,0))","v":0},381,{"$f":"COUNTIF($K$20:$K$108,N381)","v":0}]
[null,"Lot363",{"$nulls":4},{"$f":"IF(E382=\"\",\"\",IF(VLOOKUP(E382,eleves!$B$3:$E$502,2)=\"\",\"\",VLOOKUP(E382,eleves!$B$3:$E$502,2)))","v":""},{"$nulls":6},382,{"$f":"COUNTIF($E$20:$E$108,N382)","v":0},{"$f":"IF(O382=1,1,IF(R382=1,1,0))","v":0},382,{"$f":"COUNTIF($K$20:$K$108,N382)","v":0}]
[null,"Lot364",{"$nulls":4},{"$f":"IF(E383=\"\",\"\",IF(VLOOKUP(E383,eleves!$B$3:$E$502,2)=\"\",\"\",VLOOKUP(E383,eleves!$B$3:$E$502,2)))","v":""},{"$nulls":6},383,{"$f":"COUNTIF($E$20:$E$108,N383)","v":0},{"$f":"IF(O383=1,1,IF(R383=1,1,0))","v":0},383,{"$f":"COUNTIF($K$20:$K$108,N383)","v":0}]
[null,"Lot365",{"$nulls":4},{"$f":"IF(E384=\"\",\"\",IF(VLOOKUP(E384,eleves!$B$3:$E$502,2)=\"\",\"\",VLOOKUP(E384,eleves!$B$3:$E$502,2)))","v":""},{"$nulls":6},384,{"$f":"COUNTIF($E$20:$E$108,N384)","v":0},{"$f":"IF(O384=1,1,IF(R384=1,1,0))","v":0},384,{"$f":"COUNTIF($K$20:$K$108,N384)","v":0}]
[null,"Lot366",{"$nulls":4},{"$f":"IF(E385=\"\",\"\",IF(VLOOKUP(E385,eleves!$B$3:$E$502,2)=\"\",\"\",VLOOKUP(E385,eleves!$B$3:$E$502,2)))","v":""},{"$nulls":6},385,{"$f":"COUNTIF($E$20:$E$108,N385)","v":0},{"$f":"IF(O385=1,1,IF(R385=1,1,0))","v":0},385,{"$f":"COUNTIF($K$20:$K$108,N385)","v":0}]
[null,"Lot367",{"$nulls":4},{"$f":"IF(E386=\"\",\"\",IF(VLOOKUP(E386,eleves!$B$3:$E$502,2)=\"\",\"\",VLOOKUP(E386,eleves!$B$3:$E$502,2)))","v":""},{"$nulls":6},386,{"$f":"COUNTIF($E$20:$E$108,N386)","v":0},{"$f":"IF(O386=1,1,IF(R386=1,1,0))","v":0},386,{"$f":"COUNTIF($K$20:$K$108,N386)","v":0}]
[null,"Lot368",{"$nulls":4},{"$f":"IF(E387=\"\",\"\",IF(VLOOKUP(E387,eleves!$B$3:$E$502,2)=\"\",\"\",VLOOKUP(E387,eleves!$B$3:$E$502,2)))","v":""},{"$nulls":6},387,{"$f":"COUNTIF($E$20:$E$108,N387)","v":0},{"$f":"IF(O387=1,1,IF(R387=1,1,0))","v":0},387,{"$f":"COUNTIF($K$20:$K$108,N387)","v":0}]
[null,"Lot369",{"$nulls":4},{"$f":"IF(E388=\"\",\"\",IF(VLOOKUP(E388,eleves!$B$3:$E$502,2)=\"\",\"\",VLOOKUP(E388,eleves!$B$3:$E$502,2)))","v":""},{"$nulls":6},388,{"$f":"COUNTIF($E$20:$E$108,N388)","v":0},{"$f":"IF(O388=1,1,IF(R388=1,1,0))","v":0},388,{"$f":"COUNTIF($K$20:$K$108,N388)","v":0}]
[null,"Lot370",{"$nulls":4},{"$f":"IF(E389=\"\",\"\",IF(VLOOKUP(E389,eleves!$B$3:$E$502,2)=\"\",\"\",VLOOKUP(E389,eleves!$B$3:$E$502,2)))","v":""},{"$nulls":6},389,{"$f":"COUNTIF($E$20:$E$108,N389)","v":0},{"$f":"IF(O389=1,1,IF(R389=1,1,0))","v":0},389,{"$f":"COUNTIF($K$20:$K$108,N389)","v":0}]
[null,"Lot371",{"$nulls":4},{"$f":"IF(E390=\"\",\"\",IF(VLOOKUP(E390,eleves!$B$3:$E$502,2)=\"\",\"\",VLOOKUP(E390,eleves!$B$3:$E$502,2)))","v":""},{"$nulls":6},390,{"$f":"COUNTIF($E$20:$E$108,N390)","v":0},{"$f":"IF(O390=1,1,IF(R390=1,1,0))","v":0},390,{"$f":"COUNTIF($K$20:$K$108,N390)","v":0}]
[null,"Lot372",{"$nulls":4},{"$f":"IF(E391=\"\",\"\",IF(VLOOKUP(E391,eleves!$B$3:$E$502,2)=\"\",\"\",VLOOKUP(E391,eleves!$B$3:$E$502,2)))","v":""},{"$nulls":6},391,{"$f":"COUNTIF($E$20:$E$108,N391)","v":0},{"$f":"IF(O391=1,1,IF(R391=1,1,0))","v":0},391,{"$f":"COUNTIF($K$20:$K$108,N391)","v":0}]
[null,"Lot373",{"$nulls":4},{"$f":"IF(E392=\"\",\"\",IF(VLOOKUP(E392,eleves!$B$3:$E$502,2)=\"\",\"\",VLOOKUP(E392,eleves!$B$3:$E$502,2)))","v":""},{"$nulls":6},392,{"$f":"COUNTIF($E$20:$E$108,N392)","v":0},{"$f":"IF(O392=1,1,IF(R392=1,1,0))","v":0},392,{"$f":"COUNTIF($K$20:$K$108,N392)","v":0}]
[null,"Lot374",{"$nulls":4},{"$f":"IF(E393=\"\",\"\",IF(VLOOKUP(E393,eleves!$B$3:$E$502,2)=\"\",\"\",VLOOKUP(E393,eleves!$B$3:$E$502,2)))","v":""},{"$nulls":6},393,{"$f":"COUNTIF($E$20:$E$108,N393)","v":0},{"$f":"IF(O393=1,1,IF(R393=1,1,0))","v":0},393,{"$f":"COUNTIF($K$20:$K$108,N393)","v":0}]
[null,"Lot375",{"$nulls":4},{"$f":"IF(E394=\"\",\"\",IF(VLOOKUP(E394,eleves!$B$3:$E$502,2)=\"\",\"\",VLOOKUP(E394,eleves!$B$3:$E$502,2)))","v":""},{"$nulls":6},394,{"$f":"COUNTIF($E$20:$E$108,N394)","v":0},{"$f":"IF(O394=1,1,IF(R394=1,1,0))","v":0},394,{"$f":"COUNTIF($K$20:$K$108,N394)","v":0}]
[null,"Lot376",{"$nulls":4},{"$f":"IF(E395=\"\",\"\",IF(VLOOKUP(E395,eleves!$B$3:$E$502,2)=\"\",\"\",VLOOKUP(E395,eleves!$B$3:$E$502,2)))","v":""},{"$nulls":6},395,{"$f":"COUNTIF($E$20:$E$108,N395)","v":0},{"$f":"IF(O395=1,1,IF(R395=1,1,0))","v":0},395,{"$f":"COUNTIF($K$20:$K$108,N395)","v":0}]
[null,"Lot377",{"$nulls":4},{"$f":"IF(E396=\"\",\"\",IF(VLOOKUP(E396,eleves!$B$3:$E$502,2)=\"\",\"\",VLOOKUP(E396,eleves!$B$3:$E$502,2)))","v":""},{"$nulls":6},396,{"$f":"COUNTIF($E$20:$E$108,N396)","v":0},{"$f":"IF(O396=1,1,IF(R396=1,1,0))","v":0},396,{"$f":"COUNTIF($K$20:$K$108,N396)","v":0}]
[null,"Lot378",{"$nulls":4},{"$f":"IF(E397=\"\",\"\",IF(VLOOKUP(E397,eleves!$B$3:$E$502,2)=\"\",\"\",VLOOKUP(E397,eleves!$B$3:$E$502,2)))","v":""},{"$nulls":6},397,{"$f":"COUNTIF($E$20:$E$108,N397)","v":0},{"$f":"IF(O397=1,1,IF(R397=1,1,0))","v":0},397,{"$f":"COUNTIF($K$20:$K$108,N397)","v":0}]
[null,"Lot379",{"$nulls":4},{"$f":"IF(E398=\"\",\"\",IF(VLOOKUP(E398,eleves!$B$3:$E$502,2)=\"\",\"\",VLOOKUP(E398,eleves!$B$3:$E$502,2)))","v":""},{"$nulls":6},398,{"$f":"COUNTIF($E$20:$E$108,N398)","v":0},{"$f":"IF(O398=1,1,IF(R398=1,1,0))","v":0},398,{"$f":"COUNTIF($K$20:$K$108,N398)","v":0}]
[null,"Lot380",{"$nulls":4},{"$f":"IF(E399=\"\",\"\",IF(VLOOKUP(E399,eleves!$B$3:$E$502,2)=\"\",\"\",VLOOKUP(E399,eleves!$B$3:$E$502,2)))","v":""},{"$nulls":6},399,{"$f":"COUNTIF($E$20:$E$108,N399)","v":0},{"$f":"IF(O399=1,1,IF(R399=1,1,0))","v":0},399,{"$f":"COUNTIF($K$20:$K$108,N399)","v":0}]
[null,"Lot381",{"$nulls":4},{"$f":"IF(E400=\"\",\"\",IF(VLOOKUP(E400,eleves!$B$3:$E$502,2)=\"\",\"\",VLOOKUP(E400,eleves!$B$3:$E$502,2)))","v":""},{"$nulls":6},400,{"$f":"COUNTIF($E$20:$E$108,N400)","v":0},{"$f":"IF(O400=1,1,IF(R400=1,1,0))","v":0},400,{"$f":"COUNTIF($K$20:$K$108,N400)","v":0}]
[null,"Lot382",{"$nulls":4},{"$f":"IF(E401=\"\",\"\",IF(VLOOKUP(E401,eleves!$B$3:$E$502,2)=\"\",\"\",VLOOKUP(E401,eleves!$B$3:$E$502,2)))","v":""},{"$nulls":6},401,{"$f":"COUNTIF($E$20:$E$108,N401)","v":0},{"$f":"IF(O401=1,1,IF(R401=1,1,0))","v":0},401,{"$f":"COUNTIF($K$20:$K$108,N401)","v":0}]
[null,"Lot383",{"$nulls":4},{"$f":"IF(E402=\"\",\"\",IF(VLOOKUP(E402,eleves!$B$3:$E$502,2)=\"\",\"\",VLOOKUP(E402,eleves!$B$3:$E$502,2)))","v":""},{"$nulls":6},402,{"$f":"COUNTIF($E$20:$E$108,N402)","v":0},{"$f":"IF(O402=1,1,IF(R402=1,1,0))","v":0},402,{"$f":"COUNTIF($K$20:$K$108,N402)","v":0}]
[null,"Lot384",{"$nulls":4},{"$f":"IF(E403=\"\",\"\",IF(VLOOKUP(E403,eleves!$B$3:$E$502,2)=\"\",\"\",VLOOKUP(E403,eleves!$B$3:$E$502,2)))","v":""},{"$nulls":6},403,{"$f":"COUNTIF($E$20:$E$108,N403)","v":0},{"$f":"IF(O403=1,1,IF(R403=1,1,0))","v":0},403,{"$f":"COUNTIF($K$20:$K$108,N403)","v":0}]
[null,"Lot385",{"$nulls":4},{"$f":"IF(E404=\"\",\"\",IF(VLOOKUP(E404,eleves!$B$3:$E$502,2)=\"\",\"\",VLOOKUP(E404,eleves!$B$3:$E$502,2)))","v":""},{"$nulls":6},404,{"$f":"COUNTIF($E$20:$E$108,N404)","v":0},{"$f":"IF(O404=1,1,IF(R404=1,1,0))","v":0},404,{"$f":"COUNTIF($K$20:$K$108,N404)","v":0}]
[null,"Lot386",{"$nulls":4},{"$f":"IF(E405=\"\",\"\",IF(VLOOKUP(E405,eleves!$B$3:$E$502,2)=\"\",\"\",VLOOKUP(E405,eleves!$B$3:$E$502,2)))","v":""},{"$nulls":6},405,{"$f":"COUNTIF($E$20:$E$108,N405)","v":0},{"$f":"IF(O405=1,1,IF(R405=1,1,0))","v":0},405,{"$f":"COUNTIF($K$20:$K$108,N405)","v":0}]
[null,"Lot387",{"$nulls":4},{"$f":"IF(E406=\"\",\"\",IF(VLOOKUP(E406,eleves!$B$3:$E$502,2)=\"\",\"\",VLOOKUP(E406,eleves!$B$3:$E$502,2)))","v":""},{"$nulls":6},406,{"$f":"COUNTIF($E$20:$E$108,N406)","v":0},{"$f":"IF(O406=1,1,IF(R406=1,1,0))","v":0},406,{"$f":"COUNTIF($K$20:$K$108,N406)","v":0}]
[null,"Lot388",{"$nulls":4},{"$f":"IF(E407=\"\",\"\",IF(VLOOKUP(E407,eleves!$B$3:$E$502,2)=\"\",\"\",VLOOKUP(E407,eleves!$B$3:$E$502,2)))","v":""},{"$nulls":6},407,{"$f":"COUNTIF($E$20:$E$108,N407)","v":0},{"$f":"IF(O407=1,1,IF(R407=1,1,0))","v":0},407,{"$f":"COUNTIF($K$20:$K$108,N407)","v":0}]
[null,"Lot389",{"$nulls":4},{"$f":"IF(E408=\"\",\"\",IF(VLOOKUP(E408,eleves!$B$3:$E$502,2)=\"\",\"\",VLOOKUP(E408,eleves!$B$3:$E$502,2)))","v":""},{"$nulls":6},408,{"$f":"COUNTIF($E$20:$E$108,N408)","v":0},{"$f":"IF(O408=1,1,IF(R408=1,1,0))","v":0},408,{"$f":"COUNTIF($K$20:$K$108,N408)","v":0}]
[null,"Lot390",{"$nulls":4},{"$f":"IF(E409=\"\",\"\",IF(VLOOKUP(E409,eleves!$B$3:$E$502,2)=\"\",\"\",VLOOKUP(E409,eleves!$B$3:$E$502,2)))","v":""},{"$nulls":6},409,{"$f":"COUNTIF($E$20:$E$108,N409)","v":0},{"$f":"IF(O409=1,1,IF(R409=1,1,0))","v":0},409,{"$f":"COUNTIF($K$20:$K$108,N409)","v":0}]
[null,"Lot391",{"$nulls":4},{"$f":"IF(E410=\"\",\"\",IF(VLOOKUP(E410,eleves!$B$3:$E$502,2)=\"\",\"\",VLOOKUP(E410,eleves!$B$3:$E$502,2)))","v":""},{"$nulls":6},410,{"$f":"COUNTIF($E$20:$E$108,N410)","v":0},{"$f":"IF(O410=1,1,IF(R410=1,1,0))","v":0},410,{"$f":"COUNTIF($K$20:$K$108,N410)","v":0}]
[null,"Lot392",{"$nulls":4},{"$f":"IF(E411=\"\",\"\",IF(VLOOKUP(E411,eleves!$B$3:$E$502,2)=\"\",\"\",VLOOKUP(E411,eleves!$B$3:$E$502,2)))","v":""},{"$nulls":6},411,{"$f":"COUNTIF($E$20:$E$108,N411)","v":0},{"$f":"IF(O411=1,1,IF(R411=1,1,0))","v":0},411,{"$f":"COUNTIF($K$20:$K$108,N411)","v":0}]
[null,"Lot393",{"$nulls":4},{"$f":"IF(E412=\"\",\"\",IF(VLOOKUP(E412,eleves!$B$3:$E$502,2)=\"\",\"\",VLOOKUP(E412,eleves!$B$3:$E$502,2)))","v":""},{"$nulls":6},412,{"$f":"COUNTIF($E$20:$E$108,N412)","v":0},{"$f":"IF(O412=1,1,IF(R412=1,1,0))","v":0},412,{"$f":"COUNTIF($K$20:$K$108,N412)","v":0}]
[null,"Lot394",{"$nulls":4},{"$f":"IF(E413=\"\",\"\",IF(VLOOKUP(E413,eleves!$B$3:$E$502,2)=\"\",\"\",VLOOKUP(E413,eleves!$B$3:$E$502,2)))","v":""},{"$nulls":6},413,{"$f":"COUNTIF($E$20:$E$108,N413)","v":0},{"$f":"IF(O413=1,1,IF(R413=1,1,0))","v":0},413,{"$f":"COUNTIF($K$20:$K$108,N413)","v":0}]
[null,"Lot395",{"$nulls":4},{"$f":"IF(E414=\"\",\"\",IF(VLOOKUP(E414,eleves!$B$3:$E$502,2)=\"\",\"\",VLOOKUP(E414,eleves!$B$3:$E$502,2)))","v":""},{"$nulls":6},414,{"$f":"COUNTIF($E$20:$E$108,N414)","v":0},{"$f":"IF(O414=1,1,IF(R414=1,1,0))","v":0},414,{"$f":"COUNTIF($K$20:$K$108,N414)","v":0}]
[null,"Lot396",{"$nulls":4},{"$f":"IF(E415=\"\",\"\",IF(VLOOKUP(E415,eleves!$B$3:$E$502,2)=\"\",\"\",VLOOKUP(E415,eleves!$B$3:$E$502,2)))","v":""},{"$nulls":6},415,{"$f":"COUNTIF($E$20:$E$108,N415)","v":0},{"$f":"IF(O415=1,1,IF(R415=1,1,0))","v":0},415,{"$f":"COUNTIF($K$20:$K$108,N415)","v":0}]
[null,"Lot397",{"$nulls":4},{"$f":"IF(E416=\"\",\"\",IF(VLOOKUP(E416,eleves!$B$3:$E$502,2)=\"\",\"\",VLOOKUP(E416,eleves!$B$3:$E$502,2)))","v":""},{"$nulls":6},416,{"$f":"COUNTIF($E$20:$E$108,N416)","v":0},{"$f":"IF(O416=1,1,IF(R416=1,1,0))","v":0},416,{"$f":"COUNTIF($K$20:$K$108,N416)","v":0}]
[null,"Lot398",{"$nulls":4},{"$f":"IF(E417=\"\",\"\",IF(VLOOKUP(E417,eleves!$B$3:$E$502,2)=\"\",\"\",VLOOKUP(E417,eleves!$B$3:$E$502,2)))","v":""},{"$nulls":6},417,{"$f":"COUNTIF($E$20:$E$108,N417)","v":0},{"$f":"IF(O417=1,1,IF(R417=1,1,0))","v":0},417,{"$f":"COUNTIF($K$20:$K$108,N417)","v":0}]
[null,"Lot399",{"$nulls":4},{"$f":"IF(E418=\"\",\"\",IF(VLOOKUP(E418,eleves!$B$3:$E$502,2)=\"\",\"\",VLOOKUP(E418,eleves!$B$3:$E$502,2)))","v":""},{"$nulls":6},418,{"$f":"COUNTIF($E$20:$E$108,N418)","v":0},{"$f":"IF(O418=1,1,IF(R418=1,1,0))","v":0},418,{"$f":"COUNTIF($K$20:$K$108,N418)","v":0}]
[null,"Lot400",{"$nulls":4},{"$f":"IF(E419=\"\",\"\",IF(VLOOKUP(E419,eleves!$B$3:$E$502,2)=\"\",\"\",VLOOKUP(E419,eleves!$B$3:$E$502,2)))","v":""},{"$nulls":6},419,{"$f":"COUNTIF($E$20:$E$108,N419)","v":0},{"$f":"IF(O419=1,1,IF(R419=1,1,0))","v":0},419,{"$f":"COUNTIF($K$20:$K$108,N419)","v":0}]
[null,"Lot401",{"$nulls":4},{"$f":"IF(E420=\"\",\"\",IF(VLOOKUP(E420,eleves!$B$3:$E$502,2)=\"\",\"\",VLOOKUP(E420,eleves!$B$3:$E$502,2)))","v":""},{"$nulls":6},420,{"$f":"COUNTIF($E$20:$E$108,N420)","v":0},{"$f":"IF(O420=1,1,IF(R420=1,1,0))","v":0},420,{"$f":"COUNTIF($K$20:$K$108,N420)","v":0}]
[null,"Lot402",{"$nulls":4},{"$f":"IF(E421=\"\",\"\",IF(VLOOKUP(E421,eleves!$B$3:$E$502,2)=\"\",\"\",VLOOKUP(E421,eleves!$B$3:$E$502,2)))","v":""},{"$nulls":6},421,{"$f":"COUNTIF($E$20:$E$108,N421)","v":0},{"$f":"IF(O421=1,1,IF(R421=1,1,0))","v":0},421,{"$f":"COUNTIF($K$20:$K$108,N421)","v":0}]
[null,"Lot403",{"$nulls":4},{"$f":"IF(E422=\"\",\"\",IF(VLOOKUP(E422,eleves!$B$3:$E$502,2)=\"\",\"\",VLOOKUP(E422,eleves!$B$3:$E$502,2)))","v":""},{"$nulls":6},422,{"$f":"COUNTIF($E$20:$E$108,N422)","v":0},{"$f":"IF(O422=1,1,IF(R422=1,1,0))","v":0},422,{"$f":"COUNTIF($K$20:$K$108,N422)","v":0}]
[null,"Lot404",{"$nulls":4},{"$f":"IF(E423=\"\",\"\",IF(VLOOKUP(E423,eleves!$B$3:$E$502,2)=\"\",\"\",VLOOKUP(E423,eleves!$B$3:$E$502,2)))","v":""},{"$nulls":6},423,{"$f":"COUNTIF($E$20:$E$108,N423)","v":0},{"$f":"IF(O423=1,1,IF(R423=1,1,0))","v":0},423,{"$f":"COUNTIF($K$20:$K$108,N423)","v":0}]
[null,"Lot405",{"$nulls":4},{"$f":"IF(E424=\"\",\"\",IF(VLOOKUP(E424,eleves!$B$3:$E$502,2)=\"\",\"\",VLOOKUP(E424,eleves!$B$3:$E$502,2)))","v":""},{"$nulls":6},424,{"$f":"COUNTIF($E$20:$E$108,N424)","v":0},{"$f":"IF(O424=1,1,IF(R424=1,1,0))","v":0},424,{"$f":"COUNTIF($K$20:$K$108,N424)","v":0}]
[null,"Lot406",{"$nulls":4},{"$f":"IF(E425=\"\",\"\",IF(VLOOKUP(E425,eleves!$B$3:$E$502,2)=\"\",\"\",VLOOKUP(E425,eleves!$B$3:$E$502,2)))","v":""},{"$nulls":6},425,{"$f":"COUNTIF($E$20:$E$108,N425)","v":0},{"$f":"IF(O425=1,1,IF(R425=1,1,0))","v":0},425,{"$f":"COUNTIF($K$20:$K$108,N425)","v":0}]
[null,"Lot407",{"$nulls":4},{"$f":"IF(E426=\"\",\"\",IF(VLOOKUP(E426,eleves!$B$3:$E$502,2)=\"\",\"\",VLOOKUP(E426,eleves!$B$3:$E$502,2)))","v":""},{"$nulls":6},426,{"$f":"COUNTIF($E$20:$E$108,N426)","v":0},{"$f":"IF(O426=1,1,IF(R426=1,1,0))","v":0},426,{"$f":"COUNTIF($K$20:$K$108,N426)","v":0}]
[null,"Lot408",{"$nulls":4},{"$f":"IF(E427=\"\",\"\",IF(VLOOKUP(E427,eleves!$B$3:$E$502,2)=\"\",\"\",VLOOKUP(E427,eleves!$B$3:$E$502,2)))","v":""},{"$nulls":6},427,{"$f":"COUNTIF($E$20:$E$108,N427)","v":0},{"$f":"IF(O427=1,1,IF(R427=1,1,0))","v":0},427,{"$f":"COUNTIF($K$20:$K$108,N427)","v":0}]
[null,"Lot409",{"$nulls":4},{"$f":"IF(E428=\"\",\"\",IF(VLOOKUP(E428,eleves!$B$3:$E$502,2)=\"\",\"\",VLOOKUP(E428,eleves!$B$3:$E$502,2)))","v":""},{"$nulls":6},428,{"$f":"COUNTIF($E$20:$E$108,N428)","v":0},{"$f":"IF(O428=1,1,IF(R428=1,1,0))","v":0},428,{"$f":"COUNTIF($K$20:$K$108,N428)","v":0}]
[null,"Lot410",{"$nulls":4},{"$f":"IF(E429=\"\",\"\",IF(VLOOKUP(E429,eleves!$B$3:$E$502,2)=\"\",\"\",VLOOKUP(E429,eleves!$B$3:$E$502,2)))","v":""},{"$nulls":6},429,{"$f":"COUNTIF($E$20:$E$108,N429)","v":0},{"$f":"IF(O429=1,1,IF(R429=1,1,0))","v":0},429,{"$f":"COUNTIF($K$20:$K$108,N429)","v":0}]
[null,"Lot411",{"$nulls":4},{"$f":"IF(E430=\"\",\"\",IF(VLOOKUP(E430,eleves!$B$3:$E$502,2)=\"\",\"\",VLOOKUP(E430,eleves!$B$3:$E$502,2)))","v":""},{"$nulls":6},430,{"$f":"COUNTIF($E$20:$E$108,N430)","v":0},{"$f":"IF(O430=1,1,IF(R430=1,1,0))","v":0},430,{"$f":"COUNTIF($K$20:$K$108,N430)","v":0}]
[null,"Lot412",{"$nulls":4},{"$f":"IF(E431=\"\",\"\",IF(VLOOKUP(E431,eleves!$B$3:$E$502,2)=\"\",\"\",VLOOKUP(E431,eleves!$B$3:$E$502,2)))","v":""},{"$nulls":6},431,{"$f":"COUNTIF($E$20:$E$108,N431)","v":0},{"$f":"IF(O431=1,1,IF(R431=1,1,0))","v":0},431,{"$f":"COUNTIF($K$20:$K$108,N431)","v":0}]
[null,"Lot413",{"$nulls":4},{"$f":"IF(E432=\"\",\"\",IF(VLOOKUP(E432,eleves!$B$3:$E$502,2)=\"\",\"\",VLOOKUP(E432,eleves!$B$3:$E$502,2)))","v":""},{"$nulls":6},432,{"$f":"COUNTIF($E$20:$E$108,N432)","v":0},{"$f":"IF(O432=1,1,IF(R432=1,1,0))","v":0},432,{"$f":"COUNTIF($K$20:$K$108,N432)","v":0}]
[null,"Lot414",{"$nulls":4},{"$f":"IF(E433=\"\",\"\",IF(VLOOKUP(E433,eleves!$B$3:$E$502,2)=\"\",\"\",VLOOKUP(E433,eleves!$B$3:$E$502,2)))","v":""},{"$nulls":6},433,{"$f":"COUNTIF($E$20:$E$108,N433)","v":0},{"$f":"IF(O433=1,1,IF(R433=1,1,0))","v":0},433,{"$f":"COUNTIF($K$20:$K$108,N433)","v":0}]
[null,"Lot415",{"$nulls":4},{"$f":"IF(E434=\"\",\"\",IF(VLOOKUP(E434,eleves!$B$3:$E$502,2)=\"\",\"\",VLOOKUP(E434,eleves!$B$3:$E$502,2)))","v":""},{"$nulls":6},434,{"$f":"COUNTIF($E$20:$E$108,N434)","v":0},{"$f":"IF(O434=1,1,IF(R434=1,1,0))","v":0},434,{"$f":"COUNTIF($K$20:$K$108,N434)","v":0}]
[null,"Lot416",{"$nulls":4},{"$f":"IF(E435=\"\",\"\",IF(VLOOKUP(E435,eleves!$B$3:$E$502,2)=\"\",\"\",VLOOKUP(E435,eleves!$B$3:$E$502,2)))","v":""},{"$nulls":6},435,{"$f":"COUNTIF($E$20:$E$108,N435)","v":0},{"$f":"IF(O435=1,1,IF(R435=1,1,0))","v":0},435,{"$f":"COUNTIF($K$20:$K$108,N435)","v":0}]
[null,"Lot417",{"$nulls":4},{"$f":"IF(E436=\"\",\"\",IF(VLOOKUP(E436,eleves!$B$3:$E$502,2)=\"\",\"\",VLOOKUP(E436,eleves!$B$3:$E$502,2)))","v":""},{"$nulls":6},436,{"$f":"COUNTIF($E$20:$E$108,N436)","v":0},{"$f":"IF(O436=1,1,IF(R436=1,1,0))","v":0},436,{"$f":"COUNTIF($K$20:$K$108,N436)","v":0}]
[null,"Lot418",{"$nulls":4},{"$f":"IF(E437=\"\",\"\",IF(VLOOKUP(E437,eleves!$B$3:$E$502,2)=\"\",\"\",VLOOKUP(E437,eleves!$B$3:$E$502,2)))","v":""},{"$nulls":6},437,{"$f":"COUNTIF($E$20:$E$108,N437)","v":0},{"$f":"IF(O437=1,1,IF(R437=1,1,0))","v":0},437,{"$f":"COUNTIF($K$20:$K$108,N437)","v":0}]
[null,"Lot419",{"$nulls":4},{"$f":"IF(E438=\"\",\"\",IF(VLOOKUP(E438,eleves!$B$3:$E$502,2)=\"\",\"\",VLOOKUP(E438,eleves!$B$3:$E$502,2)))","v":""},{"$nulls":6},438,{"$f":"COUNTIF($E$20:$E$108,N438)","v":0},{"$f":"IF(O438=1,1,IF(R438=1,1,0))","v":0},438,{"$f":"COUNTIF($K$20:$K$108,N438)","v":0}]
[null,"Lot420",{"$nulls":4},{"$f":"IF(E439=\"\",\"\",IF(VLOOKUP(E439,eleves!$B$3:$E$502,2)=\"\",\"\",VLOOKUP(E439,eleves!$B$3:$E$502,2)))","v":""},{"$nulls":6},439,{"$f":"COUNTIF($E$20:$E$108,N439)","v":0},{"$f":"IF(O439=1,1,IF(R439=1,1,0))","v":0},439,{"$f":"COUNTIF($K$20:$K$108,N439)","v":0}]
[null,"Lot421",{"$nulls":4},{"$f":"IF(E440=\"\",\"\",IF(VLOOKUP(E440,eleves!$B$3:$E$502,2)=\"\",\"\",VLOOKUP(E440,eleves!$B$3:$E$502,2)))","v":""},{"$nulls":6},440,{"$f":"COUNTIF($E$20:$E$108,N440)","v":0},{"$f":"IF(O440=1,1,IF(R440=1,1,0))","v":0},440,{"$f":"COUNTIF($K$20:$K$108,N440)","v":0}]
[null,"Lot422",{"$nulls":4},{"$f":"IF(E441=\"\",\"\",IF(VLOOKUP(E441,eleves!$B$3:$E$502,2)=\"\",\"\",VLOOKUP(E441,eleves!$B$3:$E$502,2)))","v":""},{"$nulls":6},441,{"$f":"COUNTIF($E$20:$E$108,N441)","v":0},{"$f":"IF(O441=1,1,IF(R441=1,1,0))","v":0},441,{"$f":"COUNTIF($K$20:$K$108,N441)","v":0}]
[null,"Lot423",{"$nulls":4},{"$f":"IF(E442=\"\",\"\",IF(VLOOKUP(E442,eleves!$B$3:$E$502,2)=\"\",\"\",VLOOKUP(E442,eleves!$B$3:$E$502,2)))","v":""},{"$nulls":6},442,{"$f":"COUNTIF($E$20:$E$108,N442)","v":0},{"$f":"IF(O442=1,1,IF(R442=1,1,0))","v":0},442,{"$f":"COUNTIF($K$20:$K$108,N442)","v":0}]
[null,"Lot424",{"$nulls":4},{"$f":"IF(E443=\"\",\"\",IF(VLOOKUP(E443,eleves!$B$3:$E$502,2)=\"\",\"\",VLOOKUP(E443,eleves!$B$3:$E$502,2)))","v":""},{"$nulls":6},443,{"$f":"COUNTIF($E$20:$E$108,N443)","v":0},{"$f":"IF(O443=1,1,IF(R443=1,1,0))","v":0},443,{"$f":"COUNTIF($K$20:$K$108,N443)","v":0}]
[null,"Lot425",{"$nulls":4},{"$f":"IF(E444=\"\",\"\",IF(VLOOKUP(E444,eleves!$B$3:$E$502,2)=\"\",\"\",VLOOKUP(E444,eleves!$B$3:$E$502,2)))","v":""},{"$nulls":6},444,{"$f":"COUNTIF($E$20:$E$108,N444)","v":0},{"$f":"IF(O444=1,1,IF(R444=1,1,0))","v":0},444,{"$f":"COUNTIF($K$20:$K$108,N444)","v":0}]
[null,"Lot426",{"$nulls":4},{"$f":"IF(E445=\"\",\"\",IF(VLOOKUP(E445,eleves!$B$3:$E$502,2)=\"\",\"\",VLOOKUP(E445,eleves!$B$3:$E$502,2)))","v":""},{"$nulls":6},445,{"$f":"COUNTIF($E$20:$E$108,N445)","v":0},{"$f":"IF(O445=1,1,IF(R445=1,1,0))","v":0},445,{"$f":"COUNTIF($K$20:$K$108,N445)","v":0}]
[null,"Lot427",{"$nulls":4},{"$f":"IF(E446=\"\",\"\",IF(VLOOKUP(E446,eleves!$B$3:$E$502,2)=\"\",\"\",VLOOKUP(E446,eleves!$B$3:$E$502,2)))","v":""},{"$nulls":6},446,{"$f":"COUNTIF($E$20:$E$108,N446)","v":0},{"$f":"IF(O446=1,1,IF(R446=1,1,0))","v":0},446,{"$f":"COUNTIF($K$20:$K$108,N446)","v":0}]
[null,"Lot428",{"$nulls":4},{"$f":"IF(E447=\"\",\"\",IF(VLOOKUP(E447,eleves!$B$3:$E$502,2)=\"\",\"\",VLOOKUP(E447,eleves!$B$3:$E$502,2)))","v":""},{"$nulls":6},447,{"$f":"COUNTIF($E$20:$E$108,N447)","v":0},{"$f":"IF(O447=1,1,IF(R447=1,1,0))","v":0},447,{"$f":"COUNTIF($K$20:$K$108,N447)","v":0}]
[null,"Lot429",{"$nulls":4},{"$f":"IF(E448=\"\",\"\",IF(VLOOKUP(E448,eleves!$B$3:$E$502,2)=\"\",\"\",VLOOKUP(E448,eleves!$B$3:$E$502,2)))","v":""},{"$nulls":6},448,{"$f":"COUNTIF($E$20:$E$108,N448)","v":0},{"$f":"IF(O448=1,1,IF(R448=1,1,0))","v":0},448,{"$f":"COUNTIF($K$20:$K$108,N448)","v":0}]
[null,"Lot430",{"$nulls":4},{"$f":"IF(E449=\"\",\"\",IF(VLOOKUP(E449,eleves!$B$3:$E$502,2)=\"\",\"\",VLOOKUP(E449,eleves!$B$3:$E$502,2)))","v":""},{"$nulls":6},449,{"$f":"COUNTIF($E$20:$E$108,N449)","v":0},{"$f":"IF(O449=1,1,IF(R449=1,1,0))","v":0},449,{"$f":"COUNTIF($K$20:$K$108,N449)","v":0}]
[null,"Lot431",{"$nulls":4},{"$f":"IF(E450=\"\",\"\",IF(VLOOKUP(E450,eleves!$B$3:$E$502,2)=\"\",\"\",VLOOKUP(E450,eleves!$B$3:$E$502,2)))","v":""},{"$nulls":6},450,{"$f":"COUNTIF($E$20:$E$108,N450)","v":0},{"$f":"IF(O450=1,1,IF(R450=1,1,0))","v":0},450,{"$f":"COUNTIF($K$20:$K$108,N450)","v":0}]
[null,"Lot432",{"$nulls":4},{"$f":"IF(E451=\"\",\"\",IF(VLOOKUP(E451,eleves!$B$3:$E$502,2)=\"\",\"\",VLOOKUP(E451,eleves!$B$3:$E$502,2)))","v":""},{"$nulls":6},451,{"$f":"COUNTIF($E$20:$E$108,N451)","v":0},{"$f":"IF(O451=1,1,IF(R451=1,1,0))","v":0},451,{"$f":"COUNTIF($K$20:$K$108,N451)","v":0}]
[null,"Lot433",{"$nulls":4},{"$f":"IF(E452=\"\",\"\",IF(VLOOKUP(E452,eleves!$B$3:$E$502,2)=\"\",\"\",VLOOKUP(E452,eleves!$B$3:$E$502,2)))","v":""},{"$nulls":6},452,{"$f":"COUNTIF($E$20:$E$108,N452)","v":0},{"$f":"IF(O452=1,1,IF(R452=1,1,0))","v":0},452,{"$f":"COUNTIF($K$20:$K$108,N452)","v":0}]
[null,"Lot434",{"$nulls":4},{"$f":"IF(E453=\"\",\"\",IF(VLOOKUP(E453,eleves!$B$3:$E$502,2)=\"\",\"\",VLOOKUP(E453,eleves!$B$3:$E$502,2)))","v":""},{"$nulls":6},453,{"$f":"COUNTIF($E$20:$E$108,N453)","v":0},{"$f":"IF(O453=1,1,IF(R453=1,1,0))","v":0},453,{"$f":"COUNTIF($K$20:$K$108,N453)","v":0}]
[null,"Lot435",{"$nulls":4},{"$f":"IF(E454=\"\",\"\",IF(VLOOKUP(E454,eleves!$B$3:$E$502,2)=\"\",\"\",VLOOKUP(E454,eleves!$B$3:$E$502,2)))","v":""},{"$nulls":6},454,{"$f":"COUNTIF($E$20:$E$108,N454)","v":0},{"$f":"IF(O454=1,1,IF(R454=1,1,0))","v":0},454,{"$f":"COUNTIF($K$20:$K$108,N454)","v":0}]
[null,"Lot436",{"$nulls":4},{"$f":"IF(E455=\"\",\"\",IF(VLOOKUP(E455,eleves!$B$3:$E$502,2)=\"\",\"\",VLOOKUP(E455,eleves!$B$3:$E$502,2)))","v":""},{"$nulls":6},455,{"$f":"COUNTIF($E$20:$E$108,N455)","v":0},{"$f":"IF(O455=1,1,IF(R455=1,1,0))","v":0},455,{"$f":"COUNTIF($K$20:$K$108,N455)","v":0}]
[null,"Lot437",{"$nulls":4},{"$f":"IF(E456=\"\",\"\",IF(VLOOKUP(E456,eleves!$B$3:$E$502,2)=\"\",\"\",VLOOKUP(E456,eleves!$B$3:$E$502,2)))","v":""},{"$nulls":6},456,{"$f":"COUNTIF($E$20:$E$108,N456)","v":0},{"$f":"IF(O456=1,1,IF(R456=1,1,0))","v":0},456,{"$f":"COUNTIF($K$20:$K$108,N456)","v":0}]
[null,"Lot438",{"$nulls":4},{"$f":"IF(E457=\"\",\"\",IF(VLOOKUP(E457,eleves!$B$3:$E$502,2)=\"\",\"\",VLOOKUP(E457,eleves!$B$3:$E$502,2)))","v":""},{"$nulls":6},457,{"$f":"COUNTIF($E$20:$E$108,N457)","v":0},{"$f":"IF(O457=1,1,IF(R457=1,1,0))","v":0},457,{"$f":"COUNTIF($K$20:$K$108,N457)","v":0}]
[null,"Lot439",{"$nulls":4},{"$f":"IF(E458=\"\",\"\",IF(VLOOKUP(E458,eleves!$B$3:$E$502,2)=\"\",\"\",VLOOKUP(E458,eleves!$B$3:$E$502,2)))","v":""},{"$nulls":6},458,{"$f":"COUNTIF($E$20:$E$108,N458)","v":0},{"$f":"IF(O458=1,1,IF(R458=1,1,0))","v":0},458,{"$f":"COUNTIF($K$20:$K$108,N458)","v":0}]
[null,"Lot440",{"$nulls":4},{"$f":"IF(E459=\"\",\"\",IF(VLOOKUP(E459,eleves!$B$3:$E$502,2)=\"\",\"\",VLOOKUP(E459,eleves!$B$3:$E$502,2)))","v":""},{"$nulls":6},459,{"$f":"COUNTIF($E$20:$E$108,N459)","v":0},{"$f":"IF(O459=1,1,IF(R459=1,1,0))","v":0},459,{"$f":"COUNTIF($K$20:$K$108,N459)","v":0}]
[null,"Lot441",{"$nulls":4},{"$f":"IF(E460=\"\",\"\",IF(VLOOKUP(E460,eleves!$B$3:$E$502,2)=\"\",\"\",VLOOKUP(E460,eleves!$B$3:$E$502,2)))","v":""},{"$nulls":6},460,{"$f":"COUNTIF($E$20:$E$108,N460)","v":0},{"$f":"IF(O460=1,1,IF(R460=1,1,0))","v":0},460,{"$f":"COUNTIF($K$20:$K$108,N460)","v":0}]
[null,"Lot442",{"$nulls":4},{"$f":"IF(E461=\"\",\"\",IF(VLOOKUP(E461,eleves!$B$3:$E$502,2)=\"\",\"\",VLOOKUP(E461,eleves!$B$3:$E$502,2)))","v":""},{"$nulls":6},461,{"$f":"COUNTIF($E$20:$E$108,N461)","v":0},{"$f":"IF(O461=1,1,IF(R461=1,1,0))","v":0},461,{"$f":"COUNTIF($K$20:$K$108,N461)","v":0}]
[null,"Lot443",{"$nulls":4},{"$f":"IF(E462=\"\",\"\",IF(VLOOKUP(E462,eleves!$B$3:$E$502,2)=\"\",\"\",VLOOKUP(E462,eleves!$B$3:$E$502,2)))","v":""},{"$nulls":6},462,{"$f":"COUNTIF($E$20:$E$108,N462)","v":0},{"$f":"IF(O462=1,1,IF(R462=1,1,0))","v":0},462,{"$f":"COUNTIF($K$20:$K$108,N462)","v":0}]
[null,"Lot444",{"$nulls":4},{"$f":"IF(E463=\"\",\"\",IF(VLOOKUP(E463,eleves!$B$3:$E$502,2)=\"\",\"\",VLOOKUP(E463,eleves!$B$3:$E$502,2)))","v":""},{"$nulls":6},463,{"$f":"COUNTIF($E$20:$E$108,N463)","v":0},{"$f":"IF(O463=1,1,IF(R463=1,1,0))","v":0},463,{"$f":"COUNTIF($K$20:$K$108,N463)","v":0}]
[null,"Lot445",{"$nulls":4},{"$f":"IF(E464=\"\",\"\",IF(VLOOKUP(E464,eleves!$B$3:$E$502,2)=\"\",\"\",VLOOKUP(E464,eleves!$B$3:$E$502,2)))","v":""},{"$nulls":6},464,{"$f":"COUNTIF($E$20:$E$108,N464)","v":0},{"$f":"IF(O464=1,1,IF(R464=1,1,0))","v":0},464,{"$f":"COUNTIF($K$20:$K$108,N464)","v":0}]
[null,"Lot446",{"$nulls":4},{"$f":"IF(E465=\"\",\"\",IF(VLOOKUP(E465,eleves!$B$3:$E$502,2)=\"\",\"\",VLOOKUP(E465,eleves!$B$3:$E$502,2)))","v":""},{"$nulls":6},465,{"$f":"COUNTIF($E$20:$E$108,N465)","v":0},{"$f":"IF(O465=1,1,IF(R465=1,1,0))","v":0},465,{"$f":"COUNTIF($K$20:$K$108,N465)","v":0}]
[null,"Lot447",{"$nulls":4},{"$f":"IF(E466=\"\",\"\",IF(VLOOKUP(E466,eleves!$B$3:$E$502,2)=\"\",\"\",VLOOKUP(E466,eleves!$B$3:$E$502,2)))","v":""},{"$nulls":6},466,{"$f":"COUNTIF($E$20:$E$108,N466)","v":0},{"$f":"IF(O466=1,1,IF(R466=1,1,0))","v":0},466,{"$f":"COUNTIF($K$20:$K$108,N466)","v":0}]
[null,"Lot448",{"$nulls":4},{"$f":"IF(E467=\"\",\"\",IF(VLOOKUP(E467,eleves!$B$3:$E$502,2)=\"\",\"\",VLOOKUP(E467,eleves!$B$3:$E$502,2)))","v":""},{"$nulls":6},467,{"$f":"COUNTIF($E$20:$E$108,N467)","v":0},{"$f":"IF(O467=1,1,IF(R467=1,1,0))","v":0},467,{"$f":"COUNTIF($K$20:$K$108,N467)","v":0}]
[null,"Lot449",{"$nulls":4},{"$f":"IF(E468=\"\",\"\",IF(VLOOKUP(E468,eleves!$B$3:$E$502,2)=\"\",\"\",VLOOKUP(E468,eleves!$B$3:$E$502,2)))","v":""},{"$nulls":6},468,{"$f":"COUNTIF($E$20:$E$108,N468)","v":0},{"$f":"IF(O468=1,1,IF(R468=1,1,0))","v":0},468,{"$f":"COUNTIF($K$20:$K$108,N468)","v":0}]
[null,"Lot450",{"$nulls":4},{"$f":"IF(E469=\"\",\"\",IF(VLOOKUP(E469,eleves!$B$3:$E$502,2)=\"\",\"\",VLOOKUP(E469,eleves!$B$3:$E$502,2)))","v":""},{"$nulls":6},469,{"$f":"COUNTIF($E$20:$E$108,N469)","v":0},{"$f":"IF(O469=1,1,IF(R469=1,1,0))","v":0},469,{"$f":"COUNTIF($K$20:$K$108,N469)","v":0}]
[null,"Lot451",{"$nulls":4},{"$f":"IF(E470=\"\",\"\",IF(VLOOKUP(E470,eleves!$B$3:$E$502,2)=\"\",\"\",VLOOKUP(E470,eleves!$B$3:$E$502,2)))","v":""},{"$nulls":6},470,{"$f":"COUNTIF($E$20:$E$108,N470)","v":0},{"$f":"IF(O470=1,1,IF(R470=1,1,0))","v":0},470,{"$f":"COUNTIF($K$20:$K$108,N470)","v":0}]
[null,"Lot452",{"$nulls":4},{"$f":"IF(E471=\"\",\"\",IF(VLOOKUP(E471,eleves!$B$3:$E$502,2)=\"\",\"\",VLOOKUP(E471,eleves!$B$3:$E$502,2)))","v":""},{"$nulls":6},471,{"$f":"COUNTIF($E$20:$E$108,N471)","v":0},{"$f":"IF(O471=1,1,IF(R471=1,1,0))","v":0},471,{"$f":"COUNTIF($K$20:$K$108,N471)","v":0}]
[null,"Lot453",{"$nulls":4},{"$f":"IF(E472=\"\",\"\",IF(VLOOKUP(E472,eleves!$B$3:$E$502,2)=\"\",\"\",VLOOKUP(E472,eleves!$B$3:$E$502,2)))","v":""},{"$nulls":6},472,{"$f":"COUNTIF($E$20:$E$108,N472)","v":0},{"$f":"IF(O472=1,1,IF(R472=1,1,0))","v":0},472,{"$f":"COUNTIF($K$20:$K$108,N472)","v":0}]
[null,"Lot454",{"$nulls":4},{"$f":"IF(E473=\"\",\"\",IF(VLOOKUP(E473,eleves!$B$3:$E$502,2)=\"\",\"\",VLOOKUP(E473,eleves!$B$3:$E$502,2)))","v":""},{"$nulls":6},473,{"$f":"COUNTIF($E$20:$E$108,N473)","v":0},{"$f":"IF(O473=1,1,IF(R473=1,1,0))","v":0},473,{"$f":"COUNTIF($K$20:$K$108,N473)","v":0}]
[null,"Lot455",{"$nulls":4},{"$f":"IF(E474=\"\",\"\",IF(VLOOKUP(E474,eleves!$B$3:$E$502,2)=\"\",\"\",VLOOKUP(E474,eleves!$B$3:$E$502,2)))","v":""},{"$nulls":6},474,{"$f":"COUNTIF($E$20:$E$108,N474)","v":0},{"$f":"IF(O474=1,1,IF(R474=1,1,0))","v":0},474,{"$f":"COUNTIF($K$20:$K$108,N474)","v":0}]
[null,"Lot456",{"$nulls":4},{"$f":"IF(E475=\"\",\"\",IF(VLOOKUP(E475,eleves!$B$3:$E$502,2)=\"\",\"\",VLOOKUP(E475,eleves!$B$3:$E$502,2)))","v":""},{"$nulls":6},475,{"$f":"COUNTIF($E$20:$E$108,N475)","v":0},{"$f":"IF(O475=1,1,IF(R475=1,1,0))","v":0},475,{"$f":"COUNTIF($K$20:$K$108,N475)","v":0}]
[null,"Lot457",{"$nulls":4},{"$f":"IF(E476=\"\",\"\",IF(VLOOKUP(E476,eleves!$B$3:$E$502,2)=\"\",\"\",VLOOKUP(E476,eleves!$B$3:$E$502,2)))","v":""},{"$nulls":6},476,{"$f":"COUNTIF($E$20:$E$108,N476)","v":0},{"$f":"IF(O476=1,1,IF(R476=1,1,0))","v":0},476,{"$f":"COUNTIF($K$20:$K$108,N476)","v":0}]
[null,"Lot458",{"$nulls":4},{"$f":"IF(E477=\"\",\"\",IF(VLOOKUP(E477,eleves!$B$3:$E$502,2)=\"\",\"\",VLOOKUP(E477,eleves!$B$3:$E$502,2)))","v":""},{"$nulls":6},477,{"$f":"COUNTIF($E$20:$E$108,N477)","v":0},{"$f":"IF(O477=1,1,IF(R477=1,1,0))","v":0},477,{"$f":"COUNTIF($K$20:$K$108,N477)","v":0}]
[null,"Lot459",{"$nulls":4},{"$f":"IF(E478=\"\",\"\",IF(VLOOKUP(E478,eleves!$B$3:$E$502,2)=\"\",\"\",VLOOKUP(E478,eleves!$B$3:$E$502,2)))","v":""},{"$nulls":6},478,{"$f":"COUNTIF($E$20:$E$108,N478)","v":0},{"$f":"IF(O478=1,1,IF(R478=1,1,0))","v":0},478,{"$f":"COUNTIF($K$20:$K$108,N478)","v":0}]
[null,"Lot460",{"$nulls":4},{"$f":"IF(E479=\"\",\"\",IF(VLOOKUP(E479,eleves!$B$3:$E$502,2)=\"\",\"\",VLOOKUP(E479,eleves!$B$3:$E$502,2)))","v":""},{"$nulls":6},479,{"$f":"COUNTIF($E$20:$E$108,N479)","v":0},{"$f":"IF(O479=1,1,IF(R479=1,1,0))","v":0},479,{"$f":"COUNTIF($K$20:$K$108,N479)","v":0}]
[null,"Lot461",{"$nulls":4},{"$f":"IF(E480=\"\",\"\",IF(VLOOKUP(E480,eleves!$B$3:$E$502,2)=\"\",\"\",VLOOKUP(E480,eleves!$B$3:$E$502,2)))","v":""},{"$nulls":6},480,{"$f":"COUNTIF($E$20:$E$108,N480)","v":0},{"$f":"IF(O480=1,1,IF(R480=1,1,0))","v":0},480,{"$f":"COUNTIF($K$20:$K$108,N480)","v":0}]
[null,"Lot462",{"$nulls":4},{"$f":"IF(E481=\"\",\"\",IF(VLOOKUP(E481,eleves!$B$3:$E$502,2)=\"\",\"\",VLOOKUP(E481,eleves!$B$3:$E$502,2)))","v":""},{"$nulls":6},481,{"$f":"COUNTIF($E$20:$E$108,N481)","v":0},{"$f":"IF(O481=1,1,IF(R481=1,1,0))","v":0},481,{"$f":"COUNTIF($K$20:$K$108,N481)","v":0}]
[null,"Lot463",{"$nulls":4},{"$f":"IF(E482=\"\",\"\",IF(VLOOKUP(E482,eleves!$B$3:$E$502,2)=\"\",\"\",VLOOKUP(E482,eleves!$B$3:$E$502,2)))","v":""},{"$nulls":6},482,{"$f":"COUNTIF($E$20:$E$108,N482)","v":0},{"$f":"IF(O482=1,1,IF(R482=1,1,0))","v":0},482,{"$f":"COUNTIF($K$20:$K$108,N482)","v":0}]
[null,"Lot464",{"$nulls":4},{"$f":"IF(E483=\"\",\"\",IF(VLOOKUP(E483,eleves!$B$3:$E$502,2)=\"\",\"\",VLOOKUP(E483,eleves!$B$3:$E$502,2)))","v":""},{"$nulls":6},483,{"$f":"COUNTIF($E$20:$E$108,N483)","v":0},{"$f":"IF(O483=1,1,IF(R483=1,1,0))","v":0},483,{"$f":"COUNTIF($K$20:$K$108,N483)","v":0}]
[null,"Lot465",{"$nulls":4},{"$f":"IF(E484=\"\",\"\",IF(VLOOKUP(E484,eleves!$B$3:$E$502,2)=\"\",\"\",VLOOKUP(E484,eleves!$B$3:$E$502,2)))","v":""},{"$nulls":6},484,{"$f":"COUNTIF($E$20:$E$108,N484)","v":0},{"$f":"IF(O484=1,1,IF(R484=1,1,0))","v":0},484,{"$f":"COUNTIF($K$20:$K$108,N484)","v":0}]
[null,"Lot466",{"$nulls":4},{"$f":"IF(E485=\"\",\"\",IF(VLOOKUP(E485,eleves!$B$3:$E$502,2)=\"\",\"\",VLOOKUP(E485,eleves!$B$3:$E$502,2)))","v":""},{"$nulls":6},485,{"$f":"COUNTIF($E$20:$E$108,N485)","v":0},{"$f":"IF(O485=1,1,IF(R485=1,1,0))","v":0},485,{"$f":"COUNTIF($K$20:$K$108,N485)","v":0}]
[null,"Lot467",{"$nulls":4},{"$f":"IF(E486=\"\",\"\",IF(VLOOKUP(E486,eleves!$B$3:$E$502,2)=\"\",\"\",VLOOKUP(E486,eleves!$B$3:$E$502,2)))","v":""},{"$nulls":6},486,{"$f":"COUNTIF($E$20:$E$108,N486)","v":0},{"$f":"IF(O486=1,1,IF(R486=1,1,0))","v":0},486,{"$f":"COUNTIF($K$20:$K$108,N486)","v":0}]
[null,"Lot468",{"$nulls":4},{"$f":"IF(E487=\"\",\"\",IF(VLOOKUP(E487,eleves!$B$3:$E$502,2)=\"\",\"\",VLOOKUP(E487,eleves!$B$3:$E$502,2)))","v":""},{"$nulls":6},487,{"$f":"COUNTIF($E$20:$E$108,N487)","v":0},{"$f":"IF(O487=1,1,IF(R487=1,1,0))","v":0},487,{"$f":"COUNTIF($K$20:$K$108,N487)","v":0}]
[null,"Lot469",{"$nulls":4},{"$f":"IF(E488=\"\",\"\",IF(VLOOKUP(E488,eleves!$B$3:$E$502,2)=\"\",\"\",VLOOKUP(E488,eleves!$B$3:$E$502,2)))","v":""},{"$nulls":6},488,{"$f":"COUNTIF($E$20:$E$108,N488)","v":0},{"$f":"IF(O488=1,1,IF(R488=1,1,0))","v":0},488,{"$f":"COUNTIF($K$20:$K$108,N488)","v":0}]
[null,"Lot470",{"$nulls":4},{"$f":"IF(E489=\"\",\"\",IF(VLOOKUP(E489,eleves!$B$3:$E$502,2)=\"\",\"\",VLOOKUP(E489,eleves!$B$3:$E$502,2)))","v":""},{"$nulls":6},489,{"$f":"COUNTIF($E$20:$E$108,N489)","v":0},{"$f":"IF(O489=1,1,IF(R489=1,1,0))","v":0},489,{"$f":"COUNTIF($K$20:$K$108,N489)","v":0}]
[null,"Lot471",{"$nulls":4},{"$f":"IF(E490=\"\",\"\",IF(VLOOKUP(E490,eleves!$B$3:$E$502,2)=\"\",\"\",VLOOKUP(E490,eleves!$B$3:$E$502,2)))","v":""},{"$nulls":6},490,{"$f":"COUNTIF($E$20:$E$108,N490)","v":0},{"$f":"IF(O490=1,1,IF(R490=1,1,0))","v":0},490,{"$f":"COUNTIF($K$20:$K$108,N490)","v":0}]
[null,"Lot472",{"$nulls":4},{"$f":"IF(E491=\"\",\"\",IF(VLOOKUP(E491,eleves!$B$3:$E$502,2)=\"\",\"\",VLOOKUP(E491,eleves!$B$3:$E$502,2)))","v":""},{"$nulls":6},491,{"$f":"COUNTIF($E$20:$E$108,N491)","v":0},{"$f":"IF(O491=1,1,IF(R491=1,1,0))","v":0},491,{"$f":"COUNTIF($K$20:$K$108,N491)","v":0}]
[null,"Lot473",{"$nulls":4},{"$f":"IF(E492=\"\",\"\",IF(VLOOKUP(E492,eleves!$B$3:$E$502,2)=\"\",\"\",VLOOKUP(E492,eleves!$B$3:$E$502,2)))","v":""},{"$nulls":6},492,{"$f":"COUNTIF($E$20:$E$108,N492)","v":0},{"$f":"IF(O492=1,1,IF(R492=1,1,0))","v":0},492,{"$f":"COUNTIF($K$20:$K$108,N492)","v":0}]
[null,"Lot474",{"$nulls":4},{"$f":"IF(E493=\"\",\"\",IF(VLOOKUP(E493,eleves!$B$3:$E$502,2)=\"\",\"\",VLOOKUP(E493,eleves!$B$3:$E$502,2)))","v":""},{"$nulls":6},493,{"$f":"COUNTIF($E$20:$E$108,N493)","v":0},{"$f":"IF(O493=1,1,IF(R493=1,1,0))","v":0},493,{"$f":"COUNTIF($K$20:$K$108,N493)","v":0}]
[null,"Lot475",{"$nulls":4},{"$f":"IF(E494=\"\",\"\",IF(VLOOKUP(E494,eleves!$B$3:$E$502,2)=\"\",\"\",VLOOKUP(E494,eleves!$B$3:$E$502,2)))","v":""},{"$nulls":6},494,{"$f":"COUNTIF($E$20:$E$108,N494)","v":0},{"$f":"IF(O494=1,1,IF(R494=1,1,0))","v":0},494,{"$f":"COUNTIF($K$20:$K$108,N494)","v":0}]
[null,"Lot476",{"$nulls":4},{"$f":"IF(E495=\"\",\"\",IF(VLOOKUP(E495,eleves!$B$3:$E$502,2)=\"\",\"\",VLOOKUP(E495,eleves!$B$3:$E$502,2)))","v":""},{"$nulls":6},495,{"$f":"COUNTIF($E$20:$E$108,N495)","v":0},{"$f":"IF(O495=1,1,IF(R495=1,1,0))","v":0},495,{"$f":"COUNTIF($K$20:$K$108,N495)","v":0}]
[null,"Lot477",{"$nulls":4},{"$f":"IF(E496=\"\",\"\",IF(VLOOKUP(E496,eleves!$B$3:$E$502,2)=\"\",\"\",VLOOKUP(E496,eleves!$B$3:$E$502,2)))","v":""},{"$nulls":6},496,{"$f":"COUNTIF($E$20:$E$108,N496)","v":0},{"$f":"IF(O496=1,1,IF(R496=1,1,0))","v":0},496,{"$f":"COUNTIF($K$20:$K$108,N496)","v":0}]
[null,"Lot478",{"$nulls":4},{"$f":"IF(E497=\"\",\"\",IF(VLOOKUP(E497,eleves!$B$3:$E$502,2)=\"\",\"\",VLOOKUP(E497,eleves!$B$3:$E$502,2)))","v":""},{"$nulls":6},497,{"$f":"COUNTIF($E$20:$E$108,N497)","v":0},{"$f":"IF(O497=1,1,IF(R497=1,1,0))","v":0},497,{"$f":"COUNTIF($K$20:$K$108,N497)","v":0}]
[null,"Lot479",{"$nulls":4},{"$f":"IF(E498=\"\",\"\",IF(VLOOKUP(E498,eleves!$B$3:$E$502,2)=\"\",\"\",VLOOKUP(E498,eleves!$B$3:$E$502,2)))","v":""},{"$nulls":6},498,{"$f":"COUNTIF($E$20:$E$108,N498)","v":0},{"$f":"IF(O498=1,1,IF(R498=1,1,0))","v":0},498,{"$f":"COUNTIF($K$20:$K$108,N498)","v":0}]
[null,"Lot480",{"$nulls":4},{"$f":"IF(E499=\"\",\"\",IF(VLOOKUP(E499,eleves!$B$3:$E$502,2)=\"\",\"\",VLOOKUP(E499,eleves!$B$3:$E$502,2)))","v":""},{"$nulls":6},499,{"$f":"COUNTIF($E$20:$E$108,N499)","v":0},{"$f":"IF(O499=1,1,IF(R499=1,1,0))","v":0},499,{"$f":"COUNTIF($K$20:$K$108,N499)","v":0}]
[null,"Lot481",{"$nulls":4},{"$f":"IF(E500=\"\",\"\",IF(VLOOKUP(E500,eleves!$B$3:$E$502,2)=\"\",\"\",VLOOKUP(E500,eleves!$B$3:$E$502,2)))","v":""},{"$nulls":6},500,{"$f":"COUNTIF($E$20:$E$108,N500)","v":0},{"$f":"IF(O500=1,1,IF(R500=1,1,0))","v":0},500,{"$f":"COUNTIF($K$20:$K$108,N500)","v":0}]
[null,"Lot482",{"$nulls":4},{"$f":"IF(E501=\"\",\"\",IF(VLOOKUP(E501,eleves!$B$3:$E$502,2)=\"\",\"\",VLOOKUP(E501,eleves!$B$3:$E$502,2)))","v":""}]
[null,"Lot483",{"$nulls":4},{"$f":"IF(E502=\"\",\"\",IF(VLOOKUP(E502,eleves!$B$3:$E$502,2)=\"\",\"\",VLOOKUP(E502,eleves!$B$3:$E$502,2)))","v":""}]
[null,"Lot484",{"$nulls":4},{"$f":"IF(E503=\"\",\"\",IF(VLOOKUP(E503,eleves!$B$3:$E$502,2)=\"\",\"\",VLOOKUP(E503,eleves!$B$3:$E$502,2)))","v":""}]
[null,"Lot485",{"$nulls":4},{"$f":"IF(E504=\"\",\"\",IF(VLOOKUP(E504,eleves!$B$3:$E$502,2)=\"\",\"\",VLOOKUP(E504,eleves!$B$3:$E$502,2)))","v":""}]
[null,"Lot486",{"$nulls":4},{"$f":"IF(E505=\"\",\"\",IF(VLOOKUP(E505,eleves!$B$3:$E$502,2)=\"\",\"\",VLOOKUP(E505,eleves!$B$3:$E$502,2)))","v":""}]
[null,"Lot487",{"$nulls":4},{"$f":"IF(E506=\"\",\"\",IF(VLOOKUP(E506,eleves!$B$3:$E$502,2)=\"\",\"\",VLOOKUP(E506,eleves!$B$3:$E$502,2)))","v":""}]
[null,"Lot488",{"$nulls":4},{"$f":"IF(E507=\"\",\"\",IF(VLOOKUP(E507,eleves!$B$3:$E$502,2)=\"\",\"\",VLOOKUP(E507,eleves!$B$3:$E$502,2)))","v":""}]
[null,"Lot489",{"$nulls":4},{"$f":"IF(E508=\"\",\"\",IF(VLOOKUP(E508,eleves!$B$3:$E$502,2)=\"\",\"\",VLOOKUP(E508,eleves!$B$3:$E$502,2)))","v":""}]
[null,"Lot490",{"$nulls":4},{"$f":"IF(E509=\"\",\"\",IF(VLOOKUP(E509,eleves!$B$3:$E$502,2)=\"\",\"\",VLOOKUP(E509,eleves!$B$3:$E$502,2)))","v":""}]
[null,"Lot491",{"$nulls":4},{"$f":"IF(E510=\"\",\"\",IF(VLOOKUP(E510,eleves!$B$3:$E$502,2)=\"\",\"\",VLOOKUP(E510,eleves!$B$3:$E$502,2)))","v":""}]
[null,"Lot492",{"$nulls":4},{"$f":"IF(E511=\"\",\"\",IF(VLOOKUP(E511,eleves!$B$3:$E$502,2)=\"\",\"\",VLOOKUP(E511,eleves!$B$3:$E$502,2)))","v":""}]
[null,"Lot493",{"$nulls":4},{"$f":"IF(E512=\"\",\"\",IF(VLOOKUP(E512,eleves!$B$3:$E$502,2)=\"\",\"\",VLOOKUP(E512,eleves!$B$3:$E$502,2)))","v":""}]
[null,"Lot494",{"$nulls":4},{"$f":"IF(E513=\"\",\"\",IF(VLOOKUP(E513,eleves!$B$3:$E$502,2)=\"\",\"\",VLOOKUP(E513,eleves!$B$3:$E$502,2)))","v":""}]
[null,"Lot495",{"$nulls":4},{"$f":"IF(E514=\"\",\"\",IF(VLOOKUP(E514,eleves!$B$3:$E$502,2)=\"\",\"\",VLOOKUP(E514,eleves!$B$3:$E$502,2)))","v":""}]
[null,"Lot496",{"$nulls":4},{"$f":"IF(E515=\"\",\"\",IF(VLOOKUP(E515,eleves!$B$3:$E$502,2)=\"\",\"\",VLOOKUP(E515,eleves!$B$3:$E$502,2)))","v":""}]
[null,"Lot497",{"$nulls":4},{"$f":"IF(E516=\"\",\"\",IF(VLOOKUP(E516,eleves!$B$3:$E$502,2)=\"\",\"\",VLOOKUP(E516,eleves!$B$3:$E$502,2)))","v":""}]
[null,"Lot498",{"$nulls":4},{"$f":"IF(E517=\"\",\"\",IF(VLOOKUP(E517,eleves!$B$3:$E$502,2)=\"\",\"\",VLOOKUP(E517,eleves!$B$3:$E$502,2)))","v":""}]
[null,"Lot499",{"$nulls":4},{"$f":"IF(E518=\"\",\"\",IF(VLOOKUP(E518,eleves!$B$3:$E$502,2)=\"\",\"\",VLOOKUP(E518,eleves!$B$3:$E$502,2)))","v":""}]
[null,"Lot500",{"$nulls":4},{"$f":"IF(E519=\"\",\"\",IF(VLOOKUP(E519,eleves!$B$3:$E$502,2)=\"\",\"\",VLOOKUP(E519,eleves!$B$3:$E$502,2)))","v":""}]

{"sheet":"eleves","index":1,"n_rows":502,"n_cols":3,"rows_kept":502,"merged":[[1,2,1,4],[2,2,2,4],[3,2,3,4],[4,2,4,4],[5,2,5,4],[6,2,6,4],[7,2,7,4],[8,2,8,4],[9,2,9,4],[10,2,10,4],[11,2,11,4],[12,2,12,4],[13,2,13,4],[14,2,14,4],[15,2,15,4],[16,2,16,4],[17,2,17,4],[18,2,18,4],[19,2,19,4],[20,2,20,4],[21,2,21,4],[22,2,22,4],[23,2,23,4],[24,2,24,4],[25,2,25,4],[26,2,26,4],[27,2,27,4],[28,2,28,4],[29,2,29,4],[30,2,30,4],[31,2,31,4],[32,2,32,4],[33,2,33,4],[34,2,34,4],[35,2,35,4],[36,2,36,4],[37,2,37,4],[38,2,38,4],[39,2,39,4],[40,2,40,4],[41,2,41,4],[42,2,42,4],[43,2,43,4],[44,2,44,4],[45,2,45,4],[46,2,46,4],[47,2,47,4],[48,2,48,4],[49,2,49,4],[50,2,50,4],[51,2,51,4],[52,2,52,4],[53,2,53,4],[54,2,54,4],[55,2,55,4],[56,2,56,4],[57,2,57,4],[58,2,58,4],[59,2,59,4],[60,2,60,4],[61,2,61,4],[62,2,62,4],[63,2,63,4],[64,2,64,4],[65,2,65,4],[66,2,66,4],[67,2,67,4],[68,2,68,4],[69,2,69,4],[70,2,70,4],[71,2,71,4],[72,2,72,4],[73,2,73,4],[74,2,74,4],[75,2,75,4],[76,2,76,4],[77,2,77,4],[78,2,78,4],[79,2,79,4],[80,2,80,4],[81,2,81,4],[82,2,82,4],[83,2,83,4],[84,2,84,4],[85,2,85,4],[86,2,86,4],[87,2,87,4],[88,2,88,4],[89,2,89,4],[90,2,90,4],[91,2,91,4],[92,2,92,4],[93,2,93,4],[94,2,94,4],[95,2,95,4],[96,2,96,4],[97,2,97,4],[98,2,98,4],[99,2,99,4],[100,2,100,4],[101,2,101,4],[102,2,102,4],[103,2,103,4],[104,2,104,4],[105,2,105,4],[106,2,106,4],[107,2,107,4],[108,2,108,4],[109,2,109,4],[110,2,110,4],[111,2,111,4],[112,2,112,4],[113,2,113,4],[114,2,114,4],[115,2,115,4],[116,2,116,4],[117,2,117,4],[118,2,118,4],[119,2,119,4],[120,2,120,4],[121,2,121,4],[122,2,122,4],[123,2,123,4],[124,2,124,4],[125,2,125,4],[126,2,126,4],[127,2,127,4],[128,2,128,4],[129,2,129,4],[130,2,130,4],[131,2,131,4],[132,2,132,4],[133,2,133,4],[134,2,134,4],[135,2,135,4],[136,2,136,4],[137,2,137,4],[138,2,138,4],[139,2,139,4],[140,2,140,4],[141,2,141,4],[142,2,142,4],[143,2,143,4],[144,2,144,4],[145,2,145,4],[146,2,146,4],[147,2,147,4],[148,2,148,4],[149,2,149,4],[150,2,150,4],[151,2,151,4],[152,2,152,4],[153,2,153,4],[154,2,154,4],[155,2,155,4],[156,2,156,4],[157,2,157,4],[158,2,158,4],[159,2,159,4],[160,2,160,4],[161,2,161,4],[162,2,162,4],[163,2,163,4],[164,2,164,4],[165,2,165,4],[166,2,166,4],[167,2,167,4],[168,2,168,4],[169,2,169,4],[170,2,170,4],[171,2,171,4],[172,2,172,4],[173,2,173,4],[174,2,174,4],[175,2,175,4],[176,2,176,4],[177,2,177,4],[178,2,178,4],[179,2,179,4],[180,2,180,4],[181,2,181,4],[182,2,182,4],[183,2,183,4],[184,2,184,4],[185,2,185,4],[186,2,186,4],[187,2,187,4],[188,2,188,4],[189,2,189,4],[190,2,190,4],[191,2,191,4],[192,2,192,4],[193,2,193,4],[194,2,194,4],[195,2,195,4],[196,2,196,4],[197,2,197,4],[198,2,198,4],[199,2,199,4],[200,2,200,4],[201,2,201,4],[202,2,202,4],[203,2,203,4],[204,2,204,4],[205,2,205,4],[206,2,206,4],[207,2,207,4],[208,2,208,4],[209,2,209,4],[210,2,210,4],[211,2,211,4],[212,2,212,4],[213,2,213,4],[214,2,214,4],[215,2,215,4],[216,2,216,4],[217,2,217,4],[218,2,218,4],[219,2,219,4],[220,2,220,4],[221,2,221,4],[222,2,222,4],[223,2,223,4],[224,2,224,4],[225,2,225,4],[226,2,226,4],[227,2,227,4],[228,2,228,4],[229,2,229,4],[230,2,230,4],[231,2,231,4],[232,2,232,4],[233,2,233,4],[234,2,234,4],[235,2,235,4],[236,2,236,4],[237,2,237,4],[238,2,238,4],[239,2,239,4],[240,2,240,4],[241,2,241,4],[242,2,242,4],[243,2,243,4],[244,2,244,4],[245,2,245,4],[246,2,246,4],[247,2,247,4],[248,2,248,4],[249,2,249,4],[250,2,250,4],[251,2,251,4],[252,2,252,4],[253,2,253,4],[254,2,254,4],[255,2,255,4],[256,2,256,4],[257,2,257,4],[258,2,258,4],[259,2,259,4],[260,2,260,4],[261,2,261,4],[262,2,262,4],[263,2,263,4],[264,2,264,4],[265,2,265,4],[266,2,266,4],[267,2,267,4],[268,2,268,4],[269,2,269,4],[270,2,270,4],[271,2,271,4],[272,2,272,4],[273,2,273,4],[274,2,274,4],[275,2,275,4],[276,2,276,4],[277,2,277,4],[278,2,278,4],[279,2,279,4],[280,2,280,4],[281,2,281,4],[282,2,282,4],[283,2,283,4],[284,2,284,4],[285,2,285,4],[286,2,286,4],[287,2,287,4],[288,2,288,4],[289,2,289,4],[290,2,290,4],[291,2,291,4],[292,2,292,4],[293,2,293,4],[294,2,294,4],[295,2,295,4],[296,2,296,4],[297,2,297,4],[298,2,298,4],[299,2,299,4],[300,2,300,4],[301,2,301,4],[302,2,302,4],[303,2,303,4],[304,2,304,4],[305,2,305,4],[306,2,306,4],[307,2,307,4],[308,2,308,4],[309,2,309,4],[310,2,310,4],[311,2,311,4],[312,2,312,4],[313,2,313,4],[314,2,314,4],[315,2,315,4],[316,2,316,4],[317,2,317,4],[318,2,318,4],[319,2,319,4],[320,2,320,4],[321,2,321,4],[322,2,322,4],[323,2,323,4],[324,2,324,4],[325,2,325,4],[326,2,326,4],[327,2,327,4],[328,2,328,4],[329,2,329,4],[330,2,330,4],[331,2,331,4],[332,2,332,4],[333,2,333,4],[334,2,334,4],[335,2,335,4],[336,2,336,4],[337,2,337,4],[338,2,338,4],[339,2,339,4],[340,2,340,4],[341,2,341,4],[342,2,342,4],[343,2,343,4],[344,2,344,4],[345,2,345,4],[346,2,346,4],[347,2,347,4],[348,2,348,4],[349,2,349,4],[350,2,350,4],[351,2,351,4],[352,2,352,4],[353,2,353,4],[354,2,354,4],[355,2,355,4],[356,2,356,4],[357,2,357,4],[358,2,358,4],[359,2,359,4],[360,2,360,4],[361,2,361,4],[362,2,362,4],[363,2,363,4],[364,2,364,4],[365,2,365,4],[366,2,366,4],[367,2,367,4],[368,2,368,4],[369,2,369,4],[370,2,370,4],[371,2,371,4],[372,2,372,4],[373,2,373,4],[374,2,374,4],[375,2,375,4],[376,2,376,4],[377,2,377,4],[378,2,378,4],[379,2,379,4],[380,2,380,4],[381,2,381,4],[382,2,382,4],[383,2,383,4],[384,2,384,4],[385,2,385,4],[386,2,386,4],[387,2,387,4],[388,2,388,4],[389,2,389,4],[390,2,390,4],[391,2,391,4],[392,2,392,4],[393,2,393,4],[394,2,394,4],[395,2,395,4],[396,2,396,4],[397,2,397,4],[398,2,398,4],[399,2,399,4],[400,2,400,4],[401,2,401,4],[402,2,402,4],[403,2,403,4],[404,2,404,4],[405,2,405,4],[406,2,406,4],[407,2,407,4],[408,2,408,4],[409,2,409,4],[410,2,410,4],[411,2,411,4],[412,2,412,4],[413,2,413,4],[414,2,414,4],[415,2,415,4],[416,2,416,4],[417,2,417,4],[418,2,418,4],[419,2,419,4],[420,2,420,4],[421,2,421,4],[422,2,422,4],[423,2,423,4],[424,2,424,4],[425,2,425,4],[426,2,426,4],[427,2,427,4],[428,2,428,4],[429,2,429,4],[430,2,430,4],[431,2,431,4],[432,2,432,4],[433,2,433,4],[434,2,434,4],[435,2,435,4],[436,2,436,4],[437,2,437,4],[438,2,438,4],[439,2,439,4],[440,2,440,4],[441,2,441,4],[442,2,442,4],[443,2,443,4],[444,2,444,4],[445,2,445,4],[446,2,446,4],[447,2,447,4],[448,2,448,4],[449,2,449,4],[450,2,450,4],[451,2,451,4],[452,2,452,4],[453,2,453,4],[454,2,454,4],[455,2,455,4],[456,2,456,4],[457,2,457,4],[458,2,458,4],[459,2,459,4],[460,2,460,4],[461,2,461,4],[462,2,462,4],[463,2,463,4],[464,2,464,4],[465,2,465,4],[466,2,466,4],[467,2,467,4],[468,2,468,4],[469,2,469,4],[470,2,470,4],[471,2,471,4],[472,2,472,4],[473,2,473,4],[474,2,474,4],[475,2,475,4],[476,2,476,4],[477,2,477,4],[478,2,478,4],[479,2,479,4],[480,2,480,4],[481,2,481,4],[482,2,482,4],[483,2,483,4],[484,2,484,4],[485,2,485,4],[486,2,486,4],[487,2,487,4],[488,2,488,4],[489,2,489,4],[490,2,490,4],[491,2,491,4],[492,2,492,4],[493,2,493,4],[494,2,494,4],[495,2,495,4],[496,2,496,4],[497,2,497,4],[498,2,498,4],[499,2,499,4],[500,2,500,4],[501,2,501,4]]}
[]
[null,"Carton","Elève vendeur"]
[null,1,"Elève1"]
[null,2,"Elève2"]
[null,3,"Elève3"]
[null,4,"Elève4"]
[null,5,"Elève5"]
[null,6,"Elève6"]
[null,7,"Elève7"]
[null,8,"Elève8"]
[null,9,"Elève9"]
[null,10,"Elève10"]
[null,11,"Elève11"]
[null,12,"Elève12"]
[null,13,"Elève13"]
[null,14,"Elève14"]
[null,15,"Elève15"]
[null,16]
[null,17]
[null,18]
[null,19]
[null,20]
[null,21]
[null,22]
[null,23]
[null,24]
[null,25]
[null,26]
[null,27]
[null,28]
[null,29]
[null,30]
[null,31]
[null,32]
[null,33]
[null,34]
[null,35]
[null,36]
[null,37]
[null,38]
[null,39]
[null,40]
[null,41]
[null,42]
[null,43]
[null,44]
[null,45]
[null,46]
[null,47]
[null,48]
[null,49]
[null,50]
[null,51]
[null,52]
[null,53]
[null,54]
[null,55]
[null,56]
[null,57]
[null,58]
[null,59]
[null,60]
[null,61]
[null,62]
[null,63]
[null,64]
[null,65]
[null,66]
[null,67]
[null,68]
[null,69]
[null,70]
[null,71]
[null,72]
[null,73]
[null,74]
[null,75]
[null,76]
[null,77]
[null,78]
[null,79]
[null,80]
[null,81]
[null,82]
[null,83]
[null,84]
[null,85]
[null,86]
[null,87]
[null,88]
[null,89]
[null,90]
[null,91]
[null,92]
[null,93]
[null,94]
[null,95]
[null,96]
[null,97]
[null,98]
[null,99]
[null,100]
[null,101]
[null,102]
[null,103]
[null,104]
[null,105]
[null,106]
[null,107]
[null,108]
[null,109]
[null,110]
[null,111]
[null,112]
[null,113]
[null,114]
[null,115]
[null,116]
[null,117]
[null,118]
[null,119]
[null,120]
[null,121]
[null,122]
[null,123]
[null,124]
[null,125]
[null,126]
[null,127]
[null,128]
[null,129]
[null,130]
[null,131]
[null,132]
[null,133]
[null,134]
[null,135]
[null,136]
[null,137]
[null,138]
[null,139]
[null,140]
[null,141]
[null,142]
[null,143]
[null,144]
[null,145]
[null,146]
[null,147]
[null,148]
[null,149]
[null,150]
[null,151]
[null,152]
[null,153]
[null,154]
[null,155]
[null,156]
[null,157]
[null,158]
[null,159]
[null,160]
[null,161]
[null,162]
[null,163]
[null,164]
[null,165]
[null,166]
[null,167]
[null,168]
[null,169]
[null,170]
[null,171]
[null,172]
[null,173]
[null,174]
[null,175]
[null,176]
[null,177]
[null,178]
[null,179]
[null,180]
[null,181]
[null,182]
[null,183]
[null,184]
[null,185]
[null,186]
[null,187]
[null,188]
[null,189]
[null,190]
[null,191]
[null,192]
[null,193]
[null,194]
[null,195]
[null,196]
[null,197]
[null,198]
[null,199]
[null,200]
[null,201]
[null,202]
[null,203]
[null,204]
[null,205]
[null,206]
[null,207]
[null,208]
[null,209]
[null,210]
[null,211]
[null,212]
[null,213]
[null,214]
[null,215]
[null,216]
[null,217]
[null,218]
[null,219]
[null,220]
[null,221]
[null,222]
[null,223]
[null,224]
[null,225]
[null,226]
[null,227]
[null,228]
[null,229]
[null,230]
[null,231]
[null,232]
[null,233]
[null,234]
[null,235]
[null,236]
[null,237]
[null,238]
[null,239]
[null,240]
[null,241]
[null,242]
[null,243]
[null,244]
[null,245]
[null,246]
[null,247]
[null,248]
[null,249]
[null,250]
[null,251]
[null,252]
[null,253]
[null,254]
[null,255]
[null,256]
[null,257]
[null,258]
[null,259]
[null,260]
[null,261]
[null,262]
[null,263]
[null,264]
[null,265]
[null,266]
[null,267]
[null,268]
[null,269]
[null,270]
[null,271]
[null,272]
[null,273]
[null,274]
[null,275]
[null,276]
[null,277]
[null,278]
[null,279]
[null,280]
[null,281]
[null,282]
[null,283]
[null,284]
[null,285]
[null,286]
[null,287]
[null,288]
[null,289]
[null,290]
[null,291]
[null,292]
[null,293]
[null,294]
[null,295]
[null,296]
[null,297]
[null,298]
[null,299]
[null,300]
[null,301]
[null,302]
[null,303]
[null,304]
[null,305]
[null,306]
[null,307]
[null,308]
[null,309]
[null,310]
[null,311]
[null,312]
[null,313]
[null,314]
[null,315]
[null,316]
[null,317]
[null,318]
[null,319]
[null,320]
[null,321]
[null,322]
[null,323]
[null,324]
[null,325]
[null,326]
[null,327]
[null,328]
[null,329]
[null,330]
[null,331]
[null,332]
[null,333]
[null,334]
[null,335]
[null,336]
[null,337]
[null,338]
[null,339]
[null,340]
[null,341]
[null,342]
[null,343]
[null,344]
[null,345]
[null,346]
[null,347]
[null,348]
[null,349]
[null,350]
[null,351]
[null,352]
[null,353]
[null,354]
[null,355]
[null,356]
[null,357]
[null,358]
[null,359]
[null,360]
[null,361]
[null,362]
[null,363]
[null,364]
[null,365]
[null,366]
[null,367]
[null,368]
[null,369]
[null,370]
[null,371]
[null,372]
[null,373]
[null,374]
[null,375]
[null,376]
[null,377]
[null,378]
[null,379]
[null,380]
[null,381]
[null,382]
[null,383]
[null,384]
[null,385]
[null,386]
[null,387]
[null,388]
[null,389]
[null,390]
[null,391]
[null,392]
[null,393]
[null,394]
[null,395]
[null,396]
[null,397]
[null,398]
[null,399]
[null,400]
[null,401]
[null,402]
[null,403]
[null,404]
[null,405]
[null,406]
[null,407]
[null,408]
[null,409]
[null,410]
[null,411]
[null,412]
[null,413]
[null,414]
[null,415]
[null,416]
[null,417]
[null,418]
[null,419]
[null,420]
[null,421]
[null,422]
[null,423]
[null,424]
[null,425]
[null,426]
[null,427]
[null,428]
[null,429]
[null,430]
[null,431]
[null,432]
[null,433]
[null,434]
[null,435]
[null,436]
[null,437]
[null,438]
[null,439]
[null,440]
[null,441]
[null,442]
[null,443]
[null,444]
[null,445]
[null,446]
[null,447]
[null,448]
[null,449]
[null,450]
[null,451]
[null,452]
[null,453]
[null,454]
[null,455]
[null,456]
[null,457]
[null,458]
[null,459]
[null,460]
[null,461]
[null,462]
[null,463]
[null,464]
[null,465]
[null,466]
[null,467]
[null,468]
[null,469]
[null,470]
[null,471]
[null,472]
[null,473]
[null,474]
[null,475]
[null,476]
[null,477]
[null,478]
[null,479]
[null,480]
[null,481]
[null,482]
[null,483]
[null,484]
[null,485]
[null,486]
[null,487]
[null,488]
[null,489]
[null,490]
[null,491]
[null,492]
[null,493]
[null,494]
[null,495]
[null,496]
[null,497]
[null,498]
[null,499]
[null,500]

{"sheet":"résultats","index":2,"n_rows":503,"n_cols":10,"rows_kept":503,"merged":[[1,6,1,8],[1,9,1,11],[3,9,3,11],[4,9,4,11],[5,9,5,11],[6,9,6,11],[7,9,7,11],[8,9,8,11],[13,9,13,11],[14,9,14,11],[15,9,15,11],[16,9,16,11],[17,9,17,11],[18,9,18,11],[19,9,19,11],[20,9,20,11],[21,9,21,11],[22,9,22,11],[23,9,23,11],[24,9,24,11],[25,9,25,11],[26,9,26,11],[27,9,27,11],[28,9,28,11],[29,9,29,11],[30,9,30,11],[31,9,31,11],[32,9,32,11],[33,9,33,11],[34,9,34,11],[35,9,35,11],[36,9,36,11],[37,9,37,11],[38,9,38,11],[39,9,39,11],[40,9,40,11],[41,9,41,11],[42,9,42,11],[43,9,43,11],[44,9,44,11],[45,9,45,11],[46,9,46,11],[47,9,47,11],[48,9,48,11],[49,9,49,11],[50,9,50,11],[51,9,51,11],[52,9,52,11],[53,9,53,11],[54,9,54,11],[55,9,55,11],[56,9,56,11],[57,9,57,11],[58,9,58,11],[59,9,59,11],[60,9,60,11],[61,9,61,11],[62,9,62,11],[63,9,63,11],[64,9,64,11],[65,9,65,11],[66,9,66,11],[67,9,67,11],[68,9,68,11],[69,9,69,11],[70,9,70,11],[71,9,71,11],[72,9,72,11],[73,9,73,11],[74,9,74,11],[75,9,75,11],[76,9,76,11],[77,9,77,11],[78,9,78,11],[79,9,79,11],[80,9,80,11],[81,9,81,11],[82,9,82,11],[83,9,83,11],[84,9,84,11],[85,9,85,11],[86,9,86,11],[87,9,87,11],[88,9,88,11],[89,9,89,11],[90,9,90,11],[91,9,91,11],[92,9,92,11],[93,9,93,11],[94,9,94,11],[95,9,95,11],[96,9,96,11],[97,9,97,11],[98,9,98,11],[99,9,99,11],[100,9,100,11],[101,9,101,11],[102,9,102,11],[103,9,103,11],[104,9,104,11],[105,9,105,11],[106,9,106,11],[107,9,107,11],[108,9,108,11],[109,9,109,11],[110,9,110,11],[111,9,111,11],[112,9,112,11],[113,9,113,11],[114,9,114,11],[115,9,115,11],[116,9,116,11],[117,9,117,11],[118,9,118,11],[119,9,119,11],[120,9,120,11],[121,9,121,11],[122,9,122,11],[123,9,123,11],[124,9,124,11],[125,9,125,11],[126,9,126,11],[127,9,127,11],[128,9,128,11],[129,9,129,11],[130,9,130,11],[131,9,131,11],[132,9,132,11],[133,9,133,11],[134,9,134,11],[135,9,135,11],[136,9,136,11],[137,9,137,11],[138,9,138,11],[139,9,139,11],[140,9,140,11],[141,9,141,11],[142,9,142,11],[143,9,143,11],[144,9,144,11],[145,9,145,11],[146,9,146,11],[147,9,147,11],[148,9,148,11],[149,9,149,11],[150,9,150,11],[151,9,151,11],[152,9,152,11],[153,9,153,11],[154,9,154,11],[155,9,155,11],[156,9,156,11],[157,9,157,11],[158,9,158,11],[159,9,159,11],[160,9,160,11],[161,9,161,11],[162,9,162,11],[163,9,163,11],[164,9,164,11],[165,9,165,11],[166,9,166,11],[167,9,167,11],[168,9,168,11],[169,9,169,11],[170,9,170,11],[171,9,171,11],[172,9,172,11],[173,9,173,11],[174,9,174,11],[175,9,175,11],[176,9,176,11],[177,9,177,11],[178,9,178,11],[179,9,179,11],[180,9,180,11],[181,9,181,11],[182,9,182,11],[183,9,183,11],[184,9,184,11],[185,9,185,11],[186,9,186,11],[187,9,187,11],[188,9,188,11],[189,9,189,11],[190,9,190,11],[191,9,191,11],[192,9,192,11],[193,9,193,11],[194,9,194,11],[195,9,195,11],[196,9,196,11],[197,9,197,11],[198,9,198,11],[199,9,199,11],[200,9,200,11],[201,9,201,11],[202,9,202,11],[203,9,203,11],[204,9,204,11],[205,9,205,11],[206,9,206,11],[207,9,207,11],[208,9,208,11],[209,9,209,11],[210,9,210,11],[211,9,211,11],[212,9,212,11],[213,9,213,11],[214,9,214,11],[215,9,215,11],[216,9,216,11],[217,9,217,11],[218,9,218,11],[219,9,219,11],[220,9,220,11],[221,9,221,11],[222,9,222,11],[223,9,223,11],[224,9,224,11],[225,9,225,11],[226,9,226,11],[227,9,227,11],[228,9,228,11],[229,9,229,11],[230,9,230,11],[231,9,231,11],[232,9,232,11],[233,9,233,11],[234,9,234,11],[235,9,235,11],[236,9,236,11],[237,9,237,11],[238,9,238,11],[239,9,239,11],[240,9,240,11],[241,9,241,11],[242,9,242,11],[243,9,243,11],[244,9,244,11],[245,9,245,11],[246,9,246,11],[247,9,247,11],[248,9,248,11],[249,9,249,11],[250,2,250,3],[250,6,250,8],[250,9,250,11],[251,9,251,11],[252,9,252,11],[253,2,253,3],[253,6,253,8],[253,9,253,11],[254,2,254,3],[254,6,254,8],[254,9,254,11],[255,2,255,3],[255,6,255,8],[255,9,255,11],[256,2,256,3],[256,6,256,8],[256,9,256,11],[257,2,257,3],[257,6,257,8],[257,9,257,11],[258,2,258,3],[258,6,258,8],[258,9,258,11],[259,2,259,3],[259,6,259,8],[259,9,259,11],[260,2,260,3],[260,6,260,8],[260,9,260,11],[261,2,261,3],[261,6,261,8],[261,9,261,11],[262,2,262,3],[262,6,262,8],[262,9,262,11],[263,2,263,3],[263,6,263,8],[263,9,263,11],[264,2,264,3],[264,6,264,8],[264,9,264,11],[265,2,265,3],[265,6,265,8],[265,9,265,11],[266,2,266,3],[266,6,266,8],[266,9,266,11],[267,2,267,3],[267,6,267,8],[267,9,267,11],[268,2,268,3],[268,6,268,8],[268,9,268,11],[269,2,269,3],[269,6,269,8],[269,9,269,11],[270,2,270,3],[270,6,270,8],[270,9,270,11],[271,2,271,3],[271,6,271,8],[271,9,271,11],[272,2,272,3],[272,6,272,8],[272,9,272,11],[273,2,273,3],[273,6,273,8],[273,9,273,11],[274,2,274,3],[274,6,274,8],[274,9,274,11],[275,2,275,3],[275,6,275,8],[275,9,275,11],[276,2,276,3],[276,6,276,8],[276,9,276,11],[277,2,277,3],[277,6,277,8],[277,9,277,11],[278,2,278,3],[278,6,278,8],[278,9,278,11],[279,2,279,3],[279,6,279,8],[279,9,279,11],[280,2,280,3],[280,6,280,8],[280,9,280,11],[281,2,281,3],[281,6,281,8],[281,9,281,11],[282,2,282,3],[282,6,282,8],[282,9,282,11],[283,2,283,3],[283,6,283,8],[283,9,283,11],[284,2,284,3],[284,6,284,8],[284,9,284,11],[285,2,285,3],[285,6,285,8],[285,9,285,11],[286,2,286,3],[286,6,286,8],[286,9,286,11],[287,2,287,3],[287,6,287,8],[287,9,287,11],[288,2,288,3],[288,6,288,8],[288,9,288,11],[289,2,289,3],[289,6,289,8],[289,9,289,11],[290,2,290,3],[290,6,290,8],[290,9,290,11],[291,2,291,3],[291,6,291,8],[291,9,291,11],[292,2,292,3],[292,6,292,8],[292,9,292,11],[293,2,293,3],[293,6,293,8],[293,9,293,11],[294,2,294,3],[294,6,294,8],[294,9,294,11],[295,2,295,3],[295,6,295,8],[295,9,295,11],[296,2,296,3],[296,6,296,8],[296,9,296,11],[297,2,297,3],[297,6,297,8],[297,9,297,11],[298,2,298,3],[298,6,298,8],[298,9,298,11],[299,2,299,3],[299,6,299,8],[299,9,299,11],[300,2,300,3],[300,6,300,8],[300,9,300,11],[301,2,301,3],[301,6,301,8],[301,9,301,11],[302,2,302,3],[302,6,302,8],[302,9,302,11],[303,2,303,3],[303,6,303,8],[303,9,303,11],[304,2,304,3],[304,6,304,8],[304,9,304,11],[305,2,305,3],[305,6,305,8],[305,9,305,11],[306,2,306,3],[306,6,306,8],[306,9,306,11],[307,2,307,3],[307,6,307,8],[307,9,307,11],[308,2,308,3],[308,6,308,8],[308,9,308,11],[309,2,309,3],[309,6,309,8],[309,9,309,11],[310,2,310,3],[310,6,310,8],[310,9,310,11],[311,2,311,3],[311,6,311,8],[311,9,311,11],[312,2,312,3],[312,6,312,8],[312,9,312,11],[313,2,313,3],[313,6,313,8],[313,9,313,11],[314,2,314,3],[314,6,314,8],[314,9,314,11],[315,2,315,3],[315,6,315,8],[315,9,315,11],[316,2,316,3],[316,6,316,8],[316,9,316,11],[317,2,317,3],[317,6,317,8],[317,9,317,11],[318,2,318,3],[318,6,318,8],[318,9,318,11],[319,2,319,3],[319,6,319,8],[319,9,319,11],[320,2,320,3],[320,6,320,8],[320,9,320,11],[321,2,321,3],[321,6,321,8],[321,9,321,11],[322,2,322,3],[322,6,322,8],[322,9,322,11],[323,2,323,3],[323,6,323,8],[323,9,323,11],[324,2,324,3],[324,6,324,8],[324,9,324,11],[325,2,325,3],[325,6,325,8],[325,9,325,11],[326,2,326,3],[326,6,326,8],[326,9,326,11],[327,2,327,3],[327,6,327,8],[327,9,327,11],[328,2,328,3],[328,6,328,8],[328,9,328,11],[329,2,329,3],[329,6,329,8],[329,9,329,11],[330,2,330,3],[330,6,330,8],[330,9,330,11],[331,2,331,3],[331,6,331,8],[331,9,331,11],[332,2,332,3],[332,6,332,8],[332,9,332,11],[333,2,333,3],[333,6,333,8],[333,9,333,11],[334,2,334,3],[334,6,334,8],[334,9,334,11],[335,2,335,3],[335,6,335,8],[335,9,335,11],[336,2,336,3],[336,6,336,8],[336,9,336,11],[337,2,337,3],[337,6,337,8],[337,9,337,11],[338,2,338,3],[338,6,338,8],[338,9,338,11],[339,2,339,3],[339,6,339,8],[339,9,339,11],[340,2,340,3],[340,6,340,8],[340,9,340,11],[341,2,341,3],[341,6,341,8],[341,9,341,11],[342,2,342,3],[342,6,342,8],[342,9,342,11],[343,2,343,3],[343,6,343,8],[343,9,343,11],[344,2,344,3],[344,6,344,8],[344,9,344,11],[345,2,345,3],[345,6,345,8],[345,9,345,11],[346,2,346,3],[346,6,346,8],[346,9,346,11],[347,2,347,3],[347,6,347,8],[347,9,347,11],[348,2,348,3],[348,6,348,8],[348,9,348,11],[349,2,349,3],[349,6,349,8],[349,9,349,11],[350,2,350,3],[350,6,350,8],[350,9,350,11],[351,2,351,3],[351,6,351,8],[351,9,351,11],[352,2,352,3],[352,6,352,8],[352,9,352,11],[353,2,353,3],[353,6,353,8],[353,9,353,11],[354,2,354,3],[354,6,354,8],[354,9,354,11],[355,2,355,3],[355,6,355,8],[355,9,355,11],[356,2,356,3],[356,6,356,8],[356,9,356,11],[357,2,357,3],[357,6,357,8],[357,9,357,11],[358,2,358,3],[358,6,358,8],[358,9,358,11],[359,2,359,3],[359,6,359,8],[359,9,359,11],[360,2,360,3],[360,6,360,8],[360,9,360,11],[361,2,361,3],[361,6,361,8],[361,9,361,11],[362,2,362,3],[362,6,362,8],[362,9,362,11],[363,2,363,3],[363,6,363,8],[363,9,363,11],[364,2,364,3],[364,6,364,8],[364,9,364,11],[365,2,365,3],[365,6,365,8],[365,9,365,11],[366,2,366,3],[366,6,366,8],[366,9,366,11],[367,2,367,3],[367,6,367,8],[367,9,367,11],[368,2,368,3],[368,6,368,8],[368,9,368,11],[369,2,369,3],[369,6,369,8],[369,9,369,11],[370,2,370,3],[370,6,370,8],[370,9,370,11],[371,2,371,3],[371,6,371,8],[371,9,371,11],[372,2,372,3],[372,6,372,8],[372,9,372,11],[373,2,373,3],[373,6,373,8],[373,9,373,11],[374,2,374,3],[374,6,374,8],[374,9,374,11],[375,2,375,3],[375,6,375,8],[375,9,375,11],[376,2,376,3],[376,6,376,8],[376,9,376,11],[377,2,377,3],[377,6,377,8],[377,9,377,11],[378,2,378,3],[378,6,378,8],[378,9,378,11],[379,2,379,3],[379,6,379,8],[379,9,379,11],[380,2,380,3],[380,6,380,8],[380,9,380,11],[381,2,381,3],[381,6,381,8],[381,9,381,11],[382,2,382,3],[382,6,382,8],[382,9,382,11],[383,2,383,3],[383,6,383,8],[383,9,383,11],[384,2,384,3],[384,6,384,8],[384,9,384,11],[385,2,385,3],[385,6,385,8],[385,9,385,11],[386,2,386,3],[386,6,386,8],[386,9,386,11],[387,2,387,3],[387,6,387,8],[387,9,387,11],[388,2,388,3],[388,6,388,8],[388,9,388,11],[389,2,389,3],[389,6,389,8],[389,9,389,11],[390,2,390,3],[390,6,390,8],[390,9,390,11],[391,2,391,3],[391,6,391,8],[391,9,391,11],[392,2,392,3],[392,6,392,8],[392,9,392,11],[393,2,393,3],[393,6,393,8],[393,9,393,11],[394,2,394,3],[394,6,394,8],[394,9,394,11],[395,2,395,3],[395,6,395,8],[395,9,395,11],[396,2,396,3],[396,6,396,8],[396,9,396,11],[397,2,397,3],[397,6,397,8],[397,9,397,11],[398,2,398,3],[398,6,398,8],[398,9,398,11],[399,2,399,3],[399,6,399,8],[399,9,399,11],[400,2,400,3],[400,6,400,8],[400,9,400,11],[401,2,401,3],[401,6,401,8],[401,9,401,11],[402,2,402,3],[402,6,402,8],[402,9,402,11],[403,2,403,3],[403,6,403,8],[403,9,403,11],[404,2,404,3],[404,6,404,8],[404,9,404,11],[405,2,405,3],[405,6,405,8],[405,9,405,11],[406,2,406,3],[406,6,406,8],[406,9,406,11],[407,2,407,3],[407,6,407,8],[407,9,407,11],[408,2,408,3],[408,6,408,8],[408,9,408,11],[409,2,409,3],[409,6,409,8],[409,9,409,11],[410,2,410,3],[410,6,410,8],[410,9,410,11],[411,2,411,3],[411,6,411,8],[411,9,411,11],[412,2,412,3],[412,6,412,8],[412,9,412,11],[413,2,413,3],[413,6,413,8],[413,9,413,11],[414,2,414,3],[414,6,414,8],[414,9,414,11],[415,2,415,3],[415,6,415,8],[415,9,415,11],[416,2,416,3],[416,6,416,8],[416,9,416,11],[417,2,417,3],[417,6,417,8],[417,9,417,11],[418,2,418,3],[418,6,418,8],[418,9,418,11],[419,2,419,3],[419,6,419,8],[419,9,419,11],[420,2,420,3],[420,6,420,8],[420,9,420,11],[421,2,421,3],[421,6,421,8],[421,9,421,11],[422,2,422,3],[422,6,422,8],[422,9,422,11],[423,2,423,3],[423,6,423,8],[423,9,423,11],[424,2,424,3],[424,6,424,8],[424,9,424,11],[425,2,425,3],[425,6,425,8],[425,9,425,11],[426,2,426,3],[426,6,426,8],[426,9,426,11],[427,2,427,3],[427,6,427,8],[427,9,427,11],[428,2,428,3],[428,6,428,8],[428,9,428,11],[429,2,429,3],[429,6,429,8],[429,9,429,11],[430,2,430,3],[430,6,430,8],[430,9,430,11],[431,2,431,3],[431,6,431,8],[431,9,431,11],[432,2,432,3],[432,6,432,8],[432,9,432,11],[433,2,433,3],[433,6,433,8],[433,9,433,11],[434,2,434,3],[434,6,434,8],[434,9,434,11],[435,2,435,3],[435,6,435,8],[435,9,435,11],[436,2,436,3],[436,6,436,8],[436,9,436,11],[437,2,437,3],[437,6,437,8],[437,9,437,11],[438,2,438,3],[438,6,438,8],[438,9,438,11],[439,2,439,3],[439,6,439,8],[439,9,439,11],[440,2,440,3],[440,6,440,8],[440,9,440,11],[441,2,441,3],[441,6,441,8],[441,9,441,11],[442,2,442,3],[442,6,442,8],[442,9,442,11],[443,2,443,3],[443,6,443,8],[443,9,443,11],[444,2,444,3],[444,6,444,8],[444,9,444,11],[445,2,445,3],[445,6,445,8],[445,9,445,11],[446,2,446,3],[446,6,446,8],[446,9,446,11],[447,2,447,3],[447,6,447,8],[447,9,447,11],[448,2,448,3],[448,6,448,8],[448,9,448,11],[449,2,449,3],[449,6,449,8],[449,9,449,11],[450,2,450,3],[450,6,450,8],[450,9,450,11],[451,2,451,3],[451,6,451,8],[451,9,451,11],[452,2,452,3],[452,6,452,8],[452,9,452,11],[453,2,453,3],[453,6,453,8],[453,9,453,11],[454,2,454,3],[454,6,454,8],[454,9,454,11],[455,2,455,3],[455,6,455,8],[455,9,455,11],[456,2,456,3],[456,6,456,8],[456,9,456,11],[457,2,457,3],[457,6,457,8],[457,9,457,11],[458,2,458,3],[458,6,458,8],[458,9,458,11],[459,2,459,3],[459,6,459,8],[459,9,459,11],[460,2,460,3],[460,6,460,8],[460,9,460,11],[461,2,461,3],[461,6,461,8],[461,9,461,11],[462,2,462,3],[462,6,462,8],[462,9,462,11],[463,2,463,3],[463,6,463,8],[463,9,463,11],[464,2,464,3],[464,6,464,8],[464,9,464,11],[465,2,465,3],[465,6,465,8],[465,9,465,11],[466,2,466,3],[466,6,466,8],[466,9,466,11],[467,2,467,3],[467,6,467,8],[467,9,467,11],[468,2,468,3],[468,6,468,8],[468,9,468,11],[469,2,469,3],[469,6,469,8],[469,9,469,11],[470,2,470,3],[470,6,470,8],[470,9,470,11],[471,2,471,3],[471,6,471,8],[471,9,471,11],[472,2,472,3],[472,6,472,8],[472,9,472,11],[473,2,473,3],[473,6,473,8],[473,9,473,11],[474,2,474,3],[474,6,474,8],[474,9,474,11],[475,2,475,3],[475,6,475,8],[475,9,475,11],[476,2,476,3],[476,6,476,8],[476,9,476,11],[477,2,477,3],[477,6,477,8],[477,9,477,11],[478,2,478,3],[478,6,478,8],[478,9,478,11],[479,2,479,3],[479,6,479,8],[479,9,479,11],[480,2,480,3],[480,6,480,8],[480,9,480,11],[481,2,481,3],[481,6,481,8],[481,9,481,11],[482,2,482,3],[482,6,482,8],[482,9,482,11],[483,2,483,3],[483,6,483,8],[483,9,483,11],[484,2,484,3],[484,6,484,8],[484,9,484,11],[485,2,485,3],[485,6,485,8],[485,9,485,11],[486,2,486,3],[486,6,486,8],[486,9,486,11],[487,2,487,3],[487,6,487,8],[487,9,487,11],[488,2,488,3],[488,6,488,8],[488,9,488,11],[489,2,489,3],[489,6,489,8],[489,9,489,11],[490,2,490,3],[490,6,490,8],[490,9,490,11],[491,2,491,3],[491,6,491,8],[491,9,491,11],[492,2,492,3],[492,6,492,8],[492,9,492,11],[493,2,493,3],[493,6,493,8],[493,9,493,11],[494,2,494,3],[494,6,494,8],[494,9,494,11],[495,2,495,3],[495,6,495,8],[495,9,495,11],[496,2,496,3],[496,6,496,8],[496,9,496,11],[497,2,497,3],[497,6,497,8],[497,9,497,11],[498,2,498,3],[498,6,498,8],[498,9,498,11],[499,2,499,3],[499,6,499,8],[499,9,499,11],[500,2,500,3],[500,6,500,8],[500,9,500,11],[501,2,501,3],[501,6,501,8],[501,9,501,11],[502,2,502,3],[502,6,502,8],[502,9,502,11]],"merged_total":1502,"flags":["merged_cut"]}
[]
[{"$nulls":4},"Carton","Case","Vendeur",null,null,"Gagnant"]
[]
[null,"Lot1",{"$f":"IF(tirage!C20=\"\",\"\",tirage!C20)","v":"Une porsche"},null,{"$f":"IF(C4=\"\",\"\",IF(tirage!E20=\"\",\"\",tirage!E20))","v":""},{"$f":"IF(C4=\"\",\"\",IF(tirage!F20=\"\",\"\",tirage!F20))","v":""},{"$f":"IF(C4=\"\",\"\",tirage!G20)","v":""}]
[null,"Lot2",{"$f":"IF(tirage!C21=\"\",\"\",tirage!C21)","v":"Une ferrari"},null,{"$f":"IF(C5=\"\",\"\",IF(tirage!E21=\"\",\"\",tirage!E21))","v":""},{"$f":"IF(C5=\"\",\"\",IF(tirage!F21=\"\",\"\",tirage!F21))","v":""},{"$f":"IF(C5=\"\",\"\",tirage!G21)","v":""}]
[null,"Lot3",{"$f":"IF(tirage!C22=\"\",\"\",tirage!C22)","v":"Une montre"},null,{"$f":"IF(C6=\"\",\"\",IF(tirage!E22=\"\",\"\",tirage!E22))","v":""},{"$f":"IF(C6=\"\",\"\",IF(tirage!F22=\"\",\"\",tirage!F22))","v":""},{"$f":"IF(C6=\"\",\"\",tirage!G22)","v":""}]
[null,"Lot4",{"$f":"IF(tirage!C23=\"\",\"\",tirage!C23)","v":"Un scooter"},null,{"$f":"IF(C7=\"\",\"\",IF(tirage!E23=\"\",\"\",tirage!E23))","v":""},{"$f":"IF(C7=\"\",\"\",IF(tirage!F23=\"\",\"\",tirage!F23))","v":""},{"$f":"IF(C7=\"\",\"\",tirage!G23)","v":""}]
[null,"Lot5",{"$f":"IF(tirage!C24=\"\",\"\",tirage!C24)","v":""},null,{"$f":"IF(C8=\"\",\"\",IF(tirage!E24=\"\",\"\",tirage!E24))","v":""},{"$f":"IF(C8=\"\",\"\",IF(tirage!F24=\"\",\"\",tirage!F24))","v":""},{"$f":"IF(C8=\"\",\"\",tirage!G24)","v":""}]
[null,"Lot6",{"$f":"IF(tirage!C25=\"\",\"\",tirage!C25)","v":""},null,{"$f":"IF(C9=\"\",\"\",IF(tirage!E25=\"\",\"\",tirage!E25))","v":""},{"$f":"IF(C9=\"\",\"\",IF(tirage!F25=\"\",\"\",tirage!F25))","v":""},{"$f":"IF(C9=\"\",\"\",tirage!G25)","v":""}]
[null,"Lot7",{"$f":"IF(tirage!C26=\"\",\"\",tirage!C26)","v":""},null,{"$f":"IF(C10=\"\",\"\",IF(tirage!E26=\"\",\"\",tirage!E26))","v":""},{"$f":"IF(C10=\"\",\"\",IF(tirage!F26=\"\",\"\",tirage!F26))","v":""},{"$f":"IF(C10=\"\",\"\",tirage!G26)","v":""}]
[null,"Lot8",{"$f":"IF(tirage!C27=\"\",\"\",tirage!C27)","v":""},null,{"$f":"IF(C11=\"\",\"\",IF(tirage!E27=\"\",\"\",tirage!E27))","v":""},{"$f":"IF(C11=\"\",\"\",IF(tirage!F27=\"\",\"\",tirage!F27))","v":""},{"$f":"IF(C11=\"\",\"\",tirage!G27)","v":""}]
[null,"Lot9",{"$f":"IF(tirage!C28=\"\",\"\",tirage!C28)","v":""},null,{"$f":"IF(C12=\"\",\"\",IF(tirage!E28=\"\",\"\",tirage!E28))","v":""},{"$f":"IF(C12=\"\",\"\",IF(tirage!F28=\"\",\"\",tirage!F28))","v":""},{"$f":"IF(C12=\"\",\"\",tirage!G28)","v":""}]
[null,"Lot10",{"$f":"IF(tirage!C29=\"\",\"\",tirage!C29)","v":""},null,{"$f":"IF(C13=\"\",\"\",IF(tirage!E29=\"\",\"\",tirage!E29))","v":""},{"$f":"IF(C13=\"\",\"\",IF(tirage!F29=\"\",\"\",tirage!F29))","v":""},{"$f":"IF(C13=\"\",\"\",tirage!G29)","v":""}]
[null,"Lot11",{"$f":"IF(tirage!C30=\"\",\"\",tirage!C30)","v":""},null,{"$f":"IF(C14=\"\",\"\",IF(tirage!E30=\"\",\"\",tirage!E30))","v":""},{"$f":"IF(C14=\"\",\"\",IF(tirage!F30=\"\",\"\",tirage!F30))","v":""},{"$f":"IF(C14=\"\",\"\",tirage!G30)","v":""}]
[null,"Lot12",{"$f":"IF(tirage!C31=\"\",\"\",tirage!C31)","v":""},null,{"$f":"IF(C15=\"\",\"\",IF(tirage!E31=\"\",\"\",tirage!E31))","v":""},{"$f":"IF(C15=\"\",\"\",IF(tirage!F31=\"\",\"\",tirage!F31))","v":""},{"$f":"IF(C15=\"\",\"\",tirage!G31)","v":""}]
[null,"Lot13",{"$f":"IF(tirage!C32=\"\",\"\",tirage!C32)","v":""},null,{"$f":"IF(C16=\"\",\"\",IF(tirage!E32=\"\",\"\",tirage!E32))","v":""},{"$f":"IF(C16=\"\",\"\",IF(tirage!F32=\"\",\"\",tirage!F32))","v":""},{"$f":"IF(C16=\"\",\"\",tirage!G32)","v":""}]
[null,"Lot14",{"$f":"IF(tirage!C33=\"\",\"\",tirage!C33)","v":""},null,{"$f":"IF(C17=\"\",\"\",IF(tirage!E33=\"\",\"\",tirage!E33))","v":""},{"$f":"IF(C17=\"\",\"\",IF(tirage!F33=\"\",\"\",tirage!F33))","v":""},{"$f":"IF(C17=\"\",\"\",tirage!G33)","v":""}]
[null,"Lot15",{"$f":"IF(tirage!C34=\"\",\"\",tirage!C34)","v":""},null,{"$f":"IF(C18=\"\",\"\",IF(tirage!E34=\"\",\"\",tirage!E34))","v":""},{"$f":"IF(C18=\"\",\"\",IF(tirage!F34=\"\",\"\",tirage!F34))","v":""},{"$f":"IF(C18=\"\",\"\",tirage!G34)","v":""}]
[null,"Lot16",{"$f":"IF(tirage!C35=\"\",\"\",tirage!C35)","v":""},null,{"$f":"IF(C19=\"\",\"\",IF(tirage!E35=\"\",\"\",tirage!E35))","v":""},{"$f":"IF(C19=\"\",\"\",IF(tirage!F35=\"\",\"\",tirage!F35))","v":""},{"$f":"IF(C19=\"\",\"\",tirage!G35)","v":""}]
[null,"Lot17",{"$f":"IF(tirage!C36=\"\",\"\",tirage!C36)","v":""},null,{"$f":"IF(C20=\"\",\"\",IF(tirage!E36=\"\",\"\",tirage!E36))","v":""},{"$f":"IF(C20=\"\",\"\",IF(tirage!F36=\"\",\"\",tirage!F36))","v":""},{"$f":"IF(C20=\"\",\"\",tirage!G36)","v":""}]
[null,"Lot18",{"$f":"IF(tirage!C37=\"\",\"\",tirage!C37)","v":""},null,{"$f":"IF(C21=\"\",\"\",IF(tirage!E37=\"\",\"\",tirage!E37))","v":""},{"$f":"IF(C21=\"\",\"\",IF(tirage!F37=\"\",\"\",tirage!F37))","v":""},{"$f":"IF(C21=\"\",\"\",tirage!G37)","v":""}]
[null,"Lot19",{"$f":"IF(tirage!C38=\"\",\"\",tirage!C38)","v":""},null,{"$f":"IF(C22=\"\",\"\",IF(tirage!E38=\"\",\"\",tirage!E38))","v":""},{"$f":"IF(C22=\"\",\"\",IF(tirage!F38=\"\",\"\",tirage!F38))","v":""},{"$f":"IF(C22=\"\",\"\",tirage!G38)","v":""}]
[null,"Lot20",{"$f":"IF(tirage!C39=\"\",\"\",tirage!C39)","v":""},null,{"$f":"IF(C23=\"\",\"\",IF(tirage!E39=\"\",\"\",tirage!E39))","v":""},{"$f":"IF(C23=\"\",\"\",IF(tirage!F39=\"\",\"\",tirage!F39))","v":""},{"$f":"IF(C23=\"\",\"\",tirage!G39)","v":""}]
[null,"Lot21",{"$f":"IF(tirage!C40=\"\",\"\",tirage!C40)","v":""},null,{"$f":"IF(C24=\"\",\"\",IF(tirage!E40=\"\",\"\",tirage!E40))","v":""},{"$f":"IF(C24=\"\",\"\",IF(tirage!F40=\"\",\"\",tirage!F40))","v":""},{"$f":"IF(C24=\"\",\"\",tirage!G40)","v":""}]
[null,"Lot22",{"$f":"IF(tirage!C41=\"\",\"\",tirage!C41)","v":""},null,{"$f":"IF(C25=\"\",\"\",IF(tirage!E41=\"\",\"\",tirage!E41))","v":""},{"$f":"IF(C25=\"\",\"\",IF(tirage!F41=\"\",\"\",tirage!F41))","v":""},{"$f":"IF(C25=\"\",\"\",tirage!G41)","v":""}]
[null,"Lot23",{"$f":"IF(tirage!C42=\"\",\"\",tirage!C42)","v":""},null,{"$f":"IF(C26=\"\",\"\",IF(tirage!E42=\"\",\"\",tirage!E42))","v":""},{"$f":"IF(C26=\"\",\"\",IF(tirage!F42=\"\",\"\",tirage!F42))","v":""},{"$f":"IF(C26=\"\",\"\",tirage!G42)","v":""}]
[null,"Lot24",{"$f":"IF(tirage!C43=\"\",\"\",tirage!C43)","v":""},null,{"$f":"IF(C27=\"\",\"\",IF(tirage!E43=\"\",\"\",tirage!E43))","v":""},{"$f":"IF(C27=\"\",\"\",IF(tirage!F43=\"\",\"\",tirage!F43))","v":""},{"$f":"IF(C27=\"\",\"\",tirage!G43)","v":""}]
[null,"Lot25",{"$f":"IF(tirage!C44=\"\",\"\",tirage!C44)","v":""},null,{"$f":"IF(C28=\"\",\"\",IF(tirage!E44=\"\",\"\",tirage!E44))","v":""},{"$f":"IF(C28=\"\",\"\",IF(tirage!F44=\"\",\"\",tirage!F44))","v":""},{"$f":"IF(C28=\"\",\"\",tirage!G44)","v":""}]
[null,"Lot26",{"$f":"IF(tirage!C45=\"\",\"\",tirage!C45)","v":""},null,{"$f":"IF(C29=\"\",\"\",IF(tirage!E45=\"\",\"\",tirage!E45))","v":""},{"$f":"IF(C29=\"\",\"\",IF(tirage!F45=\"\",\"\",tirage!F45))","v":""},{"$f":"IF(C29=\"\",\"\",tirage!G45)","v":""}]
[null,"Lot27",{"$f":"IF(tirage!C46=\"\",\"\",tirage!C46)","v":""},null,{"$f":"IF(C30=\"\",\"\",IF(tirage!E46=\"\",\"\",tirage!E46))","v":""},{"$f":"IF(C30=\"\",\"\",IF(tirage!F46=\"\",\"\",tirage!F46))","v":""},{"$f":"IF(C30=\"\",\"\",tirage!G46)","v":""}]
[null,"Lot28",{"$f":"IF(tirage!C47=\"\",\"\",tirage!C47)","v":""},null,{"$f":"IF(C31=\"\",\"\",IF(tirage!E47=\"\",\"\",tirage!E47))","v":""},{"$f":"IF(C31=\"\",\"\",IF(tirage!F47=\"\",\"\",tirage!F47))","v":""},{"$f":"IF(C31=\"\",\"\",tirage!G47)","v":""}]
[null,"Lot29",{"$f":"IF(tirage!C48=\"\",\"\",tirage!C48)","v":""},null,{"$f":"IF(C32=\"\",\"\",IF(tirage!E48=\"\",\"\",tirage!E48))","v":""},{"$f":"IF(C32=\"\",\"\",IF(tirage!F48=\"\",\"\",tirage!F48))","v":""},{"$f":"IF(C32=\"\",\"\",tirage!G48)","v":""}]
[null,"Lot30",{"$f":"IF(tirage!C49=\"\",\"\",tirage!C49)","v":""},null,{"$f":"IF(C33=\"\",\"\",IF(tirage!E49=\"\",\"\",tirage!E49))","v":""},{"$f":"IF(C33=\"\",\"\",IF(tirage!F49=\"\",\"\",tirage!F49))","v":""},{"$f":"IF(C33=\"\",\"\",tirage!G49)","v":""}]
[null,"Lot31",{"$f":"IF(tirage!C50=\"\",\"\",tirage!C50)","v":""},null,{"$f":"IF(C34=\"\",\"\",IF(tirage!E50=\"\",\"\",tirage!E50))","v":""},{"$f":"IF(C34=\"\",\"\",IF(tirage!F50=\"\",\"\",tirage!F50))","v":""},{"$f":"IF(C34=\"\",\"\",tirage!G50)","v":""}]
[null,"Lot32",{"$f":"IF(tirage!C51=\"\",\"\",tirage!C51)","v":""},null,{"$f":"IF(C35=\"\",\"\",IF(tirage!E51=\"\",\"\",tirage!E51))","v":""},{"$f":"IF(C35=\"\",\"\",IF(tirage!F51=\"\",\"\",tirage!F51))","v":""},{"$f":"IF(C35=\"\",\"\",tirage!G51)","v":""}]
[null,"Lot33",{"$f":"IF(tirage!C52=\"\",\"\",tirage!C52)","v":""},null,{"$f":"IF(C36=\"\",\"\",IF(tirage!E52=\"\",\"\",tirage!E52))","v":""},{"$f":"IF(C36=\"\",\"\",IF(tirage!F52=\"\",\"\",tirage!F52))","v":""},{"$f":"IF(C36=\"\",\"\",tirage!G52)","v":""}]
[null,"Lot34",{"$f":"IF(tirage!C53=\"\",\"\",tirage!C53)","v":""},null,{"$f":"IF(C37=\"\",\"\",IF(tirage!E53=\"\",\"\",tirage!E53))","v":""},{"$f":"IF(C37=\"\",\"\",IF(tirage!F53=\"\",\"\",tirage!F53))","v":""},{"$f":"IF(C37=\"\",\"\",tirage!G53)","v":""}]
[null,"Lot35",{"$f":"IF(tirage!C54=\"\",\"\",tirage!C54)","v":""},null,{"$f":"IF(C38=\"\",\"\",IF(tirage!E54=\"\",\"\",tirage!E54))","v":""},{"$f":"IF(C38=\"\",\"\",IF(tirage!F54=\"\",\"\",tirage!F54))","v":""},{"$f":"IF(C38=\"\",\"\",tirage!G54)","v":""}]
[null,"Lot36",{"$f":"IF(tirage!C55=\"\",\"\",tirage!C55)","v":""},null,{"$f":"IF(C39=\"\",\"\",IF(tirage!E55=\"\",\"\",tirage!E55))","v":""},{"$f":"IF(C39=\"\",\"\",IF(tirage!F55=\"\",\"\",tirage!F55))","v":""},{"$f":"IF(C39=\"\",\"\",tirage!G55)","v":""}]
[null,"Lot37",{"$f":"IF(tirage!C56=\"\",\"\",tirage!C56)","v":""},null,{"$f":"IF(C40=\"\",\"\",IF(tirage!E56=\"\",\"\",tirage!E56))","v":""},{"$f":"IF(C40=\"\",\"\",IF(tirage!F56=\"\",\"\",tirage!F56))","v":""},{"$f":"IF(C40=\"\",\"\",tirage!G56)","v":""}]
[null,"Lot38",{"$f":"IF(tirage!C57=\"\",\"\",tirage!C57)","v":""},null,{"$f":"IF(C41=\"\",\"\",IF(tirage!E57=\"\",\"\",tirage!E57))","v":""},{"$f":"IF(C41=\"\",\"\",IF(tirage!F57=\"\",\"\",tirage!F57))","v":""},{"$f":"IF(C41=\"\",\"\",tirage!G57)","v":""}]
[null,"Lot39",{"$f":"IF(tirage!C58=\"\",\"\",tirage!C58)","v":""},null,{"$f":"IF(C42=\"\",\"\",IF(tirage!E58=\"\",\"\",tirage!E58))","v":""},{"$f":"IF(C42=\"\",\"\",IF(tirage!F58=\"\",\"\",tirage!F58))","v":""},{"$f":"IF(C42=\"\",\"\",tirage!G58)","v":""}]
[null,"Lot40",{"$f":"IF(tirage!C59=\"\",\"\",tirage!C59)","v":""},null,{"$f":"IF(C43=\"\",\"\",IF(tirage!E59=\"\",\"\",tirage!E59))","v":""},{"$f":"IF(C43=\"\",\"\",IF(tirage!F59=\"\",\"\",tirage!F59))","v":""},{"$f":"IF(C43=\"\",\"\",tirage!G59)","v":""}]
[null,"Lot41",{"$f":"IF(tirage!C60=\"\",\"\",tirage!C60)","v":""},null,{"$f":"IF(C44=\"\",\"\",IF(tirage!E60=\"\",\"\",tirage!E60))","v":""},{"$f":"IF(C44=\"\",\"\",IF(tirage!F60=\"\",\"\",tirage!F60))","v":""},{"$f":"IF(C44=\"\",\"\",tirage!G60)","v":""}]
[null,"Lot42",{"$f":"IF(tirage!C61=\"\",\"\",tirage!C61)","v":""},null,{"$f":"IF(C45=\"\",\"\",IF(tirage!E61=\"\",\"\",tirage!E61))","v":""},{"$f":"IF(C45=\"\",\"\",IF(tirage!F61=\"\",\"\",tirage!F61))","v":""},{"$f":"IF(C45=\"\",\"\",tirage!G61)","v":""}]
[null,"Lot43",{"$f":"IF(tirage!C62=\"\",\"\",tirage!C62)","v":""},null,{"$f":"IF(C46=\"\",\"\",IF(tirage!E62=\"\",\"\",tirage!E62))","v":""},{"$f":"IF(C46=\"\",\"\",IF(tirage!F62=\"\",\"\",tirage!F62))","v":""},{"$f":"IF(C46=\"\",\"\",tirage!G62)","v":""}]
[null,"Lot44",{"$f":"IF(tirage!C63=\"\",\"\",tirage!C63)","v":""},null,{"$f":"IF(C47=\"\",\"\",IF(tirage!E63=\"\",\"\",tirage!E63))","v":""},{"$f":"IF(C47=\"\",\"\",IF(tirage!F63=\"\",\"\",tirage!F63))","v":""},{"$f":"IF(C47=\"\",\"\",tirage!G63)","v":""}]
[null,"Lot45",{"$f":"IF(tirage!C64=\"\",\"\",tirage!C64)","v":""},null,{"$f":"IF(C48=\"\",\"\",IF(tirage!E64=\"\",\"\",tirage!E64))","v":""},{"$f":"IF(C48=\"\",\"\",IF(tirage!F64=\"\",\"\",tirage!F64))","v":""},{"$f":"IF(C48=\"\",\"\",tirage!G64)","v":""}]
[null,"Lot46",{"$f":"IF(tirage!C65=\"\",\"\",tirage!C65)","v":""},null,{"$f":"IF(C49=\"\",\"\",IF(tirage!E65=\"\",\"\",tirage!E65))","v":""},{"$f":"IF(C49=\"\",\"\",IF(tirage!F65=\"\",\"\",tirage!F65))","v":""},{"$f":"IF(C49=\"\",\"\",tirage!G65)","v":""}]
[null,"Lot47",{"$f":"IF(tirage!C66=\"\",\"\",tirage!C66)","v":""},null,{"$f":"IF(C50=\"\",\"\",IF(tirage!E66=\"\",\"\",tirage!E66))","v":""},{"$f":"IF(C50=\"\",\"\",IF(tirage!F66=\"\",\"\",tirage!F66))","v":""},{"$f":"IF(C50=\"\",\"\",tirage!G66)","v":""}]
[null,"Lot48",{"$f":"IF(tirage!C67=\"\",\"\",tirage!C67)","v":""},null,{"$f":"IF(C51=\"\",\"\",IF(tirage!E67=\"\",\"\",tirage!E67))","v":""},{"$f":"IF(C51=\"\",\"\",IF(tirage!F67=\"\",\"\",tirage!F67))","v":""},{"$f":"IF(C51=\"\",\"\",tirage!G67)","v":""}]
[null,"Lot49",{"$f":"IF(tirage!C68=\"\",\"\",tirage!C68)","v":""},null,{"$f":"IF(C52=\"\",\"\",IF(tirage!E68=\"\",\"\",tirage!E68))","v":""},{"$f":"IF(C52=\"\",\"\",IF(tirage!F68=\"\",\"\",tirage!F68))","v":""},{"$f":"IF(C52=\"\",\"\",tirage!G68)","v":""}]
[null,"Lot50",{"$f":"IF(tirage!C69=\"\",\"\",tirage!C69)","v":""},null,{"$f":"IF(C53=\"\",\"\",IF(tirage!E69=\"\",\"\",tirage!E69))","v":""},{"$f":"IF(C53=\"\",\"\",IF(tirage!F69=\"\",\"\",tirage!F69))","v":""},{"$f":"IF(C53=\"\",\"\",tirage!G69)","v":""}]
[null,"Lot51",{"$f":"IF(tirage!C70=\"\",\"\",tirage!C70)","v":""},null,{"$f":"IF(C54=\"\",\"\",IF(tirage!E70=\"\",\"\",tirage!E70))","v":""},{"$f":"IF(C54=\"\",\"\",IF(tirage!F70=\"\",\"\",tirage!F70))","v":""},{"$f":"IF(C54=\"\",\"\",tirage!G70)","v":""}]
[null,"Lot52",{"$f":"IF(tirage!C71=\"\",\"\",tirage!C71)","v":""},null,{"$f":"IF(C55=\"\",\"\",IF(tirage!E71=\"\",\"\",tirage!E71))","v":""},{"$f":"IF(C55=\"\",\"\",IF(tirage!F71=\"\",\"\",tirage!F71))","v":""},{"$f":"IF(C55=\"\",\"\",tirage!G71)","v":""}]
[null,"Lot53",{"$f":"IF(tirage!C72=\"\",\"\",tirage!C72)","v":""},null,{"$f":"IF(C56=\"\",\"\",IF(tirage!E72=\"\",\"\",tirage!E72))","v":""},{"$f":"IF(C56=\"\",\"\",IF(tirage!F72=\"\",\"\",tirage!F72))","v":""},{"$f":"IF(C56=\"\",\"\",tirage!G72)","v":""}]
[null,"Lot54",{"$f":"IF(tirage!C73=\"\",\"\",tirage!C73)","v":""},null,{"$f":"IF(C57=\"\",\"\",IF(tirage!E73=\"\",\"\",tirage!E73))","v":""},{"$f":"IF(C57=\"\",\"\",IF(tirage!F73=\"\",\"\",tirage!F73))","v":""},{"$f":"IF(C57=\"\",\"\",tirage!G73)","v":""}]
[null,"Lot55",{"$f":"IF(tirage!C74=\"\",\"\",tirage!C74)","v":""},null,{"$f":"IF(C58=\"\",\"\",IF(tirage!E74=\"\",\"\",tirage!E74))","v":""},{"$f":"IF(C58=\"\",\"\",IF(tirage!F74=\"\",\"\",tirage!F74))","v":""},{"$f":"IF(C58=\"\",\"\",tirage!G74)","v":""}]
[null,"Lot56",{"$f":"IF(tirage!C75=\"\",\"\",tirage!C75)","v":""},null,{"$f":"IF(C59=\"\",\"\",IF(tirage!E75=\"\",\"\",tirage!E75))","v":""},{"$f":"IF(C59=\"\",\"\",IF(tirage!F75=\"\",\"\",tirage!F75))","v":""},{"$f":"IF(C59=\"\",\"\",tirage!G75)","v":""}]
[null,"Lot57",{"$f":"IF(tirage!C76=\"\",\"\",tirage!C76)","v":""},null,{"$f":"IF(C60=\"\",\"\",IF(tirage!E76=\"\",\"\",tirage!E76))","v":""},{"$f":"IF(C60=\"\",\"\",IF(tirage!F76=\"\",\"\",tirage!F76))","v":""},{"$f":"IF(C60=\"\",\"\",tirage!G76)","v":""}]
[null,"Lot58",{"$f":"IF(tirage!C77=\"\",\"\",tirage!C77)","v":""},null,{"$f":"IF(C61=\"\",\"\",IF(tirage!E77=\"\",\"\",tirage!E77))","v":""},{"$f":"IF(C61=\"\",\"\",IF(tirage!F77=\"\",\"\",tirage!F77))","v":""},{"$f":"IF(C61=\"\",\"\",tirage!G77)","v":""}]
[null,"Lot59",{"$f":"IF(tirage!C78=\"\",\"\",tirage!C78)","v":""},null,{"$f":"IF(C62=\"\",\"\",IF(tirage!E78=\"\",\"\",tirage!E78))","v":""},{"$f":"IF(C62=\"\",\"\",IF(tirage!F78=\"\",\"\",tirage!F78))","v":""},{"$f":"IF(C62=\"\",\"\",tirage!G78)","v":""}]
[null,"Lot60",{"$f":"IF(tirage!C79=\"\",\"\",tirage!C79)","v":""},null,{"$f":"IF(C63=\"\",\"\",IF(tirage!E79=\"\",\"\",tirage!E79))","v":""},{"$f":"IF(C63=\"\",\"\",IF(tirage!F79=\"\",\"\",tirage!F79))","v":""},{"$f":"IF(C63=\"\",\"\",tirage!G79)","v":""}]
[null,"Lot61",{"$f":"IF(tirage!C80=\"\",\"\",tirage!C80)","v":""},null,{"$f":"IF(C64=\"\",\"\",IF(tirage!E80=\"\",\"\",tirage!E80))","v":""},{"$f":"IF(C64=\"\",\"\",IF(tirage!F80=\"\",\"\",tirage!F80))","v":""},{"$f":"IF(C64=\"\",\"\",tirage!G80)","v":""}]
[null,"Lot62",{"$f":"IF(tirage!C81=\"\",\"\",tirage!C81)","v":""},null,{"$f":"IF(C65=\"\",\"\",IF(tirage!E81=\"\",\"\",tirage!E81))","v":""},{"$f":"IF(C65=\"\",\"\",IF(tirage!F81=\"\",\"\",tirage!F81))","v":""},{"$f":"IF(C65=\"\",\"\",tirage!G81)","v":""}]
[null,"Lot63",{"$f":"IF(tirage!C82=\"\",\"\",tirage!C82)","v":""},null,{"$f":"IF(C66=\"\",\"\",IF(tirage!E82=\"\",\"\",tirage!E82))","v":""},{"$f":"IF(C66=\"\",\"\",IF(tirage!F82=\"\",\"\",tirage!F82))","v":""},{"$f":"IF(C66=\"\",\"\",tirage!G82)","v":""}]
[null,"Lot64",{"$f":"IF(tirage!C83=\"\",\"\",tirage!C83)","v":""},null,{"$f":"IF(C67=\"\",\"\",IF(tirage!E83=\"\",\"\",tirage!E83))","v":""},{"$f":"IF(C67=\"\",\"\",IF(tirage!F83=\"\",\"\",tirage!F83))","v":""},{"$f":"IF(C67=\"\",\"\",tirage!G83)","v":""}]
[null,"Lot65",{"$f":"IF(tirage!C84=\"\",\"\",tirage!C84)","v":""},null,{"$f":"IF(C68=\"\",\"\",IF(tirage!E84=\"\",\"\",tirage!E84))","v":""},{"$f":"IF(C68=\"\",\"\",IF(tirage!F84=\"\",\"\",tirage!F84))","v":""},{"$f":"IF(C68=\"\",\"\",tirage!G84)","v":""}]
[null,"Lot66",{"$f":"IF(tirage!C85=\"\",\"\",tirage!C85)","v":""},null,{"$f":"IF(C69=\"\",\"\",IF(tirage!E85=\"\",\"\",tirage!E85))","v":""},{"$f":"IF(C69=\"\",\"\",IF(tirage!F85=\"\",\"\",tirage!F85))","v":""},{"$f":"IF(C69=\"\",\"\",tirage!G85)","v":""}]
[null,"Lot67",{"$f":"IF(tirage!C86=\"\",\"\",tirage!C86)","v":""},null,{"$f":"IF(C70=\"\",\"\",IF(tirage!E86=\"\",\"\",tirage!E86))","v":""},{"$f":"IF(C70=\"\",\"\",IF(tirage!F86=\"\",\"\",tirage!F86))","v":""},{"$f":"IF(C70=\"\",\"\",tirage!G86)","v":""}]
[null,"Lot68",{"$f":"IF(tirage!C87=\"\",\"\",tirage!C87)","v":""},null,{"$f":"IF(C71=\"\",\"\",IF(tirage!E87=\"\",\"\",tirage!E87))","v":""},{"$f":"IF(C71=\"\",\"\",IF(tirage!F87=\"\",\"\",tirage!F87))","v":""},{"$f":"IF(C71=\"\",\"\",tirage!G87)","v":""}]
[null,"Lot69",{"$f":"IF(tirage!C88=\"\",\"\",tirage!C88)","v":""},null,{"$f":"IF(C72=\"\",\"\",IF(tirage!E88=\"\",\"\",tirage!E88))","v":""},{"$f":"IF(C72=\"\",\"\",IF(tirage!F88=\"\",\"\",tirage!F88))","v":""},{"$f":"IF(C72=\"\",\"\",tirage!G88)","v":""}]
[null,"Lot70",{"$f":"IF(tirage!C89=\"\",\"\",tirage!C89)","v":""},null,{"$f":"IF(C73=\"\",\"\",IF(tirage!E89=\"\",\"\",tirage!E89))","v":""},{"$f":"IF(C73=\"\",\"\",IF(tirage!F89=\"\",\"\",tirage!F89))","v":""},{"$f":"IF(C73=\"\",\"\",tirage!G89)","v":""}]
[null,"Lot71",{"$f":"IF(tirage!C90=\"\",\"\",tirage!C90)","v":""},null,{"$f":"IF(C74=\"\",\"\",IF(tirage!E90=\"\",\"\",tirage!E90))","v":""},{"$f":"IF(C74=\"\",\"\",IF(tirage!F90=\"\",\"\",tirage!F90))","v":""},{"$f":"IF(C74=\"\",\"\",tirage!G90)","v":""}]
[null,"Lot72",{"$f":"IF(tirage!C91=\"\",\"\",tirage!C91)","v":""},null,{"$f":"IF(C75=\"\",\"\",IF(tirage!E91=\"\",\"\",tirage!E91))","v":""},{"$f":"IF(C75=\"\",\"\",IF(tirage!F91=\"\",\"\",tirage!F91))","v":""},{"$f":"IF(C75=\"\",\"\",tirage!G91)","v":""}]
[null,"Lot73",{"$f":"IF(tirage!C92=\"\",\"\",tirage!C92)","v":""},null,{"$f":"IF(C76=\"\",\"\",IF(tirage!E92=\"\",\"\",tirage!E92))","v":""},{"$f":"IF(C76=\"\",\"\",IF(tirage!F92=\"\",\"\",tirage!F92))","v":""},{"$f":"IF(C76=\"\",\"\",tirage!G92)","v":""}]
[null,"Lot74",{"$f":"IF(tirage!C93=\"\",\"\",tirage!C93)","v":""},null,{"$f":"IF(C77=\"\",\"\",IF(tirage!E93=\"\",\"\",tirage!E93))","v":""},{"$f":"IF(C77=\"\",\"\",IF(tirage!F93=\"\",\"\",tirage!F93))","v":""},{"$f":"IF(C77=\"\",\"\",tirage!G93)","v":""}]
[null,"Lot75",{"$f":"IF(tirage!C94=\"\",\"\",tirage!C94)","v":""},null,{"$f":"IF(C78=\"\",\"\",IF(tirage!E94=\"\",\"\",tirage!E94))","v":""},{"$f":"IF(C78=\"\",\"\",IF(tirage!F94=\"\",\"\",tirage!F94))","v":""},{"$f":"IF(C78=\"\",\"\",tirage!G94)","v":""}]
[null,"Lot76",{"$f":"IF(tirage!C95=\"\",\"\",tirage!C95)","v":""},null,{"$f":"IF(C79=\"\",\"\",IF(tirage!E95=\"\",\"\",tirage!E95))","v":""},{"$f":"IF(C79=\"\",\"\",IF(tirage!F95=\"\",\"\",tirage!F95))","v":""},{"$f":"IF(C79=\"\",\"\",tirage!G95)","v":""}]
[null,"Lot77",{"$f":"IF(tirage!C96=\"\",\"\",tirage!C96)","v":""},null,{"$f":"IF(C80=\"\",\"\",IF(tirage!E96=\"\",\"\",tirage!E96))","v":""},{"$f":"IF(C80=\"\",\"\",IF(tirage!F96=\"\",\"\",tirage!F96))","v":""},{"$f":"IF(C80=\"\",\"\",tirage!G96)","v":""}]
[null,"Lot78",{"$f":"IF(tirage!C97=\"\",\"\",tirage!C97)","v":""},null,{"$f":"IF(C81=\"\",\"\",IF(tirage!E97=\"\",\"\",tirage!E97))","v":""},{"$f":"IF(C81=\"\",\"\",IF(tirage!F97=\"\",\"\",tirage!F97))","v":""},{"$f":"IF(C81=\"\",\"\",tirage!G97)","v":""}]
[null,"Lot79",{"$f":"IF(tirage!C98=\"\",\"\",tirage!C98)","v":""},null,{"$f":"IF(C82=\"\",\"\",IF(tirage!E98=\"\",\"\",tirage!E98))","v":""},{"$f":"IF(C82=\"\",\"\",IF(tirage!F98=\"\",\"\",tirage!F98))","v":""},{"$f":"IF(C82=\"\",\"\",tirage!G98)","v":""}]
[null,"Lot80",{"$f":"IF(tirage!C99=\"\",\"\",tirage!C99)","v":""},null,{"$f":"IF(C83=\"\",\"\",IF(tirage!E99=\"\",\"\",tirage!E99))","v":""},{"$f":"IF(C83=\"\",\"\",IF(tirage!F99=\"\",\"\",tirage!F99))","v":""},{"$f":"IF(C83=\"\",\"\",tirage!G99)","v":""}]
[null,"Lot81",{"$f":"IF(tirage!C100=\"\",\"\",tirage!C100)","v":""},null,{"$f":"IF(C84=\"\",\"\",IF(tirage!E100=\"\",\"\",tirage!E100))","v":""},{"$f":"IF(C84=\"\",\"\",IF(tirage!F100=\"\",\"\",tirage!F100))","v":""},{"$f":"IF(C84=\"\",\"\",tirage!G100)","v":""}]
[null,"Lot82",{"$f":"IF(tirage!C101=\"\",\"\",tirage!C101)","v":""},null,{"$f":"IF(C85=\"\",\"\",IF(tirage!E101=\"\",\"\",tirage!E101))","v":""},{"$f":"IF(C85=\"\",\"\",IF(tirage!F101=\"\",\"\",tirage!F101))","v":""},{"$f":"IF(C85=\"\",\"\",tirage!G101)","v":""}]
[null,"Lot83",{"$f":"IF(tirage!C102=\"\",\"\",tirage!C102)","v":""},null,{"$f":"IF(C86=\"\",\"\",IF(tirage!E102=\"\",\"\",tirage!E102))","v":""},{"$f":"IF(C86=\"\",\"\",IF(tirage!F102=\"\",\"\",tirage!F102))","v":""},{"$f":"IF(C86=\"\",\"\",tirage!G102)","v":""}]
[null,"Lot84",{"$f":"IF(tirage!C103=\"\",\"\",tirage!C103)","v":""},null,{"$f":"IF(C87=\"\",\"\",IF(tirage!E103=\"\",\"\",tirage!E103))","v":""},{"$f":"IF(C87=\"\",\"\",IF(tirage!F103=\"\",\"\",tirage!F103))","v":""},{"$f":"IF(C87=\"\",\"\",tirage!G103)","v":""}]
[null,"Lot85",{"$f":"IF(tirage!C104=\"\",\"\",tirage!C104)","v":""},null,{"$f":"IF(C88=\"\",\"\",IF(tirage!E104=\"\",\"\",tirage!E104))","v":""},{"$f":"IF(C88=\"\",\"\",IF(tirage!F104=\"\",\"\",tirage!F104))","v":""},{"$f":"IF(C88=\"\",\"\",tirage!G104)","v":""}]
[null,"Lot86",{"$f":"IF(tirage!C105=\"\",\"\",tirage!C105)","v":""},null,{"$f":"IF(C89=\"\",\"\",IF(tirage!E105=\"\",\"\",tirage!E105))","v":""},{"$f":"IF(C89=\"\",\"\",IF(tirage!F105=\"\",\"\",tirage!F105))","v":""},{"$f":"IF(C89=\"\",\"\",tirage!G105)","v":""}]
[null,"Lot87",{"$f":"IF(tirage!C106=\"\",\"\",tirage!C106)","v":""},null,{"$f":"IF(C90=\"\",\"\",IF(tirage!E106=\"\",\"\",tirage!E106))","v":""},{"$f":"IF(C90=\"\",\"\",IF(tirage!F106=\"\",\"\",tirage!F106))","v":""},{"$f":"IF(C90=\"\",\"\",tirage!G106)","v":""}]
[null,"Lot88",{"$f":"IF(tirage!C107=\"\",\"\",tirage!C107)","v":""},null,{"$f":"IF(C91=\"\",\"\",IF(tirage!E107=\"\",\"\",tirage!E107))","v":""},{"$f":"IF(C91=\"\",\"\",IF(tirage!F107=\"\",\"\",tirage!F107))","v":""},{"$f":"IF(C91=\"\",\"\",tirage!G107)","v":""}]
[null,"Lot89",{"$f":"IF(tirage!C108=\"\",\"\",tirage!C108)","v":""},null,{"$f":"IF(C92=\"\",\"\",IF(tirage!E108=\"\",\"\",tirage!E108))","v":""},{"$f":"IF(C92=\"\",\"\",IF(tirage!F108=\"\",\"\",tirage!F108))","v":""},{"$f":"IF(C92=\"\",\"\",tirage!G108)","v":""}]
[null,"Lot90",{"$f":"IF(tirage!C109=\"\",\"\",tirage!C109)","v":""},null,{"$f":"IF(C93=\"\",\"\",IF(tirage!E109=\"\",\"\",tirage!E109))","v":""},{"$f":"IF(C93=\"\",\"\",IF(tirage!F109=\"\",\"\",tirage!F109))","v":""},{"$f":"IF(C93=\"\",\"\",tirage!G109)","v":""}]
[null,"Lot91",{"$f":"IF(tirage!C110=\"\",\"\",tirage!C110)","v":""},null,{"$f":"IF(C94=\"\",\"\",IF(tirage!E110=\"\",\"\",tirage!E110))","v":""},{"$f":"IF(C94=\"\",\"\",IF(tirage!F110=\"\",\"\",tirage!F110))","v":""},{"$f":"IF(C94=\"\",\"\",tirage!G110)","v":""}]
[null,"Lot92",{"$f":"IF(tirage!C111=\"\",\"\",tirage!C111)","v":""},null,{"$f":"IF(C95=\"\",\"\",IF(tirage!E111=\"\",\"\",tirage!E111))","v":""},{"$f":"IF(C95=\"\",\"\",IF(tirage!F111=\"\",\"\",tirage!F111))","v":""},{"$f":"IF(C95=\"\",\"\",tirage!G111)","v":""}]
[null,"Lot93",{"$f":"IF(tirage!C112=\"\",\"\",tirage!C112)","v":""},null,{"$f":"IF(C96=\"\",\"\",IF(tirage!E112=\"\",\"\",tirage!E112))","v":""},{"$f":"IF(C96=\"\",\"\",IF(tirage!F112=\"\",\"\",tirage!F112))","v":""},{"$f":"IF(C96=\"\",\"\",tirage!G112)","v":""}]
[null,"Lot94",{"$f":"IF(tirage!C113=\"\",\"\",tirage!C113)","v":""},null,{"$f":"IF(C97=\"\",\"\",IF(tirage!E113=\"\",\"\",tirage!E113))","v":""},{"$f":"IF(C97=\"\",\"\",IF(tirage!F113=\"\",\"\",tirage!F113))","v":""},{"$f":"IF(C97=\"\",\"\",tirage!G113)","v":""}]
[null,"Lot95",{"$f":"IF(tirage!C114=\"\",\"\",tirage!C114)","v":""},null,{"$f":"IF(C98=\"\",\"\",IF(tirage!E114=\"\",\"\",tirage!E114))","v":""},{"$f":"IF(C98=\"\",\"\",IF(tirage!F114=\"\",\"\",tirage!F114))","v":""},{"$f":"IF(C98=\"\",\"\",tirage!G114)","v":""}]
[null,"Lot96",{"$f":"IF(tirage!C115=\"\",\"\",tirage!C115)","v":""},null,{"$f":"IF(C99=\"\",\"\",IF(tirage!E115=\"\",\"\",tirage!E115))","v":""},{"$f":"IF(C99=\"\",\"\",IF(tirage!F115=\"\",\"\",tirage!F115))","v":""},{"$f":"IF(C99=\"\",\"\",tirage!G115)","v":""}]
[null,"Lot97",{"$f":"IF(tirage!C116=\"\",\"\",tirage!C116)","v":""},null,{"$f":"IF(C100=\"\",\"\",IF(tirage!E116=\"\",\"\",tirage!E116))","v":""},{"$f":"IF(C100=\"\",\"\",IF(tirage!F116=\"\",\"\",tirage!F116))","v":""},{"$f":"IF(C100=\"\",\"\",tirage!G116)","v":""}]
[null,"Lot98",{"$f":"IF(tirage!C117=\"\",\"\",tirage!C117)","v":""},null,{"$f":"IF(C101=\"\",\"\",IF(tirage!E117=\"\",\"\",tirage!E117))","v":""},{"$f":"IF(C101=\"\",\"\",IF(tirage!F117=\"\",\"\",tirage!F117))","v":""},{"$f":"IF(C101=\"\",\"\",tirage!G117)","v":""}]
[null,"Lot99",{"$f":"IF(tirage!C118=\"\",\"\",tirage!C118)","v":""},null,{"$f":"IF(C102=\"\",\"\",IF(tirage!E118=\"\",\"\",tirage!E118))","v":""},{"$f":"IF(C102=\"\",\"\",IF(tirage!F118=\"\",\"\",tirage!F118))","v":""},{"$f":"IF(C102=\"\",\"\",tirage!G118)","v":""}]
[null,"Lot100",{"$f":"IF(tirage!C119=\"\",\"\",tirage!C119)","v":""},null,{"$f":"IF(C103=\"\",\"\",IF(tirage!E119=\"\",\"\",tirage!E119))","v":""},{"$f":"IF(C103=\"\",\"\",IF(tirage!F119=\"\",\"\",tirage!F119))","v":""},{"$f":"IF(C103=\"\",\"\",tirage!G119)","v":""}]
[null,"Lot101",{"$f":"IF(tirage!C120=\"\",\"\",tirage!C120)","v":""},null,{"$f":"IF(C104=\"\",\"\",IF(tirage!E120=\"\",\"\",tirage!E120))","v":""},{"$f":"IF(C104=\"\",\"\",IF(tirage!F120=\"\",\"\",tirage!F120))","v":""},{"$f":"IF(C104=\"\",\"\",tirage!G120)","v":""}]
[null,"Lot102",{"$f":"IF(tirage!C121=\"\",\"\",tirage!C121)","v":""},null,{"$f":"IF(C105=\"\",\"\",IF(tirage!E121=\"\",\"\",tirage!E121))","v":""},{"$f":"IF(C105=\"\",\"\",IF(tirage!F121=\"\",\"\",tirage!F121))","v":""},{"$f":"IF(C105=\"\",\"\",tirage!G121)","v":""}]
[null,"Lot103",{"$f":"IF(tirage!C122=\"\",\"\",tirage!C122)","v":""},null,{"$f":"IF(C106=\"\",\"\",IF(tirage!E122=\"\",\"\",tirage!E122))","v":""},{"$f":"IF(C106=\"\",\"\",IF(tirage!F122=\"\",\"\",tirage!F122))","v":""},{"$f":"IF(C106=\"\",\"\",tirage!G122)","v":""}]
[null,"Lot104",{"$f":"IF(tirage!C123=\"\",\"\",tirage!C123)","v":""},null,{"$f":"IF(C107=\"\",\"\",IF(tirage!E123=\"\",\"\",tirage!E123))","v":""},{"$f":"IF(C107=\"\",\"\",IF(tirage!F123=\"\",\"\",tirage!F123))","v":""},{"$f":"IF(C107=\"\",\"\",tirage!G123)","v":""}]
[null,"Lot105",{"$f":"IF(tirage!C124=\"\",\"\",tirage!C124)","v":""},null,{"$f":"IF(C108=\"\",\"\",IF(tirage!E124=\"\",\"\",tirage!E124))","v":""},{"$f":"IF(C108=\"\",\"\",IF(tirage!F124=\"\",\"\",tirage!F124))","v":""},{"$f":"IF(C108=\"\",\"\",tirage!G124)","v":""}]
[null,"Lot106",{"$f":"IF(tirage!C125=\"\",\"\",tirage!C125)","v":""},null,{"$f":"IF(C109=\"\",\"\",IF(tirage!E125=\"\",\"\",tirage!E125))","v":""},{"$f":"IF(C109=\"\",\"\",IF(tirage!F125=\"\",\"\",tirage!F125))","v":""},{"$f":"IF(C109=\"\",\"\",tirage!G125)","v":""}]
[null,"Lot107",{"$f":"IF(tirage!C126=\"\",\"\",tirage!C126)","v":""},null,{"$f":"IF(C110=\"\",\"\",IF(tirage!E126=\"\",\"\",tirage!E126))","v":""},{"$f":"IF(C110=\"\",\"\",IF(tirage!F126=\"\",\"\",tirage!F126))","v":""},{"$f":"IF(C110=\"\",\"\",tirage!G126)","v":""}]
[null,"Lot108",{"$f":"IF(tirage!C127=\"\",\"\",tirage!C127)","v":""},null,{"$f":"IF(C111=\"\",\"\",IF(tirage!E127=\"\",\"\",tirage!E127))","v":""},{"$f":"IF(C111=\"\",\"\",IF(tirage!F127=\"\",\"\",tirage!F127))","v":""},{"$f":"IF(C111=\"\",\"\",tirage!G127)","v":""}]
[null,"Lot109",{"$f":"IF(tirage!C128=\"\",\"\",tirage!C128)","v":""},null,{"$f":"IF(C112=\"\",\"\",IF(tirage!E128=\"\",\"\",tirage!E128))","v":""},{"$f":"IF(C112=\"\",\"\",IF(tirage!F128=\"\",\"\",tirage!F128))","v":""},{"$f":"IF(C112=\"\",\"\",tirage!G128)","v":""}]
[null,"Lot110",{"$f":"IF(tirage!C129=\"\",\"\",tirage!C129)","v":""},null,{"$f":"IF(C113=\"\",\"\",IF(tirage!E129=\"\",\"\",tirage!E129))","v":""},{"$f":"IF(C113=\"\",\"\",IF(tirage!F129=\"\",\"\",tirage!F129))","v":""},{"$f":"IF(C113=\"\",\"\",tirage!G129)","v":""}]
[null,"Lot111",{"$f":"IF(tirage!C130=\"\",\"\",tirage!C130)","v":""},null,{"$f":"IF(C114=\"\",\"\",IF(tirage!E130=\"\",\"\",tirage!E130))","v":""},{"$f":"IF(C114=\"\",\"\",IF(tirage!F130=\"\",\"\",tirage!F130))","v":""},{"$f":"IF(C114=\"\",\"\",tirage!G130)","v":""}]
[null,"Lot112",{"$f":"IF(tirage!C131=\"\",\"\",tirage!C131)","v":""},null,{"$f":"IF(C115=\"\",\"\",IF(tirage!E131=\"\",\"\",tirage!E131))","v":""},{"$f":"IF(C115=\"\",\"\",IF(tirage!F131=\"\",\"\",tirage!F131))","v":""},{"$f":"IF(C115=\"\",\"\",tirage!G131)","v":""}]
[null,"Lot113",{"$f":"IF(tirage!C132=\"\",\"\",tirage!C132)","v":""},null,{"$f":"IF(C116=\"\",\"\",IF(tirage!E132=\"\",\"\",tirage!E132))","v":""},{"$f":"IF(C116=\"\",\"\",IF(tirage!F132=\"\",\"\",tirage!F132))","v":""},{"$f":"IF(C116=\"\",\"\",tirage!G132)","v":""}]
[null,"Lot114",{"$f":"IF(tirage!C133=\"\",\"\",tirage!C133)","v":""},null,{"$f":"IF(C117=\"\",\"\",IF(tirage!E133=\"\",\"\",tirage!E133))","v":""},{"$f":"IF(C117=\"\",\"\",IF(tirage!F133=\"\",\"\",tirage!F133))","v":""},{"$f":"IF(C117=\"\",\"\",tirage!G133)","v":""}]
[null,"Lot115",{"$f":"IF(tirage!C134=\"\",\"\",tirage!C134)","v":""},null,{"$f":"IF(C118=\"\",\"\",IF(tirage!E134=\"\",\"\",tirage!E134))","v":""},{"$f":"IF(C118=\"\",\"\",IF(tirage!F134=\"\",\"\",tirage!F134))","v":""},{"$f":"IF(C118=\"\",\"\",tirage!G134)","v":""}]
[null,"Lot116",{"$f":"IF(tirage!C135=\"\",\"\",tirage!C135)","v":""},null,{"$f":"IF(C119=\"\",\"\",IF(tirage!E135=\"\",\"\",tirage!E135))","v":""},{"$f":"IF(C119=\"\",\"\",IF(tirage!F135=\"\",\"\",tirage!F135))","v":""},{"$f":"IF(C119=\"\",\"\",tirage!G135)","v":""}]
[null,"Lot117",{"$f":"IF(tirage!C136=\"\",\"\",tirage!C136)","v":""},null,{"$f":"IF(C120=\"\",\"\",IF(tirage!E136=\"\",\"\",tirage!E136))","v":""},{"$f":"IF(C120=\"\",\"\",IF(tirage!F136=\"\",\"\",tirage!F136))","v":""},{"$f":"IF(C120=\"\",\"\",tirage!G136)","v":""}]
[null,"Lot118",{"$f":"IF(tirage!C137=\"\",\"\",tirage!C137)","v":""},null,{"$f":"IF(C121=\"\",\"\",IF(tirage!E137=\"\",\"\",tirage!E137))","v":""},{"$f":"IF(C121=\"\",\"\",IF(tirage!F137=\"\",\"\",tirage!F137))","v":""},{"$f":"IF(C121=\"\",\"\",tirage!G137)","v":""}]
[null,"Lot119",{"$f":"IF(tirage!C138=\"\",\"\",tirage!C138)","v":""},null,{"$f":"IF(C122=\"\",\"\",IF(tirage!E138=\"\",\"\",tirage!E138))","v":""},{"$f":"IF(C122=\"\",\"\",IF(tirage!F138=\"\",\"\",tirage!F138))","v":""},{"$f":"IF(C122=\"\",\"\",tirage!G138)","v":""}]
[null,"Lot120",{"$f":"IF(tirage!C139=\"\",\"\",tirage!C139)","v":""},null,{"$f":"IF(C123=\"\",\"\",IF(tirage!E139=\"\",\"\",tirage!E139))","v":""},{"$f":"IF(C123=\"\",\"\",IF(tirage!F139=\"\",\"\",tirage!F139))","v":""},{"$f":"IF(C123=\"\",\"\",tirage!G139)","v":""}]
[null,"Lot121",{"$f":"IF(tirage!C140=\"\",\"\",tirage!C140)","v":""},null,{"$f":"IF(C124=\"\",\"\",IF(tirage!E140=\"\",\"\",tirage!E140))","v":""},{"$f":"IF(C124=\"\",\"\",IF(tirage!F140=\"\",\"\",tirage!F140))","v":""},{"$f":"IF(C124=\"\",\"\",tirage!G140)","v":""}]
[null,"Lot122",{"$f":"IF(tirage!C141=\"\",\"\",tirage!C141)","v":""},null,{"$f":"IF(C125=\"\",\"\",IF(tirage!E141=\"\",\"\",tirage!E141))","v":""},{"$f":"IF(C125=\"\",\"\",IF(tirage!F141=\"\",\"\",tirage!F141))","v":""},{"$f":"IF(C125=\"\",\"\",tirage!G141)","v":""}]
[null,"Lot123",{"$f":"IF(tirage!C142=\"\",\"\",tirage!C142)","v":""},null,{"$f":"IF(C126=\"\",\"\",IF(tirage!E142=\"\",\"\",tirage!E142))","v":""},{"$f":"IF(C126=\"\",\"\",IF(tirage!F142=\"\",\"\",tirage!F142))","v":""},{"$f":"IF(C126=\"\",\"\",tirage!G142)","v":""}]
[null,"Lot124",{"$f":"IF(tirage!C143=\"\",\"\",tirage!C143)","v":""},null,{"$f":"IF(C127=\"\",\"\",IF(tirage!E143=\"\",\"\",tirage!E143))","v":""},{"$f":"IF(C127=\"\",\"\",IF(tirage!F143=\"\",\"\",tirage!F143))","v":""},{"$f":"IF(C127=\"\",\"\",tirage!G143)","v":""}]
[null,"Lot125",{"$f":"IF(tirage!C144=\"\",\"\",tirage!C144)","v":""},null,{"$f":"IF(C128=\"\",\"\",IF(tirage!E144=\"\",\"\",tirage!E144))","v":""},{"$f":"IF(C128=\"\",\"\",IF(tirage!F144=\"\",\"\",tirage!F144))","v":""},{"$f":"IF(C128=\"\",\"\",tirage!G144)","v":""}]
[null,"Lot126",{"$f":"IF(tirage!C145=\"\",\"\",tirage!C145)","v":""},null,{"$f":"IF(C129=\"\",\"\",IF(tirage!E145=\"\",\"\",tirage!E145))","v":""},{"$f":"IF(C129=\"\",\"\",IF(tirage!F145=\"\",\"\",tirage!F145))","v":""},{"$f":"IF(C129=\"\",\"\",tirage!G145)","v":""}]
[null,"Lot127",{"$f":"IF(tirage!C146=\"\",\"\",tirage!C146)","v":""},null,{"$f":"IF(C130=\"\",\"\",IF(tirage!E146=\"\",\"\",tirage!E146))","v":""},{"$f":"IF(C130=\"\",\"\",IF(tirage!F146=\"\",\"\",tirage!F146))","v":""},{"$f":"IF(C130=\"\",\"\",tirage!G146)","v":""}]
[null,"Lot128",{"$f":"IF(tirage!C147=\"\",\"\",tirage!C147)","v":""},null,{"$f":"IF(C131=\"\",\"\",IF(tirage!E147=\"\",\"\",tirage!E147))","v":""},{"$f":"IF(C131=\"\",\"\",IF(tirage!F147=\"\",\"\",tirage!F147))","v":""},{"$f":"IF(C131=\"\",\"\",tirage!G147)","v":""}]
[null,"Lot129",{"$f":"IF(tirage!C148=\"\",\"\",tirage!C148)","v":""},null,{"$f":"IF(C132=\"\",\"\",IF(tirage!E148=\"\",\"\",tirage!E148))","v":""},{"$f":"IF(C132=\"\",\"\",IF(tirage!F148=\"\",\"\",tirage!F148))","v":""},{"$f":"IF(C132=\"\",\"\",tirage!G148)","v":""}]
[null,"Lot130",{"$f":"IF(tirage!C149=\"\",\"\",tirage!C149)","v":""},null,{"$f":"IF(C133=\"\",\"\",IF(tirage!E149=\"\",\"\",tirage!E149))","v":""},{"$f":"IF(C133=\"\",\"\",IF(tirage!F149=\"\",\"\",tirage!F149))","v":""},{"$f":"IF(C133=\"\",\"\",tirage!G149)","v":""}]
[null,"Lot131",{"$f":"IF(tirage!C150=\"\",\"\",tirage!C150)","v":""},null,{"$f":"IF(C134=\"\",\"\",IF(tirage!E150=\"\",\"\",tirage!E150))","v":""},{"$f":"IF(C134=\"\",\"\",IF(tirage!F150=\"\",\"\",tirage!F150))","v":""},{"$f":"IF(C134=\"\",\"\",tirage!G150)","v":""}]
[null,"Lot132",{"$f":"IF(tirage!C151=\"\",\"\",tirage!C151)","v":""},null,{"$f":"IF(C135=\"\",\"\",IF(tirage!E151=\"\",\"\",tirage!E151))","v":""},{"$f":"IF(C135=\"\",\"\",IF(tirage!F151=\"\",\"\",tirage!F151))","v":""},{"$f":"IF(C135=\"\",\"\",tirage!G151)","v":""}]
[null,"Lot133",{"$f":"IF(tirage!C152=\"\",\"\",tirage!C152)","v":""},null,{"$f":"IF(C136=\"\",\"\",IF(tirage!E152=\"\",\"\",tirage!E152))","v":""},{"$f":"IF(C136=\"\",\"\",IF(tirage!F152=\"\",\"\",tirage!F152))","v":""},{"$f":"IF(C136=\"\",\"\",tirage!G152)","v":""}]
[null,"Lot134",{"$f":"IF(tirage!C153=\"\",\"\",tirage!C153)","v":""},null,{"$f":"IF(C137=\"\",\"\",IF(tirage!E153=\"\",\"\",tirage!E153))","v":""},{"$f":"IF(C137=\"\",\"\",IF(tirage!F153=\"\",\"\",tirage!F153))","v":""},{"$f":"IF(C137=\"\",\"\",tirage!G153)","v":""}]
[null,"Lot135",{"$f":"IF(tirage!C154=\"\",\"\",tirage!C154)","v":""},null,{"$f":"IF(C138=\"\",\"\",IF(tirage!E154=\"\",\"\",tirage!E154))","v":""},{"$f":"IF(C138=\"\",\"\",IF(tirage!F154=\"\",\"\",tirage!F154))","v":""},{"$f":"IF(C138=\"\",\"\",tirage!G154)","v":""}]
[null,"Lot136",{"$f":"IF(tirage!C155=\"\",\"\",tirage!C155)","v":""},null,{"$f":"IF(C139=\"\",\"\",IF(tirage!E155=\"\",\"\",tirage!E155))","v":""},{"$f":"IF(C139=\"\",\"\",IF(tirage!F155=\"\",\"\",tirage!F155))","v":""},{"$f":"IF(C139=\"\",\"\",tirage!G155)","v":""}]
[null,"Lot137",{"$f":"IF(tirage!C156=\"\",\"\",tirage!C156)","v":""},null,{"$f":"IF(C140=\"\",\"\",IF(tirage!E156=\"\",\"\",tirage!E156))","v":""},{"$f":"IF(C140=\"\",\"\",IF(tirage!F156=\"\",\"\",tirage!F156))","v":""},{"$f":"IF(C140=\"\",\"\",tirage!G156)","v":""}]
[null,"Lot138",{"$f":"IF(tirage!C157=\"\",\"\",tirage!C157)","v":""},null,{"$f":"IF(C141=\"\",\"\",IF(tirage!E157=\"\",\"\",tirage!E157))","v":""},{"$f":"IF(C141=\"\",\"\",IF(tirage!F157=\"\",\"\",tirage!F157))","v":""},{"$f":"IF(C141=\"\",\"\",tirage!G157)","v":""}]
[null,"Lot139",{"$f":"IF(tirage!C158=\"\",\"\",tirage!C158)","v":""},null,{"$f":"IF(C142=\"\",\"\",IF(tirage!E158=\"\",\"\",tirage!E158))","v":""},{"$f":"IF(C142=\"\",\"\",IF(tirage!F158=\"\",\"\",tirage!F158))","v":""},{"$f":"IF(C142=\"\",\"\",tirage!G158)","v":""}]
[null,"Lot140",{"$f":"IF(tirage!C159=\"\",\"\",tirage!C159)","v":""},null,{"$f":"IF(C143=\"\",\"\",IF(tirage!E159=\"\",\"\",tirage!E159))","v":""},{"$f":"IF(C143=\"\",\"\",IF(tirage!F159=\"\",\"\",tirage!F159))","v":""},{"$f":"IF(C143=\"\",\"\",tirage!G159)","v":""}]
[null,"Lot141",{"$f":"IF(tirage!C160=\"\",\"\",tirage!C160)","v":""},null,{"$f":"IF(C144=\"\",\"\",IF(tirage!E160=\"\",\"\",tirage!E160))","v":""},{"$f":"IF(C144=\"\",\"\",IF(tirage!F160=\"\",\"\",tirage!F160))","v":""},{"$f":"IF(C144=\"\",\"\",tirage!G160)","v":""}]
[null,"Lot142",{"$f":"IF(tirage!C161=\"\",\"\",tirage!C161)","v":""},null,{"$f":"IF(C145=\"\",\"\",IF(tirage!E161=\"\",\"\",tirage!E161))","v":""},{"$f":"IF(C145=\"\",\"\",IF(tirage!F161=\"\",\"\",tirage!F161))","v":""},{"$f":"IF(C145=\"\",\"\",tirage!G161)","v":""}]
[null,"Lot143",{"$f":"IF(tirage!C162=\"\",\"\",tirage!C162)","v":""},null,{"$f":"IF(C146=\"\",\"\",IF(tirage!E162=\"\",\"\",tirage!E162))","v":""},{"$f":"IF(C146=\"\",\"\",IF(tirage!F162=\"\",\"\",tirage!F162))","v":""},{"$f":"IF(C146=\"\",\"\",tirage!G162)","v":""}]
[null,"Lot144",{"$f":"IF(tirage!C163=\"\",\"\",tirage!C163)","v":""},null,{"$f":"IF(C147=\"\",\"\",IF(tirage!E163=\"\",\"\",tirage!E163))","v":""},{"$f":"IF(C147=\"\",\"\",IF(tirage!F163=\"\",\"\",tirage!F163))","v":""},{"$f":"IF(C147=\"\",\"\",tirage!G163)","v":""}]
[null,"Lot145",{"$f":"IF(tirage!C164=\"\",\"\",tirage!C164)","v":""},null,{"$f":"IF(C148=\"\",\"\",IF(tirage!E164=\"\",\"\",tirage!E164))","v":""},{"$f":"IF(C148=\"\",\"\",IF(tirage!F164=\"\",\"\",tirage!F164))","v":""},{"$f":"IF(C148=\"\",\"\",tirage!G164)","v":""}]
[null,"Lot146",{"$f":"IF(tirage!C165=\"\",\"\",tirage!C165)","v":""},null,{"$f":"IF(C149=\"\",\"\",IF(tirage!E165=\"\",\"\",tirage!E165))","v":""},{"$f":"IF(C149=\"\",\"\",IF(tirage!F165=\"\",\"\",tirage!F165))","v":""},{"$f":"IF(C149=\"\",\"\",tirage!G165)","v":""}]
[null,"Lot147",{"$f":"IF(tirage!C166=\"\",\"\",tirage!C166)","v":""},null,{"$f":"IF(C150=\"\",\"\",IF(tirage!E166=\"\",\"\",tirage!E166))","v":""},{"$f":"IF(C150=\"\",\"\",IF(tirage!F166=\"\",\"\",tirage!F166))","v":""},{"$f":"IF(C150=\"\",\"\",tirage!G166)","v":""}]
[null,"Lot148",{"$f":"IF(tirage!C167=\"\",\"\",tirage!C167)","v":""},null,{"$f":"IF(C151=\"\",\"\",IF(tirage!E167=\"\",\"\",tirage!E167))","v":""},{"$f":"IF(C151=\"\",\"\",IF(tirage!F167=\"\",\"\",tirage!F167))","v":""},{"$f":"IF(C151=\"\",\"\",tirage!G167)","v":""}]
[null,"Lot149",{"$f":"IF(tirage!C168=\"\",\"\",tirage!C168)","v":""},null,{"$f":"IF(C152=\"\",\"\",IF(tirage!E168=\"\",\"\",tirage!E168))","v":""},{"$f":"IF(C152=\"\",\"\",IF(tirage!F168=\"\",\"\",tirage!F168))","v":""},{"$f":"IF(C152=\"\",\"\",tirage!G168)","v":""}]
[null,"Lot150",{"$f":"IF(tirage!C169=\"\",\"\",tirage!C169)","v":""},null,{"$f":"IF(C153=\"\",\"\",IF(tirage!E169=\"\",\"\",tirage!E169))","v":""},{"$f":"IF(C153=\"\",\"\",IF(tirage!F169=\"\",\"\",tirage!F169))","v":""},{"$f":"IF(C153=\"\",\"\",tirage!G169)","v":""}]
[null,"Lot151",{"$f":"IF(tirage!C170=\"\",\"\",tirage!C170)","v":""},null,{"$f":"IF(C154=\"\",\"\",IF(tirage!E170=\"\",\"\",tirage!E170))","v":""},{"$f":"IF(C154=\"\",\"\",IF(tirage!F170=\"\",\"\",tirage!F170))","v":""},{"$f":"IF(C154=\"\",\"\",tirage!G170)","v":""}]
[null,"Lot152",{"$f":"IF(tirage!C171=\"\",\"\",tirage!C171)","v":""},null,{"$f":"IF(C155=\"\",\"\",IF(tirage!E171=\"\",\"\",tirage!E171))","v":""},{"$f":"IF(C155=\"\",\"\",IF(tirage!F171=\"\",\"\",tirage!F171))","v":""},{"$f":"IF(C155=\"\",\"\",tirage!G171)","v":""}]
[null,"Lot153",{"$f":"IF(tirage!C172=\"\",\"\",tirage!C172)","v":""},null,{"$f":"IF(C156=\"\",\"\",IF(tirage!E172=\"\",\"\",tirage!E172))","v":""},{"$f":"IF(C156=\"\",\"\",IF(tirage!F172=\"\",\"\",tirage!F172))","v":""},{"$f":"IF(C156=\"\",\"\",tirage!G172)","v":""}]
[null,"Lot154",{"$f":"IF(tirage!C173=\"\",\"\",tirage!C173)","v":""},null,{"$f":"IF(C157=\"\",\"\",IF(tirage!E173=\"\",\"\",tirage!E173))","v":""},{"$f":"IF(C157=\"\",\"\",IF(tirage!F173=\"\",\"\",tirage!F173))","v":""},{"$f":"IF(C157=\"\",\"\",tirage!G173)","v":""}]
[null,"Lot155",{"$f":"IF(tirage!C174=\"\",\"\",tirage!C174)","v":""},null,{"$f":"IF(C158=\"\",\"\",IF(tirage!E174=\"\",\"\",tirage!E174))","v":""},{"$f":"IF(C158=\"\",\"\",IF(tirage!F174=\"\",\"\",tirage!F174))","v":""},{"$f":"IF(C158=\"\",\"\",tirage!G174)","v":""}]
[null,"Lot156",{"$f":"IF(tirage!C175=\"\",\"\",tirage!C175)","v":""},null,{"$f":"IF(C159=\"\",\"\",IF(tirage!E175=\"\",\"\",tirage!E175))","v":""},{"$f":"IF(C159=\"\",\"\",IF(tirage!F175=\"\",\"\",tirage!F175))","v":""},{"$f":"IF(C159=\"\",\"\",tirage!G175)","v":""}]
[null,"Lot157",{"$f":"IF(tirage!C176=\"\",\"\",tirage!C176)","v":""},null,{"$f":"IF(C160=\"\",\"\",IF(tirage!E176=\"\",\"\",tirage!E176))","v":""},{"$f":"IF(C160=\"\",\"\",IF(tirage!F176=\"\",\"\",tirage!F176))","v":""},{"$f":"IF(C160=\"\",\"\",tirage!G176)","v":""}]
[null,"Lot158",{"$f":"IF(tirage!C177=\"\",\"\",tirage!C177)","v":""},null,{"$f":"IF(C161=\"\",\"\",IF(tirage!E177=\"\",\"\",tirage!E177))","v":""},{"$f":"IF(C161=\"\",\"\",IF(tirage!F177=\"\",\"\",tirage!F177))","v":""},{"$f":"IF(C161=\"\",\"\",tirage!G177)","v":""}]
[null,"Lot159",{"$f":"IF(tirage!C178=\"\",\"\",tirage!C178)","v":""},null,{"$f":"IF(C162=\"\",\"\",IF(tirage!E178=\"\",\"\",tirage!E178))","v":""},{"$f":"IF(C162=\"\",\"\",IF(tirage!F178=\"\",\"\",tirage!F178))","v":""},{"$f":"IF(C162=\"\",\"\",tirage!G178)","v":""}]
[null,"Lot160",{"$f":"IF(tirage!C179=\"\",\"\",tirage!C179)","v":""},null,{"$f":"IF(C163=\"\",\"\",IF(tirage!E179=\"\",\"\",tirage!E179))","v":""},{"$f":"IF(C163=\"\",\"\",IF(tirage!F179=\"\",\"\",tirage!F179))","v":""},{"$f":"IF(C163=\"\",\"\",tirage!G179)","v":""}]
[null,"Lot161",{"$f":"IF(tirage!C180=\"\",\"\",tirage!C180)","v":""},null,{"$f":"IF(C164=\"\",\"\",IF(tirage!E180=\"\",\"\",tirage!E180))","v":""},{"$f":"IF(C164=\"\",\"\",IF(tirage!F180=\"\",\"\",tirage!F180))","v":""},{"$f":"IF(C164=\"\",\"\",tirage!G180)","v":""}]
[null,"Lot162",{"$f":"IF(tirage!C181=\"\",\"\",tirage!C181)","v":""},null,{"$f":"IF(C165=\"\",\"\",IF(tirage!E181=\"\",\"\",tirage!E181))","v":""},{"$f":"IF(C165=\"\",\"\",IF(tirage!F181=\"\",\"\",tirage!F181))","v":""},{"$f":"IF(C165=\"\",\"\",tirage!G181)","v":""}]
[null,"Lot163",{"$f":"IF(tirage!C182=\"\",\"\",tirage!C182)","v":""},null,{"$f":"IF(C166=\"\",\"\",IF(tirage!E182=\"\",\"\",tirage!E182))","v":""},{"$f":"IF(C166=\"\",\"\",IF(tirage!F182=\"\",\"\",tirage!F182))","v":""},{"$f":"IF(C166=\"\",\"\",tirage!G182)","v":""}]
[null,"Lot164",{"$f":"IF(tirage!C183=\"\",\"\",tirage!C183)","v":""},null,{"$f":"IF(C167=\"\",\"\",IF(tirage!E183=\"\",\"\",tirage!E183))","v":""},{"$f":"IF(C167=\"\",\"\",IF(tirage!F183=\"\",\"\",tirage!F183))","v":""},{"$f":"IF(C167=\"\",\"\",tirage!G183)","v":""}]
[null,"Lot165",{"$f":"IF(tirage!C184=\"\",\"\",tirage!C184)","v":""},null,{"$f":"IF(C168=\"\",\"\",IF(tirage!E184=\"\",\"\",tirage!E184))","v":""},{"$f":"IF(C168=\"\",\"\",IF(tirage!F184=\"\",\"\",tirage!F184))","v":""},{"$f":"IF(C168=\"\",\"\",tirage!G184)","v":""}]
[null,"Lot166",{"$f":"IF(tirage!C185=\"\",\"\",tirage!C185)","v":""},null,{"$f":"IF(C169=\"\",\"\",IF(tirage!E185=\"\",\"\",tirage!E185))","v":""},{"$f":"IF(C169=\"\",\"\",IF(tirage!F185=\"\",\"\",tirage!F185))","v":""},{"$f":"IF(C169=\"\",\"\",tirage!G185)","v":""}]
[null,"Lot167",{"$f":"IF(tirage!C186=\"\",\"\",tirage!C186)","v":""},null,{"$f":"IF(C170=\"\",\"\",IF(tirage!E186=\"\",\"\",tirage!E186))","v":""},{"$f":"IF(C170=\"\",\"\",IF(tirage!F186=\"\",\"\",tirage!F186))","v":""},{"$f":"IF(C170=\"\",\"\",tirage!G186)","v":""}]
[null,"Lot168",{"$f":"IF(tirage!C187=\"\",\"\",tirage!C187)","v":""},null,{"$f":"IF(C171=\"\",\"\",IF(tirage!E187=\"\",\"\",tirage!E187))","v":""},{"$f":"IF(C171=\"\",\"\",IF(tirage!F187=\"\",\"\",tirage!F187))","v":""},{"$f":"IF(C171=\"\",\"\",tirage!G187)","v":""}]
[null,"Lot169",{"$f":"IF(tirage!C188=\"\",\"\",tirage!C188)","v":""},null,{"$f":"IF(C172=\"\",\"\",IF(tirage!E188=\"\",\"\",tirage!E188))","v":""},{"$f":"IF(C172=\"\",\"\",IF(tirage!F188=\"\",\"\",tirage!F188))","v":""},{"$f":"IF(C172=\"\",\"\",tirage!G188)","v":""}]
[null,"Lot170",{"$f":"IF(tirage!C189=\"\",\"\",tirage!C189)","v":""},null,{"$f":"IF(C173=\"\",\"\",IF(tirage!E189=\"\",\"\",tirage!E189))","v":""},{"$f":"IF(C173=\"\",\"\",IF(tirage!F189=\"\",\"\",tirage!F189))","v":""},{"$f":"IF(C173=\"\",\"\",tirage!G189)","v":""}]
[null,"Lot171",{"$f":"IF(tirage!C190=\"\",\"\",tirage!C190)","v":""},null,{"$f":"IF(C174=\"\",\"\",IF(tirage!E190=\"\",\"\",tirage!E190))","v":""},{"$f":"IF(C174=\"\",\"\",IF(tirage!F190=\"\",\"\",tirage!F190))","v":""},{"$f":"IF(C174=\"\",\"\",tirage!G190)","v":""}]
[null,"Lot172",{"$f":"IF(tirage!C191=\"\",\"\",tirage!C191)","v":""},null,{"$f":"IF(C175=\"\",\"\",IF(tirage!E191=\"\",\"\",tirage!E191))","v":""},{"$f":"IF(C175=\"\",\"\",IF(tirage!F191=\"\",\"\",tirage!F191))","v":""},{"$f":"IF(C175=\"\",\"\",tirage!G191)","v":""}]
[null,"Lot173",{"$f":"IF(tirage!C192=\"\",\"\",tirage!C192)","v":""},null,{"$f":"IF(C176=\"\",\"\",IF(tirage!E192=\"\",\"\",tirage!E192))","v":""},{"$f":"IF(C176=\"\",\"\",IF(tirage!F192=\"\",\"\",tirage!F192))","v":""},{"$f":"IF(C176=\"\",\"\",tirage!G192)","v":""}]
[null,"Lot174",{"$f":"IF(tirage!C193=\"\",\"\",tirage!C193)","v":""},null,{"$f":"IF(C177=\"\",\"\",IF(tirage!E193=\"\",\"\",tirage!E193))","v":""},{"$f":"IF(C177=\"\",\"\",IF(tirage!F193=\"\",\"\",tirage!F193))","v":""},{"$f":"IF(C177=\"\",\"\",tirage!G193)","v":""}]
[null,"Lot175",{"$f":"IF(tirage!C194=\"\",\"\",tirage!C194)","v":""},null,{"$f":"IF(C178=\"\",\"\",IF(tirage!E194=\"\",\"\",tirage!E194))","v":""},{"$f":"IF(C178=\"\",\"\",IF(tirage!F194=\"\",\"\",tirage!F194))","v":""},{"$f":"IF(C178=\"\",\"\",tirage!G194)","v":""}]
[null,"Lot176",{"$f":"IF(tirage!C195=\"\",\"\",tirage!C195)","v":""},null,{"$f":"IF(C179=\"\",\"\",IF(tirage!E195=\"\",\"\",tirage!E195))","v":""},{"$f":"IF(C179=\"\",\"\",IF(tirage!F195=\"\",\"\",tirage!F195))","v":""},{"$f":"IF(C179=\"\",\"\",tirage!G195)","v":""}]
[null,"Lot177",{"$f":"IF(tirage!C196=\"\",\"\",tirage!C196)","v":""},null,{"$f":"IF(C180=\"\",\"\",IF(tirage!E196=\"\",\"\",tirage!E196))","v":""},{"$f":"IF(C180=\"\",\"\",IF(tirage!F196=\"\",\"\",tirage!F196))","v":""},{"$f":"IF(C180=\"\",\"\",tirage!G196)","v":""}]
[null,"Lot178",{"$f":"IF(tirage!C197=\"\",\"\",tirage!C197)","v":""},null,{"$f":"IF(C181=\"\",\"\",IF(tirage!E197=\"\",\"\",tirage!E197))","v":""},{"$f":"IF(C181=\"\",\"\",IF(tirage!F197=\"\",\"\",tirage!F197))","v":""},{"$f":"IF(C181=\"\",\"\",tirage!G197)","v":""}]
[null,"Lot179",{"$f":"IF(tirage!C198=\"\",\"\",tirage!C198)","v":""},null,{"$f":"IF(C182=\"\",\"\",IF(tirage!E198=\"\",\"\",tirage!E198))","v":""},{"$f":"IF(C182=\"\",\"\",IF(tirage!F198=\"\",\"\",tirage!F198))","v":""},{"$f":"IF(C182=\"\",\"\",tirage!G198)","v":""}]
[null,"Lot180",{"$f":"IF(tirage!C199=\"\",\"\",tirage!C199)","v":""},null,{"$f":"IF(C183=\"\",\"\",IF(tirage!E199=\"\",\"\",tirage!E199))","v":""},{"$f":"IF(C183=\"\",\"\",IF(tirage!F199=\"\",\"\",tirage!F199))","v":""},{"$f":"IF(C183=\"\",\"\",tirage!G199)","v":""}]
[null,"Lot181",{"$f":"IF(tirage!C200=\"\",\"\",tirage!C200)","v":""},null,{"$f":"IF(C184=\"\",\"\",IF(tirage!E200=\"\",\"\",tirage!E200))","v":""},{"$f":"IF(C184=\"\",\"\",IF(tirage!F200=\"\",\"\",tirage!F200))","v":""},{"$f":"IF(C184=\"\",\"\",tirage!G200)","v":""}]
[null,"Lot182",{"$f":"IF(tirage!C201=\"\",\"\",tirage!C201)","v":""},null,{"$f":"IF(C185=\"\",\"\",IF(tirage!E201=\"\",\"\",tirage!E201))","v":""},{"$f":"IF(C185=\"\",\"\",IF(tirage!F201=\"\",\"\",tirage!F201))","v":""},{"$f":"IF(C185=\"\",\"\",tirage!G201)","v":""}]
[null,"Lot183",{"$f":"IF(tirage!C202=\"\",\"\",tirage!C202)","v":""},null,{"$f":"IF(C186=\"\",\"\",IF(tirage!E202=\"\",\"\",tirage!E202))","v":""},{"$f":"IF(C186=\"\",\"\",IF(tirage!F202=\"\",\"\",tirage!F202))","v":""},{"$f":"IF(C186=\"\",\"\",tirage!G202)","v":""}]
[null,"Lot184",{"$f":"IF(tirage!C203=\"\",\"\",tirage!C203)","v":""},null,{"$f":"IF(C187=\"\",\"\",IF(tirage!E203=\"\",\"\",tirage!E203))","v":""},{"$f":"IF(C187=\"\",\"\",IF(tirage!F203=\"\",\"\",tirage!F203))","v":""},{"$f":"IF(C187=\"\",\"\",tirage!G203)","v":""}]
[null,"Lot185",{"$f":"IF(tirage!C204=\"\",\"\",tirage!C204)","v":""},null,{"$f":"IF(C188=\"\",\"\",IF(tirage!E204=\"\",\"\",tirage!E204))","v":""},{"$f":"IF(C188=\"\",\"\",IF(tirage!F204=\"\",\"\",tirage!F204))","v":""},{"$f":"IF(C188=\"\",\"\",tirage!G204)","v":""}]
[null,"Lot186",{"$f":"IF(tirage!C205=\"\",\"\",tirage!C205)","v":""},null,{"$f":"IF(C189=\"\",\"\",IF(tirage!E205=\"\",\"\",tirage!E205))","v":""},{"$f":"IF(C189=\"\",\"\",IF(tirage!F205=\"\",\"\",tirage!F205))","v":""},{"$f":"IF(C189=\"\",\"\",tirage!G205)","v":""}]
[null,"Lot187",{"$f":"IF(tirage!C206=\"\",\"\",tirage!C206)","v":""},null,{"$f":"IF(C190=\"\",\"\",IF(tirage!E206=\"\",\"\",tirage!E206))","v":""},{"$f":"IF(C190=\"\",\"\",IF(tirage!F206=\"\",\"\",tirage!F206))","v":""},{"$f":"IF(C190=\"\",\"\",tirage!G206)","v":""}]
[null,"Lot188",{"$f":"IF(tirage!C207=\"\",\"\",tirage!C207)","v":""},null,{"$f":"IF(C191=\"\",\"\",IF(tirage!E207=\"\",\"\",tirage!E207))","v":""},{"$f":"IF(C191=\"\",\"\",IF(tirage!F207=\"\",\"\",tirage!F207))","v":""},{"$f":"IF(C191=\"\",\"\",tirage!G207)","v":""}]
[null,"Lot189",{"$f":"IF(tirage!C208=\"\",\"\",tirage!C208)","v":""},null,{"$f":"IF(C192=\"\",\"\",IF(tirage!E208=\"\",\"\",tirage!E208))","v":""},{"$f":"IF(C192=\"\",\"\",IF(tirage!F208=\"\",\"\",tirage!F208))","v":""},{"$f":"IF(C192=\"\",\"\",tirage!G208)","v":""}]
[null,"Lot190",{"$f":"IF(tirage!C209=\"\",\"\",tirage!C209)","v":""},null,{"$f":"IF(C193=\"\",\"\",IF(tirage!E209=\"\",\"\",tirage!E209))","v":""},{"$f":"IF(C193=\"\",\"\",IF(tirage!F209=\"\",\"\",tirage!F209))","v":""},{"$f":"IF(C193=\"\",\"\",tirage!G209)","v":""}]
[null,"Lot191",{"$f":"IF(tirage!C210=\"\",\"\",tirage!C210)","v":""},null,{"$f":"IF(C194=\"\",\"\",IF(tirage!E210=\"\",\"\",tirage!E210))","v":""},{"$f":"IF(C194=\"\",\"\",IF(tirage!F210=\"\",\"\",tirage!F210))","v":""},{"$f":"IF(C194=\"\",\"\",tirage!G210)","v":""}]
[null,"Lot192",{"$f":"IF(tirage!C211=\"\",\"\",tirage!C211)","v":""},null,{"$f":"IF(C195=\"\",\"\",IF(tirage!E211=\"\",\"\",tirage!E211))","v":""},{"$f":"IF(C195=\"\",\"\",IF(tirage!F211=\"\",\"\",tirage!F211))","v":""},{"$f":"IF(C195=\"\",\"\",tirage!G211)","v":""}]
[null,"Lot193",{"$f":"IF(tirage!C212=\"\",\"\",tirage!C212)","v":""},null,{"$f":"IF(C196=\"\",\"\",IF(tirage!E212=\"\",\"\",tirage!E212))","v":""},{"$f":"IF(C196=\"\",\"\",IF(tirage!F212=\"\",\"\",tirage!F212))","v":""},{"$f":"IF(C196=\"\",\"\",tirage!G212)","v":""}]
[null,"Lot194",{"$f":"IF(tirage!C213=\"\",\"\",tirage!C213)","v":""},null,{"$f":"IF(C197=\"\",\"\",IF(tirage!E213=\"\",\"\",tirage!E213))","v":""},{"$f":"IF(C197=\"\",\"\",IF(tirage!F213=\"\",\"\",tirage!F213))","v":""},{"$f":"IF(C197=\"\",\"\",tirage!G213)","v":""}]
[null,"Lot195",{"$f":"IF(tirage!C214=\"\",\"\",tirage!C214)","v":""},null,{"$f":"IF(C198=\"\",\"\",IF(tirage!E214=\"\",\"\",tirage!E214))","v":""},{"$f":"IF(C198=\"\",\"\",IF(tirage!F214=\"\",\"\",tirage!F214))","v":""},{"$f":"IF(C198=\"\",\"\",tirage!G214)","v":""}]
[null,"Lot196",{"$f":"IF(tirage!C215=\"\",\"\",tirage!C215)","v":""},null,{"$f":"IF(C199=\"\",\"\",IF(tirage!E215=\"\",\"\",tirage!E215))","v":""},{"$f":"IF(C199=\"\",\"\",IF(tirage!F215=\"\",\"\",tirage!F215))","v":""},{"$f":"IF(C199=\"\",\"\",tirage!G215)","v":""}]
[null,"Lot197",{"$f":"IF(tirage!C216=\"\",\"\",tirage!C216)","v":""},null,{"$f":"IF(C200=\"\",\"\",IF(tirage!E216=\"\",\"\",tirage!E216))","v":""},{"$f":"IF(C200=\"\",\"\",IF(tirage!F216=\"\",\"\",tirage!F216))","v":""},{"$f":"IF(C200=\"\",\"\",tirage!G216)","v":""}]
[null,"Lot198",{"$f":"IF(tirage!C217=\"\",\"\",tirage!C217)","v":""},null,{"$f":"IF(C201=\"\",\"\",IF(tirage!E217=\"\",\"\",tirage!E217))","v":""},{"$f":"IF(C201=\"\",\"\",IF(tirage!F217=\"\",\"\",tirage!F217))","v":""},{"$f":"IF(C201=\"\",\"\",tirage!G217)","v":""}]
[null,"Lot199",{"$f":"IF(tirage!C218=\"\",\"\",tirage!C218)","v":""},null,{"$f":"IF(C202=\"\",\"\",IF(tirage!E218=\"\",\"\",tirage!E218))","v":""},{"$f":"IF(C202=\"\",\"\",IF(tirage!F218=\"\",\"\",tirage!F218))","v":""},{"$f":"IF(C202=\"\",\"\",tirage!G218)","v":""}]
[null,"Lot200",{"$f":"IF(tirage!C219=\"\",\"\",tirage!C219)","v":""},null,{"$f":"IF(C203=\"\",\"\",IF(tirage!E219=\"\",\"\",tirage!E219))","v":""},{"$f":"IF(C203=\"\",\"\",IF(tirage!F219=\"\",\"\",tirage!F219))","v":""},{"$f":"IF(C203=\"\",\"\",tirage!G219)","v":""}]
[null,"Lot201",{"$f":"IF(tirage!C220=\"\",\"\",tirage!C220)","v":""},null,{"$f":"IF(C204=\"\",\"\",IF(tirage!E220=\"\",\"\",tirage!E220))","v":""},{"$f":"IF(C204=\"\",\"\",IF(tirage!F220=\"\",\"\",tirage!F220))","v":""},{"$f":"IF(C204=\"\",\"\",tirage!G220)","v":""}]
[null,"Lot202",{"$f":"IF(tirage!C221=\"\",\"\",tirage!C221)","v":""},null,{"$f":"IF(C205=\"\",\"\",IF(tirage!E221=\"\",\"\",tirage!E221))","v":""},{"$f":"IF(C205=\"\",\"\",IF(tirage!F221=\"\",\"\",tirage!F221))","v":""},{"$f":"IF(C205=\"\",\"\",tirage!G221)","v":""}]
[null,"Lot203",{"$f":"IF(tirage!C222=\"\",\"\",tirage!C222)","v":""},null,{"$f":"IF(C206=\"\",\"\",IF(tirage!E222=\"\",\"\",tirage!E222))","v":""},{"$f":"IF(C206=\"\",\"\",IF(tirage!F222=\"\",\"\",tirage!F222))","v":""},{"$f":"IF(C206=\"\",\"\",tirage!G222)","v":""}]
[null,"Lot204",{"$f":"IF(tirage!C223=\"\",\"\",tirage!C223)","v":""},null,{"$f":"IF(C207=\"\",\"\",IF(tirage!E223=\"\",\"\",tirage!E223))","v":""},{"$f":"IF(C207=\"\",\"\",IF(tirage!F223=\"\",\"\",tirage!F223))","v":""},{"$f":"IF(C207=\"\",\"\",tirage!G223)","v":""}]
[null,"Lot205",{"$f":"IF(tirage!C224=\"\",\"\",tirage!C224)","v":""},null,{"$f":"IF(C208=\"\",\"\",IF(tirage!E224=\"\",\"\",tirage!E224))","v":""},{"$f":"IF(C208=\"\",\"\",IF(tirage!F224=\"\",\"\",tirage!F224))","v":""},{"$f":"IF(C208=\"\",\"\",tirage!G224)","v":""}]
[null,"Lot206",{"$f":"IF(tirage!C225=\"\",\"\",tirage!C225)","v":""},null,{"$f":"IF(C209=\"\",\"\",IF(tirage!E225=\"\",\"\",tirage!E225))","v":""},{"$f":"IF(C209=\"\",\"\",IF(tirage!F225=\"\",\"\",tirage!F225))","v":""},{"$f":"IF(C209=\"\",\"\",tirage!G225)","v":""}]
[null,"Lot207",{"$f":"IF(tirage!C226=\"\",\"\",tirage!C226)","v":""},null,{"$f":"IF(C210=\"\",\"\",IF(tirage!E226=\"\",\"\",tirage!E226))","v":""},{"$f":"IF(C210=\"\",\"\",IF(tirage!F226=\"\",\"\",tirage!F226))","v":""},{"$f":"IF(C210=\"\",\"\",tirage!G226)","v":""}]
[null,"Lot208",{"$f":"IF(tirage!C227=\"\",\"\",tirage!C227)","v":""},null,{"$f":"IF(C211=\"\",\"\",IF(tirage!E227=\"\",\"\",tirage!E227))","v":""},{"$f":"IF(C211=\"\",\"\",IF(tirage!F227=\"\",\"\",tirage!F227))","v":""},{"$f":"IF(C211=\"\",\"\",tirage!G227)","v":""}]
[null,"Lot209",{"$f":"IF(tirage!C228=\"\",\"\",tirage!C228)","v":""},null,{"$f":"IF(C212=\"\",\"\",IF(tirage!E228=\"\",\"\",tirage!E228))","v":""},{"$f":"IF(C212=\"\",\"\",IF(tirage!F228=\"\",\"\",tirage!F228))","v":""},{"$f":"IF(C212=\"\",\"\",tirage!G228)","v":""}]
[null,"Lot210",{"$f":"IF(tirage!C229=\"\",\"\",tirage!C229)","v":""},null,{"$f":"IF(C213=\"\",\"\",IF(tirage!E229=\"\",\"\",tirage!E229))","v":""},{"$f":"IF(C213=\"\",\"\",IF(tirage!F229=\"\",\"\",tirage!F229))","v":""},{"$f":"IF(C213=\"\",\"\",tirage!G229)","v":""}]
[null,"Lot211",{"$f":"IF(tirage!C230=\"\",\"\",tirage!C230)","v":""},null,{"$f":"IF(C214=\"\",\"\",IF(tirage!E230=\"\",\"\",tirage!E230))","v":""},{"$f":"IF(C214=\"\",\"\",IF(tirage!F230=\"\",\"\",tirage!F230))","v":""},{"$f":"IF(C214=\"\",\"\",tirage!G230)","v":""}]
[null,"Lot212",{"$f":"IF(tirage!C231=\"\",\"\",tirage!C231)","v":""},null,{"$f":"IF(C215=\"\",\"\",IF(tirage!E231=\"\",\"\",tirage!E231))","v":""},{"$f":"IF(C215=\"\",\"\",IF(tirage!F231=\"\",\"\",tirage!F231))","v":""},{"$f":"IF(C215=\"\",\"\",tirage!G231)","v":""}]
[null,"Lot213",{"$f":"IF(tirage!C232=\"\",\"\",tirage!C232)","v":""},null,{"$f":"IF(C216=\"\",\"\",IF(tirage!E232=\"\",\"\",tirage!E232))","v":""},{"$f":"IF(C216=\"\",\"\",IF(tirage!F232=\"\",\"\",tirage!F232))","v":""},{"$f":"IF(C216=\"\",\"\",tirage!G232)","v":""}]
[null,"Lot214",{"$f":"IF(tirage!C233=\"\",\"\",tirage!C233)","v":""},null,{"$f":"IF(C217=\"\",\"\",IF(tirage!E233=\"\",\"\",tirage!E233))","v":""},{"$f":"IF(C217=\"\",\"\",IF(tirage!F233=\"\",\"\",tirage!F233))","v":""},{"$f":"IF(C217=\"\",\"\",tirage!G233)","v":""}]
[null,"Lot215",{"$f":"IF(tirage!C234=\"\",\"\",tirage!C234)","v":""},null,{"$f":"IF(C218=\"\",\"\",IF(tirage!E234=\"\",\"\",tirage!E234))","v":""},{"$f":"IF(C218=\"\",\"\",IF(tirage!F234=\"\",\"\",tirage!F234))","v":""},{"$f":"IF(C218=\"\",\"\",tirage!G234)","v":""}]
[null,"Lot216",{"$f":"IF(tirage!C235=\"\",\"\",tirage!C235)","v":""},null,{"$f":"IF(C219=\"\",\"\",IF(tirage!E235=\"\",\"\",tirage!E235))","v":""},{"$f":"IF(C219=\"\",\"\",IF(tirage!F235=\"\",\"\",tirage!F235))","v":""},{"$f":"IF(C219=\"\",\"\",tirage!G235)","v":""}]
[null,"Lot217",{"$f":"IF(tirage!C236=\"\",\"\",tirage!C236)","v":""},null,{"$f":"IF(C220=\"\",\"\",IF(tirage!E236=\"\",\"\",tirage!E236))","v":""},{"$f":"IF(C220=\"\",\"\",IF(tirage!F236=\"\",\"\",tirage!F236))","v":""},{"$f":"IF(C220=\"\",\"\",tirage!G236)","v":""}]
[null,"Lot218",{"$f":"IF(tirage!C237=\"\",\"\",tirage!C237)","v":""},null,{"$f":"IF(C221=\"\",\"\",IF(tirage!E237=\"\",\"\",tirage!E237))","v":""},{"$f":"IF(C221=\"\",\"\",IF(tirage!F237=\"\",\"\",tirage!F237))","v":""},{"$f":"IF(C221=\"\",\"\",tirage!G237)","v":""}]
[null,"Lot219",{"$f":"IF(tirage!C238=\"\",\"\",tirage!C238)","v":""},null,{"$f":"IF(C222=\"\",\"\",IF(tirage!E238=\"\",\"\",tirage!E238))","v":""},{"$f":"IF(C222=\"\",\"\",IF(tirage!F238=\"\",\"\",tirage!F238))","v":""},{"$f":"IF(C222=\"\",\"\",tirage!G238)","v":""}]
[null,"Lot220",{"$f":"IF(tirage!C239=\"\",\"\",tirage!C239)","v":""},null,{"$f":"IF(C223=\"\",\"\",IF(tirage!E239=\"\",\"\",tirage!E239))","v":""},{"$f":"IF(C223=\"\",\"\",IF(tirage!F239=\"\",\"\",tirage!F239))","v":""},{"$f":"IF(C223=\"\",\"\",tirage!G239)","v":""}]
[null,"Lot221",{"$f":"IF(tirage!C240=\"\",\"\",tirage!C240)","v":""},null,{"$f":"IF(C224=\"\",\"\",IF(tirage!E240=\"\",\"\",tirage!E240))","v":""},{"$f":"IF(C224=\"\",\"\",IF(tirage!F240=\"\",\"\",tirage!F240))","v":""},{"$f":"IF(C224=\"\",\"\",tirage!G240)","v":""}]
[null,"Lot222",{"$f":"IF(tirage!C241=\"\",\"\",tirage!C241)","v":""},null,{"$f":"IF(C225=\"\",\"\",IF(tirage!E241=\"\",\"\",tirage!E241))","v":""},{"$f":"IF(C225=\"\",\"\",IF(tirage!F241=\"\",\"\",tirage!F241))","v":""},{"$f":"IF(C225=\"\",\"\",tirage!G241)","v":""}]
[null,"Lot223",{"$f":"IF(tirage!C242=\"\",\"\",tirage!C242)","v":""},null,{"$f":"IF(C226=\"\",\"\",IF(tirage!E242=\"\",\"\",tirage!E242))","v":""},{"$f":"IF(C226=\"\",\"\",IF(tirage!F242=\"\",\"\",tirage!F242))","v":""},{"$f":"IF(C226=\"\",\"\",tirage!G242)","v":""}]
[null,"Lot224",{"$f":"IF(tirage!C243=\"\",\"\",tirage!C243)","v":""},null,{"$f":"IF(C227=\"\",\"\",IF(tirage!E243=\"\",\"\",tirage!E243))","v":""},{"$f":"IF(C227=\"\",\"\",IF(tirage!F243=\"\",\"\",tirage!F243))","v":""},{"$f":"IF(C227=\"\",\"\",tirage!G243)","v":""}]
[null,"Lot225",{"$f":"IF(tirage!C244=\"\",\"\",tirage!C244)","v":""},null,{"$f":"IF(C228=\"\",\"\",IF(tirage!E244=\"\",\"\",tirage!E244))","v":""},{"$f":"IF(C228=\"\",\"\",IF(tirage!F244=\"\",\"\",tirage!F244))","v":""},{"$f":"IF(C228=\"\",\"\",tirage!G244)","v":""}]
[null,"Lot226",{"$f":"IF(tirage!C245=\"\",\"\",tirage!C245)","v":""},null,{"$f":"IF(C229=\"\",\"\",IF(tirage!E245=\"\",\"\",tirage!E245))","v":""},{"$f":"IF(C229=\"\",\"\",IF(tirage!F245=\"\",\"\",tirage!F245))","v":""},{"$f":"IF(C229=\"\",\"\",tirage!G245)","v":""}]
[null,"Lot227",{"$f":"IF(tirage!C246=\"\",\"\",tirage!C246)","v":""},null,{"$f":"IF(C230=\"\",\"\",IF(tirage!E246=\"\",\"\",tirage!E246))","v":""},{"$f":"IF(C230=\"\",\"\",IF(tirage!F246=\"\",\"\",tirage!F246))","v":""},{"$f":"IF(C230=\"\",\"\",tirage!G246)","v":""}]
[null,"Lot228",{"$f":"IF(tirage!C247=\"\",\"\",tirage!C247)","v":""},null,{"$f":"IF(C231=\"\",\"\",IF(tirage!E247=\"\",\"\",tirage!E247))","v":""},{"$f":"IF(C231=\"\",\"\",IF(tirage!F247=\"\",\"\",tirage!F247))","v":""},{"$f":"IF(C231=\"\",\"\",tirage!G247)","v":""}]
[null,"Lot229",{"$f":"IF(tirage!C248=\"\",\"\",tirage!C248)","v":""},null,{"$f":"IF(C232=\"\",\"\",IF(tirage!E248=\"\",\"\",tirage!E248))","v":""},{"$f":"IF(C232=\"\",\"\",IF(tirage!F248=\"\",\"\",tirage!F248))","v":""},{"$f":"IF(C232=\"\",\"\",tirage!G248)","v":""}]
[null,"Lot230",{"$f":"IF(tirage!C249=\"\",\"\",tirage!C249)","v":""},null,{"$f":"IF(C233=\"\",\"\",IF(tirage!E249=\"\",\"\",tirage!E249))","v":""},{"$f":"IF(C233=\"\",\"\",IF(tirage!F249=\"\",\"\",tirage!F249))","v":""},{"$f":"IF(C233=\"\",\"\",tirage!G249)","v":""}]
[null,"Lot231",{"$f":"IF(tirage!C250=\"\",\"\",tirage!C250)","v":""},null,{"$f":"IF(C234=\"\",\"\",IF(tirage!E250=\"\",\"\",tirage!E250))","v":""},{"$f":"IF(C234=\"\",\"\",IF(tirage!F250=\"\",\"\",tirage!F250))","v":""},{"$f":"IF(C234=\"\",\"\",tirage!G250)","v":""}]
[null,"Lot232",{"$f":"IF(tirage!C251=\"\",\"\",tirage!C251)","v":""},null,{"$f":"IF(C235=\"\",\"\",IF(tirage!E251=\"\",\"\",tirage!E251))","v":""},{"$f":"IF(C235=\"\",\"\",IF(tirage!F251=\"\",\"\",tirage!F251))","v":""},{"$f":"IF(C235=\"\",\"\",tirage!G251)","v":""}]
[null,"Lot233",{"$f":"IF(tirage!C252=\"\",\"\",tirage!C252)","v":""},null,{"$f":"IF(C236=\"\",\"\",IF(tirage!E252=\"\",\"\",tirage!E252))","v":""},{"$f":"IF(C236=\"\",\"\",IF(tirage!F252=\"\",\"\",tirage!F252))","v":""},{"$f":"IF(C236=\"\",\"\",tirage!G252)","v":""}]
[null,"Lot234",{"$f":"IF(tirage!C253=\"\",\"\",tirage!C253)","v":""},null,{"$f":"IF(C237=\"\",\"\",IF(tirage!E253=\"\",\"\",tirage!E253))","v":""},{"$f":"IF(C237=\"\",\"\",IF(tirage!F253=\"\",\"\",tirage!F253))","v":""},{"$f":"IF(C237=\"\",\"\",tirage!G253)","v":""}]
[null,"Lot235",{"$f":"IF(tirage!C254=\"\",\"\",tirage!C254)","v":""},null,{"$f":"IF(C238=\"\",\"\",IF(tirage!E254=\"\",\"\",tirage!E254))","v":""},{"$f":"IF(C238=\"\",\"\",IF(tirage!F254=\"\",\"\",tirage!F254))","v":""},{"$f":"IF(C238=\"\",\"\",tirage!G254)","v":""}]
[null,"Lot236",{"$f":"IF(tirage!C255=\"\",\"\",tirage!C255)","v":""},null,{"$f":"IF(C239=\"\",\"\",IF(tirage!E255=\"\",\"\",tirage!E255))","v":""},{"$f":"IF(C239=\"\",\"\",IF(tirage!F255=\"\",\"\",tirage!F255))","v":""},{"$f":"IF(C239=\"\",\"\",tirage!G255)","v":""}]
[null,"Lot237",{"$f":"IF(tirage!C256=\"\",\"\",tirage!C256)","v":""},null,{"$f":"IF(C240=\"\",\"\",IF(tirage!E256=\"\",\"\",tirage!E256))","v":""},{"$f":"IF(C240=\"\",\"\",IF(tirage!F256=\"\",\"\",tirage!F256))","v":""},{"$f":"IF(C240=\"\",\"\",tirage!G256)","v":""}]
[null,"Lot238",{"$f":"IF(tirage!C257=\"\",\"\",tirage!C257)","v":""},null,{"$f":"IF(C241=\"\",\"\",IF(tirage!E257=\"\",\"\",tirage!E257))","v":""},{"$f":"IF(C241=\"\",\"\",IF(tirage!F257=\"\",\"\",tirage!F257))","v":""},{"$f":"IF(C241=\"\",\"\",tirage!G257)","v":""}]
[null,"Lot239",{"$f":"IF(tirage!C258=\"\",\"\",tirage!C258)","v":""},null,{"$f":"IF(C242=\"\",\"\",IF(tirage!E258=\"\",\"\",tirage!E258))","v":""},{"$f":"IF(C242=\"\",\"\",IF(tirage!F258=\"\",\"\",tirage!F258))","v":""},{"$f":"IF(C242=\"\",\"\",tirage!G258)","v":""}]
[null,"Lot240",{"$f":"IF(tirage!C259=\"\",\"\",tirage!C259)","v":""},null,{"$f":"IF(C243=\"\",\"\",IF(tirage!E259=\"\",\"\",tirage!E259))","v":""},{"$f":"IF(C243=\"\",\"\",IF(tirage!F259=\"\",\"\",tirage!F259))","v":""},{"$f":"IF(C243=\"\",\"\",tirage!G259)","v":""}]
[null,"Lot241",{"$f":"IF(tirage!C260=\"\",\"\",tirage!C260)","v":""},null,{"$f":"IF(C244=\"\",\"\",IF(tirage!E260=\"\",\"\",tirage!E260))","v":""},{"$f":"IF(C244=\"\",\"\",IF(tirage!F260=\"\",\"\",tirage!F260))","v":""},{"$f":"IF(C244=\"\",\"\",tirage!G260)","v":""}]
[null,"Lot242",{"$f":"IF(tirage!C261=\"\",\"\",tirage!C261)","v":""},null,{"$f":"IF(C245=\"\",\"\",IF(tirage!E261=\"\",\"\",tirage!E261))","v":""},{"$f":"IF(C245=\"\",\"\",IF(tirage!F261=\"\",\"\",tirage!F261))","v":""},{"$f":"IF(C245=\"\",\"\",tirage!G261)","v":""}]
[null,"Lot243",{"$f":"IF(tirage!C262=\"\",\"\",tirage!C262)","v":""},null,{"$f":"IF(C246=\"\",\"\",IF(tirage!E262=\"\",\"\",tirage!E262))","v":""},{"$f":"IF(C246=\"\",\"\",IF(tirage!F262=\"\",\"\",tirage!F262))","v":""},{"$f":"IF(C246=\"\",\"\",tirage!G262)","v":""}]
[null,"Lot244",{"$f":"IF(tirage!C263=\"\",\"\",tirage!C263)","v":""},null,{"$f":"IF(C247=\"\",\"\",IF(tirage!E263=\"\",\"\",tirage!E263))","v":""},{"$f":"IF(C247=\"\",\"\",IF(tirage!F263=\"\",\"\",tirage!F263))","v":""},{"$f":"IF(C247=\"\",\"\",tirage!G263)","v":""}]
[null,"Lot245",{"$f":"IF(tirage!C264=\"\",\"\",tirage!C264)","v":""},null,{"$f":"IF(C248=\"\",\"\",IF(tirage!E264=\"\",\"\",tirage!E264))","v":""},{"$f":"IF(C248=\"\",\"\",IF(tirage!F264=\"\",\"\",tirage!F264))","v":""},{"$f":"IF(C248=\"\",\"\",tirage!G264)","v":""}]
[null,"Lot246",{"$f":"IF(tirage!C265=\"\",\"\",tirage!C265)","v":""},null,{"$f":"IF(C249=\"\",\"\",IF(tirage!E265=\"\",\"\",tirage!E265))","v":""},{"$f":"IF(C249=\"\",\"\",IF(tirage!F265=\"\",\"\",tirage!F265))","v":""},{"$f":"IF(C249=\"\",\"\",tirage!G265)","v":""}]
[null,"Lot247",{"$f":"IF(tirage!C266=\"\",\"\",tirage!C266)","v":""},null,{"$f":"IF(C250=\"\",\"\",IF(tirage!E266=\"\",\"\",tirage!E266))","v":""},{"$f":"IF(C250=\"\",\"\",IF(tirage!F266=\"\",\"\",tirage!F266))","v":""},{"$f":"IF(C250=\"\",\"\",tirage!G266)","v":""}]
[null,"Lot248",{"$f":"IF(tirage!C267=\"\",\"\",tirage!C267)","v":""},null,{"$f":"IF(C251=\"\",\"\",IF(tirage!E267=\"\",\"\",tirage!E267))","v":""},{"$f":"IF(C251=\"\",\"\",IF(tirage!F267=\"\",\"\",tirage!F267))","v":""},{"$f":"IF(C251=\"\",\"\",tirage!G267)","v":""}]
[null,"Lot249",{"$f":"IF(tirage!C268=\"\",\"\",tirage!C268)","v":""},null,{"$f":"IF(C252=\"\",\"\",IF(tirage!E268=\"\",\"\",tirage!E268))","v":""},{"$f":"IF(C252=\"\",\"\",IF(tirage!F268=\"\",\"\",tirage!F268))","v":""},{"$f":"IF(C252=\"\",\"\",tirage!G268)","v":""}]
[null,"Lot250",{"$f":"IF(tirage!C269=\"\",\"\",tirage!C269)","v":""},null,{"$f":"IF(C253=\"\",\"\",IF(tirage!E269=\"\",\"\",tirage!E269))","v":""},{"$f":"IF(C253=\"\",\"\",IF(tirage!F269=\"\",\"\",tirage!F269))","v":""},{"$f":"IF(C253=\"\",\"\",tirage!G269)","v":""}]
[null,"Lot251",{"$f":"IF(tirage!C270=\"\",\"\",tirage!C270)","v":""},null,{"$f":"IF(C254=\"\",\"\",IF(tirage!E270=\"\",\"\",tirage!E270))","v":""},{"$f":"IF(C254=\"\",\"\",IF(tirage!F270=\"\",\"\",tirage!F270))","v":""},{"$f":"IF(C254=\"\",\"\",tirage!G270)","v":""}]
[null,"Lot252",{"$f":"IF(tirage!C271=\"\",\"\",tirage!C271)","v":""},null,{"$f":"IF(C255=\"\",\"\",IF(tirage!E271=\"\",\"\",tirage!E271))","v":""},{"$f":"IF(C255=\"\",\"\",IF(tirage!F271=\"\",\"\",tirage!F271))","v":""},{"$f":"IF(C255=\"\",\"\",tirage!G271)","v":""}]
[null,"Lot253",{"$f":"IF(tirage!C272=\"\",\"\",tirage!C272)","v":""},null,{"$f":"IF(C256=\"\",\"\",IF(tirage!E272=\"\",\"\",tirage!E272))","v":""},{"$f":"IF(C256=\"\",\"\",IF(tirage!F272=\"\",\"\",tirage!F272))","v":""},{"$f":"IF(C256=\"\",\"\",tirage!G272)","v":""}]
[null,"Lot254",{"$f":"IF(tirage!C273=\"\",\"\",tirage!C273)","v":""},null,{"$f":"IF(C257=\"\",\"\",IF(tirage!E273=\"\",\"\",tirage!E273))","v":""},{"$f":"IF(C257=\"\",\"\",IF(tirage!F273=\"\",\"\",tirage!F273))","v":""},{"$f":"IF(C257=\"\",\"\",tirage!G273)","v":""}]
[null,"Lot255",{"$f":"IF(tirage!C274=\"\",\"\",tirage!C274)","v":""},null,{"$f":"IF(C258=\"\",\"\",IF(tirage!E274=\"\",\"\",tirage!E274))","v":""},{"$f":"IF(C258=\"\",\"\",IF(tirage!F274=\"\",\"\",tirage!F274))","v":""},{"$f":"IF(C258=\"\",\"\",tirage!G274)","v":""}]
[null,"Lot256",{"$f":"IF(tirage!C275=\"\",\"\",tirage!C275)","v":""},null,{"$f":"IF(C259=\"\",\"\",IF(tirage!E275=\"\",\"\",tirage!E275))","v":""},{"$f":"IF(C259=\"\",\"\",IF(tirage!F275=\"\",\"\",tirage!F275))","v":""},{"$f":"IF(C259=\"\",\"\",tirage!G275)","v":""}]
[null,"Lot257",{"$f":"IF(tirage!C276=\"\",\"\",tirage!C276)","v":""},null,{"$f":"IF(C260=\"\",\"\",IF(tirage!E276=\"\",\"\",tirage!E276))","v":""},{"$f":"IF(C260=\"\",\"\",IF(tirage!F276=\"\",\"\",tirage!F276))","v":""},{"$f":"IF(C260=\"\",\"\",tirage!G276)","v":""}]
[null,"Lot258",{"$f":"IF(tirage!C277=\"\",\"\",tirage!C277)","v":""},null,{"$f":"IF(C261=\"\",\"\",IF(tirage!E277=\"\",\"\",tirage!E277))","v":""},{"$f":"IF(C261=\"\",\"\",IF(tirage!F277=\"\",\"\",tirage!F277))","v":""},{"$f":"IF(C261=\"\",\"\",tirage!G277)","v":""}]
[null,"Lot259",{"$f":"IF(tirage!C278=\"\",\"\",tirage!C278)","v":""},null,{"$f":"IF(C262=\"\",\"\",IF(tirage!E278=\"\",\"\",tirage!E278))","v":""},{"$f":"IF(C262=\"\",\"\",IF(tirage!F278=\"\",\"\",tirage!F278))","v":""},{"$f":"IF(C262=\"\",\"\",tirage!G278)","v":""}]
[null,"Lot260",{"$f":"IF(tirage!C279=\"\",\"\",tirage!C279)","v":""},null,{"$f":"IF(C263=\"\",\"\",IF(tirage!E279=\"\",\"\",tirage!E279))","v":""},{"$f":"IF(C263=\"\",\"\",IF(tirage!F279=\"\",\"\",tirage!F279))","v":""},{"$f":"IF(C263=\"\",\"\",tirage!G279)","v":""}]
[null,"Lot261",{"$f":"IF(tirage!C280=\"\",\"\",tirage!C280)","v":""},null,{"$f":"IF(C264=\"\",\"\",IF(tirage!E280=\"\",\"\",tirage!E280))","v":""},{"$f":"IF(C264=\"\",\"\",IF(tirage!F280=\"\",\"\",tirage!F280))","v":""},{"$f":"IF(C264=\"\",\"\",tirage!G280)","v":""}]
[null,"Lot262",{"$f":"IF(tirage!C281=\"\",\"\",tirage!C281)","v":""},null,{"$f":"IF(C265=\"\",\"\",IF(tirage!E281=\"\",\"\",tirage!E281))","v":""},{"$f":"IF(C265=\"\",\"\",IF(tirage!F281=\"\",\"\",tirage!F281))","v":""},{"$f":"IF(C265=\"\",\"\",tirage!G281)","v":""}]
[null,"Lot263",{"$f":"IF(tirage!C282=\"\",\"\",tirage!C282)","v":""},null,{"$f":"IF(C266=\"\",\"\",IF(tirage!E282=\"\",\"\",tirage!E282))","v":""},{"$f":"IF(C266=\"\",\"\",IF(tirage!F282=\"\",\"\",tirage!F282))","v":""},{"$f":"IF(C266=\"\",\"\",tirage!G282)","v":""}]
[null,"Lot264",{"$f":"IF(tirage!C283=\"\",\"\",tirage!C283)","v":""},null,{"$f":"IF(C267=\"\",\"\",IF(tirage!E283=\"\",\"\",tirage!E283))","v":""},{"$f":"IF(C267=\"\",\"\",IF(tirage!F283=\"\",\"\",tirage!F283))","v":""},{"$f":"IF(C267=\"\",\"\",tirage!G283)","v":""}]
[null,"Lot265",{"$f":"IF(tirage!C284=\"\",\"\",tirage!C284)","v":""},null,{"$f":"IF(C268=\"\",\"\",IF(tirage!E284=\"\",\"\",tirage!E284))","v":""},{"$f":"IF(C268=\"\",\"\",IF(tirage!F284=\"\",\"\",tirage!F284))","v":""},{"$f":"IF(C268=\"\",\"\",tirage!G284)","v":""}]
[null,"Lot266",{"$f":"IF(tirage!C285=\"\",\"\",tirage!C285)","v":""},null,{"$f":"IF(C269=\"\",\"\",IF(tirage!E285=\"\",\"\",tirage!E285))","v":""},{"$f":"IF(C269=\"\",\"\",IF(tirage!F285=\"\",\"\",tirage!F285))","v":""},{"$f":"IF(C269=\"\",\"\",tirage!G285)","v":""}]
[null,"Lot267",{"$f":"IF(tirage!C286=\"\",\"\",tirage!C286)","v":""},null,{"$f":"IF(C270=\"\",\"\",IF(tirage!E286=\"\",\"\",tirage!E286))","v":""},{"$f":"IF(C270=\"\",\"\",IF(tirage!F286=\"\",\"\",tirage!F286))","v":""},{"$f":"IF(C270=\"\",\"\",tirage!G286)","v":""}]
[null,"Lot268",{"$f":"IF(tirage!C287=\"\",\"\",tirage!C287)","v":""},null,{"$f":"IF(C271=\"\",\"\",IF(tirage!E287=\"\",\"\",tirage!E287))","v":""},{"$f":"IF(C271=\"\",\"\",IF(tirage!F287=\"\",\"\",tirage!F287))","v":""},{"$f":"IF(C271=\"\",\"\",tirage!G287)","v":""}]
[null,"Lot269",{"$f":"IF(tirage!C288=\"\",\"\",tirage!C288)","v":""},null,{"$f":"IF(C272=\"\",\"\",IF(tirage!E288=\"\",\"\",tirage!E288))","v":""},{"$f":"IF(C272=\"\",\"\",IF(tirage!F288=\"\",\"\",tirage!F288))","v":""},{"$f":"IF(C272=\"\",\"\",tirage!G288)","v":""}]
[null,"Lot270",{"$f":"IF(tirage!C289=\"\",\"\",tirage!C289)","v":""},null,{"$f":"IF(C273=\"\",\"\",IF(tirage!E289=\"\",\"\",tirage!E289))","v":""},{"$f":"IF(C273=\"\",\"\",IF(tirage!F289=\"\",\"\",tirage!F289))","v":""},{"$f":"IF(C273=\"\",\"\",tirage!G289)","v":""}]
[null,"Lot271",{"$f":"IF(tirage!C290=\"\",\"\",tirage!C290)","v":""},null,{"$f":"IF(C274=\"\",\"\",IF(tirage!E290=\"\",\"\",tirage!E290))","v":""},{"$f":"IF(C274=\"\",\"\",IF(tirage!F290=\"\",\"\",tirage!F290))","v":""},{"$f":"IF(C274=\"\",\"\",tirage!G290)","v":""}]
[null,"Lot272",{"$f":"IF(tirage!C291=\"\",\"\",tirage!C291)","v":""},null,{"$f":"IF(C275=\"\",\"\",IF(tirage!E291=\"\",\"\",tirage!E291))","v":""},{"$f":"IF(C275=\"\",\"\",IF(tirage!F291=\"\",\"\",tirage!F291))","v":""},{"$f":"IF(C275=\"\",\"\",tirage!G291)","v":""}]
[null,"Lot273",{"$f":"IF(tirage!C292=\"\",\"\",tirage!C292)","v":""},null,{"$f":"IF(C276=\"\",\"\",IF(tirage!E292=\"\",\"\",tirage!E292))","v":""},{"$f":"IF(C276=\"\",\"\",IF(tirage!F292=\"\",\"\",tirage!F292))","v":""},{"$f":"IF(C276=\"\",\"\",tirage!G292)","v":""}]
[null,"Lot274",{"$f":"IF(tirage!C293=\"\",\"\",tirage!C293)","v":""},null,{"$f":"IF(C277=\"\",\"\",IF(tirage!E293=\"\",\"\",tirage!E293))","v":""},{"$f":"IF(C277=\"\",\"\",IF(tirage!F293=\"\",\"\",tirage!F293))","v":""},{"$f":"IF(C277=\"\",\"\",tirage!G293)","v":""}]
[null,"Lot275",{"$f":"IF(tirage!C294=\"\",\"\",tirage!C294)","v":""},null,{"$f":"IF(C278=\"\",\"\",IF(tirage!E294=\"\",\"\",tirage!E294))","v":""},{"$f":"IF(C278=\"\",\"\",IF(tirage!F294=\"\",\"\",tirage!F294))","v":""},{"$f":"IF(C278=\"\",\"\",tirage!G294)","v":""}]
[null,"Lot276",{"$f":"IF(tirage!C295=\"\",\"\",tirage!C295)","v":""},null,{"$f":"IF(C279=\"\",\"\",IF(tirage!E295=\"\",\"\",tirage!E295))","v":""},{"$f":"IF(C279=\"\",\"\",IF(tirage!F295=\"\",\"\",tirage!F295))","v":""},{"$f":"IF(C279=\"\",\"\",tirage!G295)","v":""}]
[null,"Lot277",{"$f":"IF(tirage!C296=\"\",\"\",tirage!C296)","v":""},null,{"$f":"IF(C280=\"\",\"\",IF(tirage!E296=\"\",\"\",tirage!E296))","v":""},{"$f":"IF(C280=\"\",\"\",IF(tirage!F296=\"\",\"\",tirage!F296))","v":""},{"$f":"IF(C280=\"\",\"\",tirage!G296)","v":""}]
[null,"Lot278",{"$f":"IF(tirage!C297=\"\",\"\",tirage!C297)","v":""},null,{"$f":"IF(C281=\"\",\"\",IF(tirage!E297=\"\",\"\",tirage!E297))","v":""},{"$f":"IF(C281=\"\",\"\",IF(tirage!F297=\"\",\"\",tirage!F297))","v":""},{"$f":"IF(C281=\"\",\"\",tirage!G297)","v":""}]
[null,"Lot279",{"$f":"IF(tirage!C298=\"\",\"\",tirage!C298)","v":""},null,{"$f":"IF(C282=\"\",\"\",IF(tirage!E298=\"\",\"\",tirage!E298))","v":""},{"$f":"IF(C282=\"\",\"\",IF(tirage!F298=\"\",\"\",tirage!F298))","v":""},{"$f":"IF(C282=\"\",\"\",tirage!G298)","v":""}]
[null,"Lot280",{"$f":"IF(tirage!C299=\"\",\"\",tirage!C299)","v":""},null,{"$f":"IF(C283=\"\",\"\",IF(tirage!E299=\"\",\"\",tirage!E299))","v":""},{"$f":"IF(C283=\"\",\"\",IF(tirage!F299=\"\",\"\",tirage!F299))","v":""},{"$f":"IF(C283=\"\",\"\",tirage!G299)","v":""}]
[null,"Lot281",{"$f":"IF(tirage!C300=\"\",\"\",tirage!C300)","v":""},null,{"$f":"IF(C284=\"\",\"\",IF(tirage!E300=\"\",\"\",tirage!E300))","v":""},{"$f":"IF(C284=\"\",\"\",IF(tirage!F300=\"\",\"\",tirage!F300))","v":""},{"$f":"IF(C284=\"\",\"\",tirage!G300)","v":""}]
[null,"Lot282",{"$f":"IF(tirage!C301=\"\",\"\",tirage!C301)","v":""},null,{"$f":"IF(C285=\"\",\"\",IF(tirage!E301=\"\",\"\",tirage!E301))","v":""},{"$f":"IF(C285=\"\",\"\",IF(tirage!F301=\"\",\"\",tirage!F301))","v":""},{"$f":"IF(C285=\"\",\"\",tirage!G301)","v":""}]
[null,"Lot283",{"$f":"IF(tirage!C302=\"\",\"\",tirage!C302)","v":""},null,{"$f":"IF(C286=\"\",\"\",IF(tirage!E302=\"\",\"\",tirage!E302))","v":""},{"$f":"IF(C286=\"\",\"\",IF(tirage!F302=\"\",\"\",tirage!F302))","v":""},{"$f":"IF(C286=\"\",\"\",tirage!G302)","v":""}]
[null,"Lot284",{"$f":"IF(tirage!C303=\"\",\"\",tirage!C303)","v":""},null,{"$f":"IF(C287=\"\",\"\",IF(tirage!E303=\"\",\"\",tirage!E303))","v":""},{"$f":"IF(C287=\"\",\"\",IF(tirage!F303=\"\",\"\",tirage!F303))","v":""},{"$f":"IF(C287=\"\",\"\",tirage!G303)","v":""}]
[null,"Lot285",{"$f":"IF(tirage!C304=\"\",\"\",tirage!C304)","v":""},null,{"$f":"IF(C288=\"\",\"\",IF(tirage!E304=\"\",\"\",tirage!E304))","v":""},{"$f":"IF(C288=\"\",\"\",IF(tirage!F304=\"\",\"\",tirage!F304))","v":""},{"$f":"IF(C288=\"\",\"\",tirage!G304)","v":""}]
[null,"Lot286",{"$f":"IF(tirage!C305=\"\",\"\",tirage!C305)","v":""},null,{"$f":"IF(C289=\"\",\"\",IF(tirage!E305=\"\",\"\",tirage!E305))","v":""},{"$f":"IF(C289=\"\",\"\",IF(tirage!F305=\"\",\"\",tirage!F305))","v":""},{"$f":"IF(C289=\"\",\"\",tirage!G305)","v":""}]
[null,"Lot287",{"$f":"IF(tirage!C306=\"\",\"\",tirage!C306)","v":""},null,{"$f":"IF(C290=\"\",\"\",IF(tirage!E306=\"\",\"\",tirage!E306))","v":""},{"$f":"IF(C290=\"\",\"\",IF(tirage!F306=\"\",\"\",tirage!F306))","v":""},{"$f":"IF(C290=\"\",\"\",tirage!G306)","v":""}]
[null,"Lot288",{"$f":"IF(tirage!C307=\"\",\"\",tirage!C307)","v":""},null,{"$f":"IF(C291=\"\",\"\",IF(tirage!E307=\"\",\"\",tirage!E307))","v":""},{"$f":"IF(C291=\"\",\"\",IF(tirage!F307=\"\",\"\",tirage!F307))","v":""},{"$f":"IF(C291=\"\",\"\",tirage!G307)","v":""}]
[null,"Lot289",{"$f":"IF(tirage!C308=\"\",\"\",tirage!C308)","v":""},null,{"$f":"IF(C292=\"\",\"\",IF(tirage!E308=\"\",\"\",tirage!E308))","v":""},{"$f":"IF(C292=\"\",\"\",IF(tirage!F308=\"\",\"\",tirage!F308))","v":""},{"$f":"IF(C292=\"\",\"\",tirage!G308)","v":""}]
[null,"Lot290",{"$f":"IF(tirage!C309=\"\",\"\",tirage!C309)","v":""},null,{"$f":"IF(C293=\"\",\"\",IF(tirage!E309=\"\",\"\",tirage!E309))","v":""},{"$f":"IF(C293=\"\",\"\",IF(tirage!F309=\"\",\"\",tirage!F309))","v":""},{"$f":"IF(C293=\"\",\"\",tirage!G309)","v":""}]
[null,"Lot291",{"$f":"IF(tirage!C310=\"\",\"\",tirage!C310)","v":""},null,{"$f":"IF(C294=\"\",\"\",IF(tirage!E310=\"\",\"\",tirage!E310))","v":""},{"$f":"IF(C294=\"\",\"\",IF(tirage!F310=\"\",\"\",tirage!F310))","v":""},{"$f":"IF(C294=\"\",\"\",tirage!G310)","v":""}]
[null,"Lot292",{"$f":"IF(tirage!C311=\"\",\"\",tirage!C311)","v":""},null,{"$f":"IF(C295=\"\",\"\",IF(tirage!E311=\"\",\"\",tirage!E311))","v":""},{"$f":"IF(C295=\"\",\"\",IF(tirage!F311=\"\",\"\",tirage!F311))","v":""},{"$f":"IF(C295=\"\",\"\",tirage!G311)","v":""}]
[null,"Lot293",{"$f":"IF(tirage!C312=\"\",\"\",tirage!C312)","v":""},null,{"$f":"IF(C296=\"\",\"\",IF(tirage!E312=\"\",\"\",tirage!E312))","v":""},{"$f":"IF(C296=\"\",\"\",IF(tirage!F312=\"\",\"\",tirage!F312))","v":""},{"$f":"IF(C296=\"\",\"\",tirage!G312)","v":""}]
[null,"Lot294",{"$f":"IF(tirage!C313=\"\",\"\",tirage!C313)","v":""},null,{"$f":"IF(C297=\"\",\"\",IF(tirage!E313=\"\",\"\",tirage!E313))","v":""},{"$f":"IF(C297=\"\",\"\",IF(tirage!F313=\"\",\"\",tirage!F313))","v":""},{"$f":"IF(C297=\"\",\"\",tirage!G313)","v":""}]
[null,"Lot295",{"$f":"IF(tirage!C314=\"\",\"\",tirage!C314)","v":""},null,{"$f":"IF(C298=\"\",\"\",IF(tirage!E314=\"\",\"\",tirage!E314))","v":""},{"$f":"IF(C298=\"\",\"\",IF(tirage!F314=\"\",\"\",tirage!F314))","v":""},{"$f":"IF(C298=\"\",\"\",tirage!G314)","v":""}]
[null,"Lot296",{"$f":"IF(tirage!C315=\"\",\"\",tirage!C315)","v":""},null,{"$f":"IF(C299=\"\",\"\",IF(tirage!E315=\"\",\"\",tirage!E315))","v":""},{"$f":"IF(C299=\"\",\"\",IF(tirage!F315=\"\",\"\",tirage!F315))","v":""},{"$f":"IF(C299=\"\",\"\",tirage!G315)","v":""}]
[null,"Lot297",{"$f":"IF(tirage!C316=\"\",\"\",tirage!C316)","v":""},null,{"$f":"IF(C300=\"\",\"\",IF(tirage!E316=\"\",\"\",tirage!E316))","v":""},{"$f":"IF(C300=\"\",\"\",IF(tirage!F316=\"\",\"\",tirage!F316))","v":""},{"$f":"IF(C300=\"\",\"\",tirage!G316)","v":""}]
[null,"Lot298",{"$f":"IF(tirage!C317=\"\",\"\",tirage!C317)","v":""},null,{"$f":"IF(C301=\"\",\"\",IF(tirage!E317=\"\",\"\",tirage!E317))","v":""},{"$f":"IF(C301=\"\",\"\",IF(tirage!F317=\"\",\"\",tirage!F317))","v":""},{"$f":"IF(C301=\"\",\"\",tirage!G317)","v":""}]
[null,"Lot299",{"$f":"IF(tirage!C318=\"\",\"\",tirage!C318)","v":""},null,{"$f":"IF(C302=\"\",\"\",IF(tirage!E318=\"\",\"\",tirage!E318))","v":""},{"$f":"IF(C302=\"\",\"\",IF(tirage!F318=\"\",\"\",tirage!F318))","v":""},{"$f":"IF(C302=\"\",\"\",tirage!G318)","v":""}]
[null,"Lot300",{"$f":"IF(tirage!C319=\"\",\"\",tirage!C319)","v":""},null,{"$f":"IF(C303=\"\",\"\",IF(tirage!E319=\"\",\"\",tirage!E319))","v":""},{"$f":"IF(C303=\"\",\"\",IF(tirage!F319=\"\",\"\",tirage!F319))","v":""},{"$f":"IF(C303=\"\",\"\",tirage!G319)","v":""}]
[null,"Lot301",{"$f":"IF(tirage!C320=\"\",\"\",tirage!C320)","v":""},null,{"$f":"IF(C304=\"\",\"\",IF(tirage!E320=\"\",\"\",tirage!E320))","v":""},{"$f":"IF(C304=\"\",\"\",IF(tirage!F320=\"\",\"\",tirage!F320))","v":""},{"$f":"IF(C304=\"\",\"\",tirage!G320)","v":""}]
[null,"Lot302",{"$f":"IF(tirage!C321=\"\",\"\",tirage!C321)","v":""},null,{"$f":"IF(C305=\"\",\"\",IF(tirage!E321=\"\",\"\",tirage!E321))","v":""},{"$f":"IF(C305=\"\",\"\",IF(tirage!F321=\"\",\"\",tirage!F321))","v":""},{"$f":"IF(C305=\"\",\"\",tirage!G321)","v":""}]
[null,"Lot303",{"$f":"IF(tirage!C322=\"\",\"\",tirage!C322)","v":""},null,{"$f":"IF(C306=\"\",\"\",IF(tirage!E322=\"\",\"\",tirage!E322))","v":""},{"$f":"IF(C306=\"\",\"\",IF(tirage!F322=\"\",\"\",tirage!F322))","v":""},{"$f":"IF(C306=\"\",\"\",tirage!G322)","v":""}]
[null,"Lot304",{"$f":"IF(tirage!C323=\"\",\"\",tirage!C323)","v":""},null,{"$f":"IF(C307=\"\",\"\",IF(tirage!E323=\"\",\"\",tirage!E323))","v":""},{"$f":"IF(C307=\"\",\"\",IF(tirage!F323=\"\",\"\",tirage!F323))","v":""},{"$f":"IF(C307=\"\",\"\",tirage!G323)","v":""}]
[null,"Lot305",{"$f":"IF(tirage!C324=\"\",\"\",tirage!C324)","v":""},null,{"$f":"IF(C308=\"\",\"\",IF(tirage!E324=\"\",\"\",tirage!E324))","v":""},{"$f":"IF(C308=\"\",\"\",IF(tirage!F324=\"\",\"\",tirage!F324))","v":""},{"$f":"IF(C308=\"\",\"\",tirage!G324)","v":""}]
[null,"Lot306",{"$f":"IF(tirage!C325=\"\",\"\",tirage!C325)","v":""},null,{"$f":"IF(C309=\"\",\"\",IF(tirage!E325=\"\",\"\",tirage!E325))","v":""},{"$f":"IF(C309=\"\",\"\",IF(tirage!F325=\"\",\"\",tirage!F325))","v":""},{"$f":"IF(C309=\"\",\"\",tirage!G325)","v":""}]
[null,"Lot307",{"$f":"IF(tirage!C326=\"\",\"\",tirage!C326)","v":""},null,{"$f":"IF(C310=\"\",\"\",IF(tirage!E326=\"\",\"\",tirage!E326))","v":""},{"$f":"IF(C310=\"\",\"\",IF(tirage!F326=\"\",\"\",tirage!F326))","v":""},{"$f":"IF(C310=\"\",\"\",tirage!G326)","v":""}]
[null,"Lot308",{"$f":"IF(tirage!C327=\"\",\"\",tirage!C327)","v":""},null,{"$f":"IF(C311=\"\",\"\",IF(tirage!E327=\"\",\"\",tirage!E327))","v":""},{"$f":"IF(C311=\"\",\"\",IF(tirage!F327=\"\",\"\",tirage!F327))","v":""},{"$f":"IF(C311=\"\",\"\",tirage!G327)","v":""}]
[null,"Lot309",{"$f":"IF(tirage!C328=\"\",\"\",tirage!C328)","v":""},null,{"$f":"IF(C312=\"\",\"\",IF(tirage!E328=\"\",\"\",tirage!E328))","v":""},{"$f":"IF(C312=\"\",\"\",IF(tirage!F328=\"\",\"\",tirage!F328))","v":""},{"$f":"IF(C312=\"\",\"\",tirage!G328)","v":""}]
[null,"Lot310",{"$f":"IF(tirage!C329=\"\",\"\",tirage!C329)","v":""},null,{"$f":"IF(C313=\"\",\"\",IF(tirage!E329=\"\",\"\",tirage!E329))","v":""},{"$f":"IF(C313=\"\",\"\",IF(tirage!F329=\"\",\"\",tirage!F329))","v":""},{"$f":"IF(C313=\"\",\"\",tirage!G329)","v":""}]
[null,"Lot311",{"$f":"IF(tirage!C330=\"\",\"\",tirage!C330)","v":""},null,{"$f":"IF(C314=\"\",\"\",IF(tirage!E330=\"\",\"\",tirage!E330))","v":""},{"$f":"IF(C314=\"\",\"\",IF(tirage!F330=\"\",\"\",tirage!F330))","v":""},{"$f":"IF(C314=\"\",\"\",tirage!G330)","v":""}]
[null,"Lot312",{"$f":"IF(tirage!C331=\"\",\"\",tirage!C331)","v":""},null,{"$f":"IF(C315=\"\",\"\",IF(tirage!E331=\"\",\"\",tirage!E331))","v":""},{"$f":"IF(C315=\"\",\"\",IF(tirage!F331=\"\",\"\",tirage!F331))","v":""},{"$f":"IF(C315=\"\",\"\",tirage!G331)","v":""}]
[null,"Lot313",{"$f":"IF(tirage!C332=\"\",\"\",tirage!C332)","v":""},null,{"$f":"IF(C316=\"\",\"\",IF(tirage!E332=\"\",\"\",tirage!E332))","v":""},{"$f":"IF(C316=\"\",\"\",IF(tirage!F332=\"\",\"\",tirage!F332))","v":""},{"$f":"IF(C316=\"\",\"\",tirage!G332)","v":""}]
[null,"Lot314",{"$f":"IF(tirage!C333=\"\",\"\",tirage!C333)","v":""},null,{"$f":"IF(C317=\"\",\"\",IF(tirage!E333=\"\",\"\",tirage!E333))","v":""},{"$f":"IF(C317=\"\",\"\",IF(tirage!F333=\"\",\"\",tirage!F333))","v":""},{"$f":"IF(C317=\"\",\"\",tirage!G333)","v":""}]
[null,"Lot315",{"$f":"IF(tirage!C334=\"\",\"\",tirage!C334)","v":""},null,{"$f":"IF(C318=\"\",\"\",IF(tirage!E334=\"\",\"\",tirage!E334))","v":""},{"$f":"IF(C318=\"\",\"\",IF(tirage!F334=\"\",\"\",tirage!F334))","v":""},{"$f":"IF(C318=\"\",\"\",tirage!G334)","v":""}]
[null,"Lot316",{"$f":"IF(tirage!C335=\"\",\"\",tirage!C335)","v":""},null,{"$f":"IF(C319=\"\",\"\",IF(tirage!E335=\"\",\"\",tirage!E335))","v":""},{"$f":"IF(C319=\"\",\"\",IF(tirage!F335=\"\",\"\",tirage!F335))","v":""},{"$f":"IF(C319=\"\",\"\",tirage!G335)","v":""}]
[null,"Lot317",{"$f":"IF(tirage!C336=\"\",\"\",tirage!C336)","v":""},null,{"$f":"IF(C320=\"\",\"\",IF(tirage!E336=\"\",\"\",tirage!E336))","v":""},{"$f":"IF(C320=\"\",\"\",IF(tirage!F336=\"\",\"\",tirage!F336))","v":""},{"$f":"IF(C320=\"\",\"\",tirage!G336)","v":""}]
[null,"Lot318",{"$f":"IF(tirage!C337=\"\",\"\",tirage!C337)","v":""},null,{"$f":"IF(C321=\"\",\"\",IF(tirage!E337=\"\",\"\",tirage!E337))","v":""},{"$f":"IF(C321=\"\",\"\",IF(tirage!F337=\"\",\"\",tirage!F337))","v":""},{"$f":"IF(C321=\"\",\"\",tirage!G337)","v":""}]
[null,"Lot319",{"$f":"IF(tirage!C338=\"\",\"\",tirage!C338)","v":""},null,{"$f":"IF(C322=\"\",\"\",IF(tirage!E338=\"\",\"\",tirage!E338))","v":""},{"$f":"IF(C322=\"\",\"\",IF(tirage!F338=\"\",\"\",tirage!F338))","v":""},{"$f":"IF(C322=\"\",\"\",tirage!G338)","v":""}]
[null,"Lot320",{"$f":"IF(tirage!C339=\"\",\"\",tirage!C339)","v":""},null,{"$f":"IF(C323=\"\",\"\",IF(tirage!E339=\"\",\"\",tirage!E339))","v":""},{"$f":"IF(C323=\"\",\"\",IF(tirage!F339=\"\",\"\",tirage!F339))","v":""},{"$f":"IF(C323=\"\",\"\",tirage!G339)","v":""}]
[null,"Lot321",{"$f":"IF(tirage!C340=\"\",\"\",tirage!C340)","v":""},null,{"$f":"IF(C324=\"\",\"\",IF(tirage!E340=\"\",\"\",tirage!E340))","v":""},{"$f":"IF(C324=\"\",\"\",IF(tirage!F340=\"\",\"\",tirage!F340))","v":""},{"$f":"IF(C324=\"\",\"\",tirage!G340)","v":""}]
[null,"Lot322",{"$f":"IF(tirage!C341=\"\",\"\",tirage!C341)","v":""},null,{"$f":"IF(C325=\"\",\"\",IF(tirage!E341=\"\",\"\",tirage!E341))","v":""},{"$f":"IF(C325=\"\",\"\",IF(tirage!F341=\"\",\"\",tirage!F341))","v":""},{"$f":"IF(C325=\"\",\"\",tirage!G341)","v":""}]
[null,"Lot323",{"$f":"IF(tirage!C342=\"\",\"\",tirage!C342)","v":""},null,{"$f":"IF(C326=\"\",\"\",IF(tirage!E342=\"\",\"\",tirage!E342))","v":""},{"$f":"IF(C326=\"\",\"\",IF(tirage!F342=\"\",\"\",tirage!F342))","v":""},{"$f":"IF(C326=\"\",\"\",tirage!G342)","v":""}]
[null,"Lot324",{"$f":"IF(tirage!C343=\"\",\"\",tirage!C343)","v":""},null,{"$f":"IF(C327=\"\",\"\",IF(tirage!E343=\"\",\"\",tirage!E343))","v":""},{"$f":"IF(C327=\"\",\"\",IF(tirage!F343=\"\",\"\",tirage!F343))","v":""},{"$f":"IF(C327=\"\",\"\",tirage!G343)","v":""}]
[null,"Lot325",{"$f":"IF(tirage!C344=\"\",\"\",tirage!C344)","v":""},null,{"$f":"IF(C328=\"\",\"\",IF(tirage!E344=\"\",\"\",tirage!E344))","v":""},{"$f":"IF(C328=\"\",\"\",IF(tirage!F344=\"\",\"\",tirage!F344))","v":""},{"$f":"IF(C328=\"\",\"\",tirage!G344)","v":""}]
[null,"Lot326",{"$f":"IF(tirage!C345=\"\",\"\",tirage!C345)","v":""},null,{"$f":"IF(C329=\"\",\"\",IF(tirage!E345=\"\",\"\",tirage!E345))","v":""},{"$f":"IF(C329=\"\",\"\",IF(tirage!F345=\"\",\"\",tirage!F345))","v":""},{"$f":"IF(C329=\"\",\"\",tirage!G345)","v":""}]
[null,"Lot327",{"$f":"IF(tirage!C346=\"\",\"\",tirage!C346)","v":""},null,{"$f":"IF(C330=\"\",\"\",IF(tirage!E346=\"\",\"\",tirage!E346))","v":""},{"$f":"IF(C330=\"\",\"\",IF(tirage!F346=\"\",\"\",tirage!F346))","v":""},{"$f":"IF(C330=\"\",\"\",tirage!G346)","v":""}]
[null,"Lot328",{"$f":"IF(tirage!C347=\"\",\"\",tirage!C347)","v":""},null,{"$f":"IF(C331=\"\",\"\",IF(tirage!E347=\"\",\"\",tirage!E347))","v":""},{"$f":"IF(C331=\"\",\"\",IF(tirage!F347=\"\",\"\",tirage!F347))","v":""},{"$f":"IF(C331=\"\",\"\",tirage!G347)","v":""}]
[null,"Lot329",{"$f":"IF(tirage!C348=\"\",\"\",tirage!C348)","v":""},null,{"$f":"IF(C332=\"\",\"\",IF(tirage!E348=\"\",\"\",tirage!E348))","v":""},{"$f":"IF(C332=\"\",\"\",IF(tirage!F348=\"\",\"\",tirage!F348))","v":""},{"$f":"IF(C332=\"\",\"\",tirage!G348)","v":""}]
[null,"Lot330",{"$f":"IF(tirage!C349=\"\",\"\",tirage!C349)","v":""},null,{"$f":"IF(C333=\"\",\"\",IF(tirage!E349=\"\",\"\",tirage!E349))","v":""},{"$f":"IF(C333=\"\",\"\",IF(tirage!F349=\"\",\"\",tirage!F349))","v":""},{"$f":"IF(C333=\"\",\"\",tirage!G349)","v":""}]
[null,"Lot331",{"$f":"IF(tirage!C350=\"\",\"\",tirage!C350)","v":""},null,{"$f":"IF(C334=\"\",\"\",IF(tirage!E350=\"\",\"\",tirage!E350))","v":""},{"$f":"IF(C334=\"\",\"\",IF(tirage!F350=\"\",\"\",tirage!F350))","v":""},{"$f":"IF(C334=\"\",\"\",tirage!G350)","v":""}]
[null,"Lot332",{"$f":"IF(tirage!C351=\"\",\"\",tirage!C351)","v":""},null,{"$f":"IF(C335=\"\",\"\",IF(tirage!E351=\"\",\"\",tirage!E351))","v":""},{"$f":"IF(C335=\"\",\"\",IF(tirage!F351=\"\",\"\",tirage!F351))","v":""},{"$f":"IF(C335=\"\",\"\",tirage!G351)","v":""}]
[null,"Lot333",{"$f":"IF(tirage!C352=\"\",\"\",tirage!C352)","v":""},null,{"$f":"IF(C336=\"\",\"\",IF(tirage!E352=\"\",\"\",tirage!E352))","v":""},{"$f":"IF(C336=\"\",\"\",IF(tirage!F352=\"\",\"\",tirage!F352))","v":""},{"$f":"IF(C336=\"\",\"\",tirage!G352)","v":""}]
[null,"Lot334",{"$f":"IF(tirage!C353=\"\",\"\",tirage!C353)","v":""},null,{"$f":"IF(C337=\"\",\"\",IF(tirage!E353=\"\",\"\",tirage!E353))","v":""},{"$f":"IF(C337=\"\",\"\",IF(tirage!F353=\"\",\"\",tirage!F353))","v":""},{"$f":"IF(C337=\"\",\"\",tirage!G353)","v":""}]
[null,"Lot335",{"$f":"IF(tirage!C354=\"\",\"\",tirage!C354)","v":""},null,{"$f":"IF(C338=\"\",\"\",IF(tirage!E354=\"\",\"\",tirage!E354))","v":""},{"$f":"IF(C338=\"\",\"\",IF(tirage!F354=\"\",\"\",tirage!F354))","v":""},{"$f":"IF(C338=\"\",\"\",tirage!G354)","v":""}]
[null,"Lot336",{"$f":"IF(tirage!C355=\"\",\"\",tirage!C355)","v":""},null,{"$f":"IF(C339=\"\",\"\",IF(tirage!E355=\"\",\"\",tirage!E355))","v":""},{"$f":"IF(C339=\"\",\"\",IF(tirage!F355=\"\",\"\",tirage!F355))","v":""},{"$f":"IF(C339=\"\",\"\",tirage!G355)","v":""}]
[null,"Lot337",{"$f":"IF(tirage!C356=\"\",\"\",tirage!C356)","v":""},null,{"$f":"IF(C340=\"\",\"\",IF(tirage!E356=\"\",\"\",tirage!E356))","v":""},{"$f":"IF(C340=\"\",\"\",IF(tirage!F356=\"\",\"\",tirage!F356))","v":""},{"$f":"IF(C340=\"\",\"\",tirage!G356)","v":""}]
[null,"Lot338",{"$f":"IF(tirage!C357=\"\",\"\",tirage!C357)","v":""},null,{"$f":"IF(C341=\"\",\"\",IF(tirage!E357=\"\",\"\",tirage!E357))","v":""},{"$f":"IF(C341=\"\",\"\",IF(tirage!F357=\"\",\"\",tirage!F357))","v":""},{"$f":"IF(C341=\"\",\"\",tirage!G357)","v":""}]
[null,"Lot339",{"$f":"IF(tirage!C358=\"\",\"\",tirage!C358)","v":""},null,{"$f":"IF(C342=\"\",\"\",IF(tirage!E358=\"\",\"\",tirage!E358))","v":""},{"$f":"IF(C342=\"\",\"\",IF(tirage!F358=\"\",\"\",tirage!F358))","v":""},{"$f":"IF(C342=\"\",\"\",tirage!G358)","v":""}]
[null,"Lot340",{"$f":"IF(tirage!C359=\"\",\"\",tirage!C359)","v":""},null,{"$f":"IF(C343=\"\",\"\",IF(tirage!E359=\"\",\"\",tirage!E359))","v":""},{"$f":"IF(C343=\"\",\"\",IF(tirage!F359=\"\",\"\",tirage!F359))","v":""},{"$f":"IF(C343=\"\",\"\",tirage!G359)","v":""}]
[null,"Lot341",{"$f":"IF(tirage!C360=\"\",\"\",tirage!C360)","v":""},null,{"$f":"IF(C344=\"\",\"\",IF(tirage!E360=\"\",\"\",tirage!E360))","v":""},{"$f":"IF(C344=\"\",\"\",IF(tirage!F360=\"\",\"\",tirage!F360))","v":""},{"$f":"IF(C344=\"\",\"\",tirage!G360)","v":""}]
[null,"Lot342",{"$f":"IF(tirage!C361=\"\",\"\",tirage!C361)","v":""},null,{"$f":"IF(C345=\"\",\"\",IF(tirage!E361=\"\",\"\",tirage!E361))","v":""},{"$f":"IF(C345=\"\",\"\",IF(tirage!F361=\"\",\"\",tirage!F361))","v":""},{"$f":"IF(C345=\"\",\"\",tirage!G361)","v":""}]
[null,"Lot343",{"$f":"IF(tirage!C362=\"\",\"\",tirage!C362)","v":""},null,{"$f":"IF(C346=\"\",\"\",IF(tirage!E362=\"\",\"\",tirage!E362))","v":""},{"$f":"IF(C346=\"\",\"\",IF(tirage!F362=\"\",\"\",tirage!F362))","v":""},{"$f":"IF(C346=\"\",\"\",tirage!G362)","v":""}]
[null,"Lot344",{"$f":"IF(tirage!C363=\"\",\"\",tirage!C363)","v":""},null,{"$f":"IF(C347=\"\",\"\",IF(tirage!E363=\"\",\"\",tirage!E363))","v":""},{"$f":"IF(C347=\"\",\"\",IF(tirage!F363=\"\",\"\",tirage!F363))","v":""},{"$f":"IF(C347=\"\",\"\",tirage!G363)","v":""}]
[null,"Lot345",{"$f":"IF(tirage!C364=\"\",\"\",tirage!C364)","v":""},null,{"$f":"IF(C348=\"\",\"\",IF(tirage!E364=\"\",\"\",tirage!E364))","v":""},{"$f":"IF(C348=\"\",\"\",IF(tirage!F364=\"\",\"\",tirage!F364))","v":""},{"$f":"IF(C348=\"\",\"\",tirage!G364)","v":""}]
[null,"Lot346",{"$f":"IF(tirage!C365=\"\",\"\",tirage!C365)","v":""},null,{"$f":"IF(C349=\"\",\"\",IF(tirage!E365=\"\",\"\",tirage!E365))","v":""},{"$f":"IF(C349=\"\",\"\",IF(tirage!F365=\"\",\"\",tirage!F365))","v":""},{"$f":"IF(C349=\"\",\"\",tirage!G365)","v":""}]
[null,"Lot347",{"$f":"IF(tirage!C366=\"\",\"\",tirage!C366)","v":""},null,{"$f":"IF(C350=\"\",\"\",IF(tirage!E366=\"\",\"\",tirage!E366))","v":""},{"$f":"IF(C350=\"\",\"\",IF(tirage!F366=\"\",\"\",tirage!F366))","v":""},{"$f":"IF(C350=\"\",\"\",tirage!G366)","v":""}]
[null,"Lot348",{"$f":"IF(tirage!C367=\"\",\"\",tirage!C367)","v":""},null,{"$f":"IF(C351=\"\",\"\",IF(tirage!E367=\"\",\"\",tirage!E367))","v":""},{"$f":"IF(C351=\"\",\"\",IF(tirage!F367=\"\",\"\",tirage!F367))","v":""},{"$f":"IF(C351=\"\",\"\",tirage!G367)","v":""}]
[null,"Lot349",{"$f":"IF(tirage!C368=\"\",\"\",tirage!C368)","v":""},null,{"$f":"IF(C352=\"\",\"\",IF(tirage!E368=\"\",\"\",tirage!E368))","v":""},{"$f":"IF(C352=\"\",\"\",IF(tirage!F368=\"\",\"\",tirage!F368))","v":""},{"$f":"IF(C352=\"\",\"\",tirage!G368)","v":""}]
[null,"Lot350",{"$f":"IF(tirage!C369=\"\",\"\",tirage!C369)","v":""},null,{"$f":"IF(C353=\"\",\"\",IF(tirage!E369=\"\",\"\",tirage!E369))","v":""},{"$f":"IF(C353=\"\",\"\",IF(tirage!F369=\"\",\"\",tirage!F369))","v":""},{"$f":"IF(C353=\"\",\"\",tirage!G369)","v":""}]
[null,"Lot351",{"$f":"IF(tirage!C370=\"\",\"\",tirage!C370)","v":""},null,{"$f":"IF(C354=\"\",\"\",IF(tirage!E370=\"\",\"\",tirage!E370))","v":""},{"$f":"IF(C354=\"\",\"\",IF(tirage!F370=\"\",\"\",tirage!F370))","v":""},{"$f":"IF(C354=\"\",\"\",tirage!G370)","v":""}]
[null,"Lot352",{"$f":"IF(tirage!C371=\"\",\"\",tirage!C371)","v":""},null,{"$f":"IF(C355=\"\",\"\",IF(tirage!E371=\"\",\"\",tirage!E371))","v":""},{"$f":"IF(C355=\"\",\"\",IF(tirage!F371=\"\",\"\",tirage!F371))","v":""},{"$f":"IF(C355=\"\",\"\",tirage!G371)","v":""}]
[null,"Lot353",{"$f":"IF(tirage!C372=\"\",\"\",tirage!C372)","v":""},null,{"$f":"IF(C356=\"\",\"\",IF(tirage!E372=\"\",\"\",tirage!E372))","v":""},{"$f":"IF(C356=\"\",\"\",IF(tirage!F372=\"\",\"\",tirage!F372))","v":""},{"$f":"IF(C356=\"\",\"\",tirage!G372)","v":""}]
[null,"Lot354",{"$f":"IF(tirage!C373=\"\",\"\",tirage!C373)","v":""},null,{"$f":"IF(C357=\"\",\"\",IF(tirage!E373=\"\",\"\",tirage!E373))","v":""},{"$f":"IF(C357=\"\",\"\",IF(tirage!F373=\"\",\"\",tirage!F373))","v":""},{"$f":"IF(C357=\"\",\"\",tirage!G373)","v":""}]
[null,"Lot355",{"$f":"IF(tirage!C374=\"\",\"\",tirage!C374)","v":""},null,{"$f":"IF(C358=\"\",\"\",IF(tirage!E374=\"\",\"\",tirage!E374))","v":""},{"$f":"IF(C358=\"\",\"\",IF(tirage!F374=\"\",\"\",tirage!F374))","v":""},{"$f":"IF(C358=\"\",\"\",tirage!G374)","v":""}]
[null,"Lot356",{"$f":"IF(tirage!C375=\"\",\"\",tirage!C375)","v":""},null,{"$f":"IF(C359=\"\",\"\",IF(tirage!E375=\"\",\"\",tirage!E375))","v":""},{"$f":"IF(C359=\"\",\"\",IF(tirage!F375=\"\",\"\",tirage!F375))","v":""},{"$f":"IF(C359=\"\",\"\",tirage!G375)","v":""}]
[null,"Lot357",{"$f":"IF(tirage!C376=\"\",\"\",tirage!C376)","v":""},null,{"$f":"IF(C360=\"\",\"\",IF(tirage!E376=\"\",\"\",tirage!E376))","v":""},{"$f":"IF(C360=\"\",\"\",IF(tirage!F376=\"\",\"\",tirage!F376))","v":""},{"$f":"IF(C360=\"\",\"\",tirage!G376)","v":""}]
[null,"Lot358",{"$f":"IF(tirage!C377=\"\",\"\",tirage!C377)","v":""},null,{"$f":"IF(C361=\"\",\"\",IF(tirage!E377=\"\",\"\",tirage!E377))","v":""},{"$f":"IF(C361=\"\",\"\",IF(tirage!F377=\"\",\"\",tirage!F377))","v":""},{"$f":"IF(C361=\"\",\"\",tirage!G377)","v":""}]
[null,"Lot359",{"$f":"IF(tirage!C378=\"\",\"\",tirage!C378)","v":""},null,{"$f":"IF(C362=\"\",\"\",IF(tirage!E378=\"\",\"\",tirage!E378))","v":""},{"$f":"IF(C362=\"\",\"\",IF(tirage!F378=\"\",\"\",tirage!F378))","v":""},{"$f":"IF(C362=\"\",\"\",tirage!G378)","v":""}]
[null,"Lot360",{"$f":"IF(tirage!C379=\"\",\"\",tirage!C379)","v":""},null,{"$f":"IF(C363=\"\",\"\",IF(tirage!E379=\"\",\"\",tirage!E379))","v":""},{"$f":"IF(C363=\"\",\"\",IF(tirage!F379=\"\",\"\",tirage!F379))","v":""},{"$f":"IF(C363=\"\",\"\",tirage!G379)","v":""}]
[null,"Lot361",{"$f":"IF(tirage!C380=\"\",\"\",tirage!C380)","v":""},null,{"$f":"IF(C364=\"\",\"\",IF(tirage!E380=\"\",\"\",tirage!E380))","v":""},{"$f":"IF(C364=\"\",\"\",IF(tirage!F380=\"\",\"\",tirage!F380))","v":""},{"$f":"IF(C364=\"\",\"\",tirage!G380)","v":""}]
[null,"Lot362",{"$f":"IF(tirage!C381=\"\",\"\",tirage!C381)","v":""},null,{"$f":"IF(C365=\"\",\"\",IF(tirage!E381=\"\",\"\",tirage!E381))","v":""},{"$f":"IF(C365=\"\",\"\",IF(tirage!F381=\"\",\"\",tirage!F381))","v":""},{"$f":"IF(C365=\"\",\"\",tirage!G381)","v":""}]
[null,"Lot363",{"$f":"IF(tirage!C382=\"\",\"\",tirage!C382)","v":""},null,{"$f":"IF(C366=\"\",\"\",IF(tirage!E382=\"\",\"\",tirage!E382))","v":""},{"$f":"IF(C366=\"\",\"\",IF(tirage!F382=\"\",\"\",tirage!F382))","v":""},{"$f":"IF(C366=\"\",\"\",tirage!G382)","v":""}]
[null,"Lot364",{"$f":"IF(tirage!C383=\"\",\"\",tirage!C383)","v":""},null,{"$f":"IF(C367=\"\",\"\",IF(tirage!E383=\"\",\"\",tirage!E383))","v":""},{"$f":"IF(C367=\"\",\"\",IF(tirage!F383=\"\",\"\",tirage!F383))","v":""},{"$f":"IF(C367=\"\",\"\",tirage!G383)","v":""}]
[null,"Lot365",{"$f":"IF(tirage!C384=\"\",\"\",tirage!C384)","v":""},null,{"$f":"IF(C368=\"\",\"\",IF(tirage!E384=\"\",\"\",tirage!E384))","v":""},{"$f":"IF(C368=\"\",\"\",IF(tirage!F384=\"\",\"\",tirage!F384))","v":""},{"$f":"IF(C368=\"\",\"\",tirage!G384)","v":""}]
[null,"Lot366",{"$f":"IF(tirage!C385=\"\",\"\",tirage!C385)","v":""},null,{"$f":"IF(C369=\"\",\"\",IF(tirage!E385=\"\",\"\",tirage!E385))","v":""},{"$f":"IF(C369=\"\",\"\",IF(tirage!F385=\"\",\"\",tirage!F385))","v":""},{"$f":"IF(C369=\"\",\"\",tirage!G385)","v":""}]
[null,"Lot367",{"$f":"IF(tirage!C386=\"\",\"\",tirage!C386)","v":""},null,{"$f":"IF(C370=\"\",\"\",IF(tirage!E386=\"\",\"\",tirage!E386))","v":""},{"$f":"IF(C370=\"\",\"\",IF(tirage!F386=\"\",\"\",tirage!F386))","v":""},{"$f":"IF(C370=\"\",\"\",tirage!G386)","v":""}]
[null,"Lot368",{"$f":"IF(tirage!C387=\"\",\"\",tirage!C387)","v":""},null,{"$f":"IF(C371=\"\",\"\",IF(tirage!E387=\"\",\"\",tirage!E387))","v":""},{"$f":"IF(C371=\"\",\"\",IF(tirage!F387=\"\",\"\",tirage!F387))","v":""},{"$f":"IF(C371=\"\",\"\",tirage!G387)","v":""}]
[null,"Lot369",{"$f":"IF(tirage!C388=\"\",\"\",tirage!C388)","v":""},null,{"$f":"IF(C372=\"\",\"\",IF(tirage!E388=\"\",\"\",tirage!E388))","v":""},{"$f":"IF(C372=\"\",\"\",IF(tirage!F388=\"\",\"\",tirage!F388))","v":""},{"$f":"IF(C372=\"\",\"\",tirage!G388)","v":""}]
[null,"Lot370",{"$f":"IF(tirage!C389=\"\",\"\",tirage!C389)","v":""},null,{"$f":"IF(C373=\"\",\"\",IF(tirage!E389=\"\",\"\",tirage!E389))","v":""},{"$f":"IF(C373=\"\",\"\",IF(tirage!F389=\"\",\"\",tirage!F389))","v":""},{"$f":"IF(C373=\"\",\"\",tirage!G389)","v":""}]
[null,"Lot371",{"$f":"IF(tirage!C390=\"\",\"\",tirage!C390)","v":""},null,{"$f":"IF(C374=\"\",\"\",IF(tirage!E390=\"\",\"\",tirage!E390))","v":""},{"$f":"IF(C374=\"\",\"\",IF(tirage!F390=\"\",\"\",tirage!F390))","v":""},{"$f":"IF(C374=\"\",\"\",tirage!G390)","v":""}]
[null,"Lot372",{"$f":"IF(tirage!C391=\"\",\"\",tirage!C391)","v":""},null,{"$f":"IF(C375=\"\",\"\",IF(tirage!E391=\"\",\"\",tirage!E391))","v":""},{"$f":"IF(C375=\"\",\"\",IF(tirage!F391=\"\",\"\",tirage!F391))","v":""},{"$f":"IF(C375=\"\",\"\",tirage!G391)","v":""}]
[null,"Lot373",{"$f":"IF(tirage!C392=\"\",\"\",tirage!C392)","v":""},null,{"$f":"IF(C376=\"\",\"\",IF(tirage!E392=\"\",\"\",tirage!E392))","v":""},{"$f":"IF(C376=\"\",\"\",IF(tirage!F392=\"\",\"\",tirage!F392))","v":""},{"$f":"IF(C376=\"\",\"\",tirage!G392)","v":""}]
[null,"Lot374",{"$f":"IF(tirage!C393=\"\",\"\",tirage!C393)","v":""},null,{"$f":"IF(C377=\"\",\"\",IF(tirage!E393=\"\",\"\",tirage!E393))","v":""},{"$f":"IF(C377=\"\",\"\",IF(tirage!F393=\"\",\"\",tirage!F393))","v":""},{"$f":"IF(C377=\"\",\"\",tirage!G393)","v":""}]
[null,"Lot375",{"$f":"IF(tirage!C394=\"\",\"\",tirage!C394)","v":""},null,{"$f":"IF(C378=\"\",\"\",IF(tirage!E394=\"\",\"\",tirage!E394))","v":""},{"$f":"IF(C378=\"\",\"\",IF(tirage!F394=\"\",\"\",tirage!F394))","v":""},{"$f":"IF(C378=\"\",\"\",tirage!G394)","v":""}]
[null,"Lot376",{"$f":"IF(tirage!C395=\"\",\"\",tirage!C395)","v":""},null,{"$f":"IF(C379=\"\",\"\",IF(tirage!E395=\"\",\"\",tirage!E395))","v":""},{"$f":"IF(C379=\"\",\"\",IF(tirage!F395=\"\",\"\",tirage!F395))","v":""},{"$f":"IF(C379=\"\",\"\",tirage!G395)","v":""}]
[null,"Lot377",{"$f":"IF(tirage!C396=\"\",\"\",tirage!C396)","v":""},null,{"$f":"IF(C380=\"\",\"\",IF(tirage!E396=\"\",\"\",tirage!E396))","v":""},{"$f":"IF(C380=\"\",\"\",IF(tirage!F396=\"\",\"\",tirage!F396))","v":""},{"$f":"IF(C380=\"\",\"\",tirage!G396)","v":""}]
[null,"Lot378",{"$f":"IF(tirage!C397=\"\",\"\",tirage!C397)","v":""},null,{"$f":"IF(C381=\"\",\"\",IF(tirage!E397=\"\",\"\",tirage!E397))","v":""},{"$f":"IF(C381=\"\",\"\",IF(tirage!F397=\"\",\"\",tirage!F397))","v":""},{"$f":"IF(C381=\"\",\"\",tirage!G397)","v":""}]
[null,"Lot379",{"$f":"IF(tirage!C398=\"\",\"\",tirage!C398)","v":""},null,{"$f":"IF(C382=\"\",\"\",IF(tirage!E398=\"\",\"\",tirage!E398))","v":""},{"$f":"IF(C382=\"\",\"\",IF(tirage!F398=\"\",\"\",tirage!F398))","v":""},{"$f":"IF(C382=\"\",\"\",tirage!G398)","v":""}]
[null,"Lot380",{"$f":"IF(tirage!C399=\"\",\"\",tirage!C399)","v":""},null,{"$f":"IF(C383=\"\",\"\",IF(tirage!E399=\"\",\"\",tirage!E399))","v":""},{"$f":"IF(C383=\"\",\"\",IF(tirage!F399=\"\",\"\",tirage!F399))","v":""},{"$f":"IF(C383=\"\",\"\",tirage!G399)","v":""}]
[null,"Lot381",{"$f":"IF(tirage!C400=\"\",\"\",tirage!C400)","v":""},null,{"$f":"IF(C384=\"\",\"\",IF(tirage!E400=\"\",\"\",tirage!E400))","v":""},{"$f":"IF(C384=\"\",\"\",IF(tirage!F400=\"\",\"\",tirage!F400))","v":""},{"$f":"IF(C384=\"\",\"\",tirage!G400)","v":""}]
[null,"Lot382",{"$f":"IF(tirage!C401=\"\",\"\",tirage!C401)","v":""},null,{"$f":"IF(C385=\"\",\"\",IF(tirage!E401=\"\",\"\",tirage!E401))","v":""},{"$f":"IF(C385=\"\",\"\",IF(tirage!F401=\"\",\"\",tirage!F401))","v":""},{"$f":"IF(C385=\"\",\"\",tirage!G401)","v":""}]
[null,"Lot383",{"$f":"IF(tirage!C402=\"\",\"\",tirage!C402)","v":""},null,{"$f":"IF(C386=\"\",\"\",IF(tirage!E402=\"\",\"\",tirage!E402))","v":""},{"$f":"IF(C386=\"\",\"\",IF(tirage!F402=\"\",\"\",tirage!F402))","v":""},{"$f":"IF(C386=\"\",\"\",tirage!G402)","v":""}]
[null,"Lot384",{"$f":"IF(tirage!C403=\"\",\"\",tirage!C403)","v":""},null,{"$f":"IF(C387=\"\",\"\",IF(tirage!E403=\"\",\"\",tirage!E403))","v":""},{"$f":"IF(C387=\"\",\"\",IF(tirage!F403=\"\",\"\",tirage!F403))","v":""},{"$f":"IF(C387=\"\",\"\",tirage!G403)","v":""}]
[null,"Lot385",{"$f":"IF(tirage!C404=\"\",\"\",tirage!C404)","v":""},null,{"$f":"IF(C388=\"\",\"\",IF(tirage!E404=\"\",\"\",tirage!E404))","v":""},{"$f":"IF(C388=\"\",\"\",IF(tirage!F404=\"\",\"\",tirage!F404))","v":""},{"$f":"IF(C388=\"\",\"\",tirage!G404)","v":""}]
[null,"Lot386",{"$f":"IF(tirage!C405=\"\",\"\",tirage!C405)","v":""},null,{"$f":"IF(C389=\"\",\"\",IF(tirage!E405=\"\",\"\",tirage!E405))","v":""},{"$f":"IF(C389=\"\",\"\",IF(tirage!F405=\"\",\"\",tirage!F405))","v":""},{"$f":"IF(C389=\"\",\"\",tirage!G405)","v":""}]
[null,"Lot387",{"$f":"IF(tirage!C406=\"\",\"\",tirage!C406)","v":""},null,{"$f":"IF(C390=\"\",\"\",IF(tirage!E406=\"\",\"\",tirage!E406))","v":""},{"$f":"IF(C390=\"\",\"\",IF(tirage!F406=\"\",\"\",tirage!F406))","v":""},{"$f":"IF(C390=\"\",\"\",tirage!G406)","v":""}]
[null,"Lot388",{"$f":"IF(tirage!C407=\"\",\"\",tirage!C407)","v":""},null,{"$f":"IF(C391=\"\",\"\",IF(tirage!E407=\"\",\"\",tirage!E407))","v":""},{"$f":"IF(C391=\"\",\"\",IF(tirage!F407=\"\",\"\",tirage!F407))","v":""},{"$f":"IF(C391=\"\",\"\",tirage!G407)","v":""}]
[null,"Lot389",{"$f":"IF(tirage!C408=\"\",\"\",tirage!C408)","v":""},null,{"$f":"IF(C392=\"\",\"\",IF(tirage!E408=\"\",\"\",tirage!E408))","v":""},{"$f":"IF(C392=\"\",\"\",IF(tirage!F408=\"\",\"\",tirage!F408))","v":""},{"$f":"IF(C392=\"\",\"\",tirage!G408)","v":""}]
[null,"Lot390",{"$f":"IF(tirage!C409=\"\",\"\",tirage!C409)","v":""},null,{"$f":"IF(C393=\"\",\"\",IF(tirage!E409=\"\",\"\",tirage!E409))","v":""},{"$f":"IF(C393=\"\",\"\",IF(tirage!F409=\"\",\"\",tirage!F409))","v":""},{"$f":"IF(C393=\"\",\"\",tirage!G409)","v":""}]
[null,"Lot391",{"$f":"IF(tirage!C410=\"\",\"\",tirage!C410)","v":""},null,{"$f":"IF(C394=\"\",\"\",IF(tirage!E410=\"\",\"\",tirage!E410))","v":""},{"$f":"IF(C394=\"\",\"\",IF(tirage!F410=\"\",\"\",tirage!F410))","v":""},{"$f":"IF(C394=\"\",\"\",tirage!G410)","v":""}]
[null,"Lot392",{"$f":"IF(tirage!C411=\"\",\"\",tirage!C411)","v":""},null,{"$f":"IF(C395=\"\",\"\",IF(tirage!E411=\"\",\"\",tirage!E411))","v":""},{"$f":"IF(C395=\"\",\"\",IF(tirage!F411=\"\",\"\",tirage!F411))","v":""},{"$f":"IF(C395=\"\",\"\",tirage!G411)","v":""}]
[null,"Lot393",{"$f":"IF(tirage!C412=\"\",\"\",tirage!C412)","v":""},null,{"$f":"IF(C396=\"\",\"\",IF(tirage!E412=\"\",\"\",tirage!E412))","v":""},{"$f":"IF(C396=\"\",\"\",IF(tirage!F412=\"\",\"\",tirage!F412))","v":""},{"$f":"IF(C396=\"\",\"\",tirage!G412)","v":""}]
[null,"Lot394",{"$f":"IF(tirage!C413=\"\",\"\",tirage!C413)","v":""},null,{"$f":"IF(C397=\"\",\"\",IF(tirage!E413=\"\",\"\",tirage!E413))","v":""},{"$f":"IF(C397=\"\",\"\",IF(tirage!F413=\"\",\"\",tirage!F413))","v":""},{"$f":"IF(C397=\"\",\"\",tirage!G413)","v":""}]
[null,"Lot395",{"$f":"IF(tirage!C414=\"\",\"\",tirage!C414)","v":""},null,{"$f":"IF(C398=\"\",\"\",IF(tirage!E414=\"\",\"\",tirage!E414))","v":""},{"$f":"IF(C398=\"\",\"\",IF(tirage!F414=\"\",\"\",tirage!F414))","v":""},{"$f":"IF(C398=\"\",\"\",tirage!G414)","v":""}]
[null,"Lot396",{"$f":"IF(tirage!C415=\"\",\"\",tirage!C415)","v":""},null,{"$f":"IF(C399=\"\",\"\",IF(tirage!E415=\"\",\"\",tirage!E415))","v":""},{"$f":"IF(C399=\"\",\"\",IF(tirage!F415=\"\",\"\",tirage!F415))","v":""},{"$f":"IF(C399=\"\",\"\",tirage!G415)","v":""}]
[null,"Lot397",{"$f":"IF(tirage!C416=\"\",\"\",tirage!C416)","v":""},null,{"$f":"IF(C400=\"\",\"\",IF(tirage!E416=\"\",\"\",tirage!E416))","v":""},{"$f":"IF(C400=\"\",\"\",IF(tirage!F416=\"\",\"\",tirage!F416))","v":""},{"$f":"IF(C400=\"\",\"\",tirage!G416)","v":""}]
[null,"Lot398",{"$f":"IF(tirage!C417=\"\",\"\",tirage!C417)","v":""},null,{"$f":"IF(C401=\"\",\"\",IF(tirage!E417=\"\",\"\",tirage!E417))","v":""},{"$f":"IF(C401=\"\",\"\",IF(tirage!F417=\"\",\"\",tirage!F417))","v":""},{"$f":"IF(C401=\"\",\"\",tirage!G417)","v":""}]
[null,"Lot399",{"$f":"IF(tirage!C418=\"\",\"\",tirage!C418)","v":""},null,{"$f":"IF(C402=\"\",\"\",IF(tirage!E418=\"\",\"\",tirage!E418))","v":""},{"$f":"IF(C402=\"\",\"\",IF(tirage!F418=\"\",\"\",tirage!F418))","v":""},{"$f":"IF(C402=\"\",\"\",tirage!G418)","v":""}]
[null,"Lot400",{"$f":"IF(tirage!C419=\"\",\"\",tirage!C419)","v":""},null,{"$f":"IF(C403=\"\",\"\",IF(tirage!E419=\"\",\"\",tirage!E419))","v":""},{"$f":"IF(C403=\"\",\"\",IF(tirage!F419=\"\",\"\",tirage!F419))","v":""},{"$f":"IF(C403=\"\",\"\",tirage!G419)","v":""}]
[null,"Lot401",{"$f":"IF(tirage!C420=\"\",\"\",tirage!C420)","v":""},null,{"$f":"IF(C404=\"\",\"\",IF(tirage!E420=\"\",\"\",tirage!E420))","v":""},{"$f":"IF(C404=\"\",\"\",IF(tirage!F420=\"\",\"\",tirage!F420))","v":""},{"$f":"IF(C404=\"\",\"\",tirage!G420)","v":""}]
[null,"Lot402",{"$f":"IF(tirage!C421=\"\",\"\",tirage!C421)","v":""},null,{"$f":"IF(C405=\"\",\"\",IF(tirage!E421=\"\",\"\",tirage!E421))","v":""},{"$f":"IF(C405=\"\",\"\",IF(tirage!F421=\"\",\"\",tirage!F421))","v":""},{"$f":"IF(C405=\"\",\"\",tirage!G421)","v":""}]
[null,"Lot403",{"$f":"IF(tirage!C422=\"\",\"\",tirage!C422)","v":""},null,{"$f":"IF(C406=\"\",\"\",IF(tirage!E422=\"\",\"\",tirage!E422))","v":""},{"$f":"IF(C406=\"\",\"\",IF(tirage!F422=\"\",\"\",tirage!F422))","v":""},{"$f":"IF(C406=\"\",\"\",tirage!G422)","v":""}]
[null,"Lot404",{"$f":"IF(tirage!C423=\"\",\"\",tirage!C423)","v":""},null,{"$f":"IF(C407=\"\",\"\",IF(tirage!E423=\"\",\"\",tirage!E423))","v":""},{"$f":"IF(C407=\"\",\"\",IF(tirage!F423=\"\",\"\",tirage!F423))","v":""},{"$f":"IF(C407=\"\",\"\",tirage!G423)","v":""}]
[null,"Lot405",{"$f":"IF(tirage!C424=\"\",\"\",tirage!C424)","v":""},null,{"$f":"IF(C408=\"\",\"\",IF(tirage!E424=\"\",\"\",tirage!E424))","v":""},{"$f":"IF(C408=\"\",\"\",IF(tirage!F424=\"\",\"\",tirage!F424))","v":""},{"$f":"IF(C408=\"\",\"\",tirage!G424)","v":""}]
[null,"Lot406",{"$f":"IF(tirage!C425=\"\",\"\",tirage!C425)","v":""},null,{"$f":"IF(C409=\"\",\"\",IF(tirage!E425=\"\",\"\",tirage!E425))","v":""},{"$f":"IF(C409=\"\",\"\",IF(tirage!F425=\"\",\"\",tirage!F425))","v":""},{"$f":"IF(C409=\"\",\"\",tirage!G425)","v":""}]
[null,"Lot407",{"$f":"IF(tirage!C426=\"\",\"\",tirage!C426)","v":""},null,{"$f":"IF(C410=\"\",\"\",IF(tirage!E426=\"\",\"\",tirage!E426))","v":""},{"$f":"IF(C410=\"\",\"\",IF(tirage!F426=\"\",\"\",tirage!F426))","v":""},{"$f":"IF(C410=\"\",\"\",tirage!G426)","v":""}]
[null,"Lot408",{"$f":"IF(tirage!C427=\"\",\"\",tirage!C427)","v":""},null,{"$f":"IF(C411=\"\",\"\",IF(tirage!E427=\"\",\"\",tirage!E427))","v":""},{"$f":"IF(C411=\"\",\"\",IF(tirage!F427=\"\",\"\",tirage!F427))","v":""},{"$f":"IF(C411=\"\",\"\",tirage!G427)","v":""}]
[null,"Lot409",{"$f":"IF(tirage!C428=\"\",\"\",tirage!C428)","v":""},null,{"$f":"IF(C412=\"\",\"\",IF(tirage!E428=\"\",\"\",tirage!E428))","v":""},{"$f":"IF(C412=\"\",\"\",IF(tirage!F428=\"\",\"\",tirage!F428))","v":""},{"$f":"IF(C412=\"\",\"\",tirage!G428)","v":""}]
[null,"Lot410",{"$f":"IF(tirage!C429=\"\",\"\",tirage!C429)","v":""},null,{"$f":"IF(C413=\"\",\"\",IF(tirage!E429=\"\",\"\",tirage!E429))","v":""},{"$f":"IF(C413=\"\",\"\",IF(tirage!F429=\"\",\"\",tirage!F429))","v":""},{"$f":"IF(C413=\"\",\"\",tirage!G429)","v":""}]
[null,"Lot411",{"$f":"IF(tirage!C430=\"\",\"\",tirage!C430)","v":""},null,{"$f":"IF(C414=\"\",\"\",IF(tirage!E430=\"\",\"\",tirage!E430))","v":""},{"$f":"IF(C414=\"\",\"\",IF(tirage!F430=\"\",\"\",tirage!F430))","v":""},{"$f":"IF(C414=\"\",\"\",tirage!G430)","v":""}]
[null,"Lot412",{"$f":"IF(tirage!C431=\"\",\"\",tirage!C431)","v":""},null,{"$f":"IF(C415=\"\",\"\",IF(tirage!E431=\"\",\"\",tirage!E431))","v":""},{"$f":"IF(C415=\"\",\"\",IF(tirage!F431=\"\",\"\",tirage!F431))","v":""},{"$f":"IF(C415=\"\",\"\",tirage!G431)","v":""}]
[null,"Lot413",{"$f":"IF(tirage!C432=\"\",\"\",tirage!C432)","v":""},null,{"$f":"IF(C416=\"\",\"\",IF(tirage!E432=\"\",\"\",tirage!E432))","v":""},{"$f":"IF(C416=\"\",\"\",IF(tirage!F432=\"\",\"\",tirage!F432))","v":""},{"$f":"IF(C416=\"\",\"\",tirage!G432)","v":""}]
[null,"Lot414",{"$f":"IF(tirage!C433=\"\",\"\",tirage!C433)","v":""},null,{"$f":"IF(C417=\"\",\"\",IF(tirage!E433=\"\",\"\",tirage!E433))","v":""},{"$f":"IF(C417=\"\",\"\",IF(tirage!F433=\"\",\"\",tirage!F433))","v":""},{"$f":"IF(C417=\"\",\"\",tirage!G433)","v":""}]
[null,"Lot415",{"$f":"IF(tirage!C434=\"\",\"\",tirage!C434)","v":""},null,{"$f":"IF(C418=\"\",\"\",IF(tirage!E434=\"\",\"\",tirage!E434))","v":""},{"$f":"IF(C418=\"\",\"\",IF(tirage!F434=\"\",\"\",tirage!F434))","v":""},{"$f":"IF(C418=\"\",\"\",tirage!G434)","v":""}]
[null,"Lot416",{"$f":"IF(tirage!C435=\"\",\"\",tirage!C435)","v":""},null,{"$f":"IF(C419=\"\",\"\",IF(tirage!E435=\"\",\"\",tirage!E435))","v":""},{"$f":"IF(C419=\"\",\"\",IF(tirage!F435=\"\",\"\",tirage!F435))","v":""},{"$f":"IF(C419=\"\",\"\",tirage!G435)","v":""}]
[null,"Lot417",{"$f":"IF(tirage!C436=\"\",\"\",tirage!C436)","v":""},null,{"$f":"IF(C420=\"\",\"\",IF(tirage!E436=\"\",\"\",tirage!E436))","v":""},{"$f":"IF(C420=\"\",\"\",IF(tirage!F436=\"\",\"\",tirage!F436))","v":""},{"$f":"IF(C420=\"\",\"\",tirage!G436)","v":""}]
[null,"Lot418",{"$f":"IF(tirage!C437=\"\",\"\",tirage!C437)","v":""},null,{"$f":"IF(C421=\"\",\"\",IF(tirage!E437=\"\",\"\",tirage!E437))","v":""},{"$f":"IF(C421=\"\",\"\",IF(tirage!F437=\"\",\"\",tirage!F437))","v":""},{"$f":"IF(C421=\"\",\"\",tirage!G437)","v":""}]
[null,"Lot419",{"$f":"IF(tirage!C438=\"\",\"\",tirage!C438)","v":""},null,{"$f":"IF(C422=\"\",\"\",IF(tirage!E438=\"\",\"\",tirage!E438))","v":""},{"$f":"IF(C422=\"\",\"\",IF(tirage!F438=\"\",\"\",tirage!F438))","v":""},{"$f":"IF(C422=\"\",\"\",tirage!G438)","v":""}]
[null,"Lot420",{"$f":"IF(tirage!C439=\"\",\"\",tirage!C439)","v":""},null,{"$f":"IF(C423=\"\",\"\",IF(tirage!E439=\"\",\"\",tirage!E439))","v":""},{"$f":"IF(C423=\"\",\"\",IF(tirage!F439=\"\",\"\",tirage!F439))","v":""},{"$f":"IF(C423=\"\",\"\",tirage!G439)","v":""}]
[null,"Lot421",{"$f":"IF(tirage!C440=\"\",\"\",tirage!C440)","v":""},null,{"$f":"IF(C424=\"\",\"\",IF(tirage!E440=\"\",\"\",tirage!E440))","v":""},{"$f":"IF(C424=\"\",\"\",IF(tirage!F440=\"\",\"\",tirage!F440))","v":""},{"$f":"IF(C424=\"\",\"\",tirage!G440)","v":""}]
[null,"Lot422",{"$f":"IF(tirage!C441=\"\",\"\",tirage!C441)","v":""},null,{"$f":"IF(C425=\"\",\"\",IF(tirage!E441=\"\",\"\",tirage!E441))","v":""},{"$f":"IF(C425=\"\",\"\",IF(tirage!F441=\"\",\"\",tirage!F441))","v":""},{"$f":"IF(C425=\"\",\"\",tirage!G441)","v":""}]
[null,"Lot423",{"$f":"IF(tirage!C442=\"\",\"\",tirage!C442)","v":""},null,{"$f":"IF(C426=\"\",\"\",IF(tirage!E442=\"\",\"\",tirage!E442))","v":""},{"$f":"IF(C426=\"\",\"\",IF(tirage!F442=\"\",\"\",tirage!F442))","v":""},{"$f":"IF(C426=\"\",\"\",tirage!G442)","v":""}]
[null,"Lot424",{"$f":"IF(tirage!C443=\"\",\"\",tirage!C443)","v":""},null,{"$f":"IF(C427=\"\",\"\",IF(tirage!E443=\"\",\"\",tirage!E443))","v":""},{"$f":"IF(C427=\"\",\"\",IF(tirage!F443=\"\",\"\",tirage!F443))","v":""},{"$f":"IF(C427=\"\",\"\",tirage!G443)","v":""}]
[null,"Lot425",{"$f":"IF(tirage!C444=\"\",\"\",tirage!C444)","v":""},null,{"$f":"IF(C428=\"\",\"\",IF(tirage!E444=\"\",\"\",tirage!E444))","v":""},{"$f":"IF(C428=\"\",\"\",IF(tirage!F444=\"\",\"\",tirage!F444))","v":""},{"$f":"IF(C428=\"\",\"\",tirage!G444)","v":""}]
[null,"Lot426",{"$f":"IF(tirage!C445=\"\",\"\",tirage!C445)","v":""},null,{"$f":"IF(C429=\"\",\"\",IF(tirage!E445=\"\",\"\",tirage!E445))","v":""},{"$f":"IF(C429=\"\",\"\",IF(tirage!F445=\"\",\"\",tirage!F445))","v":""},{"$f":"IF(C429=\"\",\"\",tirage!G445)","v":""}]
[null,"Lot427",{"$f":"IF(tirage!C446=\"\",\"\",tirage!C446)","v":""},null,{"$f":"IF(C430=\"\",\"\",IF(tirage!E446=\"\",\"\",tirage!E446))","v":""},{"$f":"IF(C430=\"\",\"\",IF(tirage!F446=\"\",\"\",tirage!F446))","v":""},{"$f":"IF(C430=\"\",\"\",tirage!G446)","v":""}]
[null,"Lot428",{"$f":"IF(tirage!C447=\"\",\"\",tirage!C447)","v":""},null,{"$f":"IF(C431=\"\",\"\",IF(tirage!E447=\"\",\"\",tirage!E447))","v":""},{"$f":"IF(C431=\"\",\"\",IF(tirage!F447=\"\",\"\",tirage!F447))","v":""},{"$f":"IF(C431=\"\",\"\",tirage!G447)","v":""}]
[null,"Lot429",{"$f":"IF(tirage!C448=\"\",\"\",tirage!C448)","v":""},null,{"$f":"IF(C432=\"\",\"\",IF(tirage!E448=\"\",\"\",tirage!E448))","v":""},{"$f":"IF(C432=\"\",\"\",IF(tirage!F448=\"\",\"\",tirage!F448))","v":""},{"$f":"IF(C432=\"\",\"\",tirage!G448)","v":""}]
[null,"Lot430",{"$f":"IF(tirage!C449=\"\",\"\",tirage!C449)","v":""},null,{"$f":"IF(C433=\"\",\"\",IF(tirage!E449=\"\",\"\",tirage!E449))","v":""},{"$f":"IF(C433=\"\",\"\",IF(tirage!F449=\"\",\"\",tirage!F449))","v":""},{"$f":"IF(C433=\"\",\"\",tirage!G449)","v":""}]
[null,"Lot431",{"$f":"IF(tirage!C450=\"\",\"\",tirage!C450)","v":""},null,{"$f":"IF(C434=\"\",\"\",IF(tirage!E450=\"\",\"\",tirage!E450))","v":""},{"$f":"IF(C434=\"\",\"\",IF(tirage!F450=\"\",\"\",tirage!F450))","v":""},{"$f":"IF(C434=\"\",\"\",tirage!G450)","v":""}]
[null,"Lot432",{"$f":"IF(tirage!C451=\"\",\"\",tirage!C451)","v":""},null,{"$f":"IF(C435=\"\",\"\",IF(tirage!E451=\"\",\"\",tirage!E451))","v":""},{"$f":"IF(C435=\"\",\"\",IF(tirage!F451=\"\",\"\",tirage!F451))","v":""},{"$f":"IF(C435=\"\",\"\",tirage!G451)","v":""}]
[null,"Lot433",{"$f":"IF(tirage!C452=\"\",\"\",tirage!C452)","v":""},null,{"$f":"IF(C436=\"\",\"\",IF(tirage!E452=\"\",\"\",tirage!E452))","v":""},{"$f":"IF(C436=\"\",\"\",IF(tirage!F452=\"\",\"\",tirage!F452))","v":""},{"$f":"IF(C436=\"\",\"\",tirage!G452)","v":""}]
[null,"Lot434",{"$f":"IF(tirage!C453=\"\",\"\",tirage!C453)","v":""},null,{"$f":"IF(C437=\"\",\"\",IF(tirage!E453=\"\",\"\",tirage!E453))","v":""},{"$f":"IF(C437=\"\",\"\",IF(tirage!F453=\"\",\"\",tirage!F453))","v":""},{"$f":"IF(C437=\"\",\"\",tirage!G453)","v":""}]
[null,"Lot435",{"$f":"IF(tirage!C454=\"\",\"\",tirage!C454)","v":""},null,{"$f":"IF(C438=\"\",\"\",IF(tirage!E454=\"\",\"\",tirage!E454))","v":""},{"$f":"IF(C438=\"\",\"\",IF(tirage!F454=\"\",\"\",tirage!F454))","v":""},{"$f":"IF(C438=\"\",\"\",tirage!G454)","v":""}]
[null,"Lot436",{"$f":"IF(tirage!C455=\"\",\"\",tirage!C455)","v":""},null,{"$f":"IF(C439=\"\",\"\",IF(tirage!E455=\"\",\"\",tirage!E455))","v":""},{"$f":"IF(C439=\"\",\"\",IF(tirage!F455=\"\",\"\",tirage!F455))","v":""},{"$f":"IF(C439=\"\",\"\",tirage!G455)","v":""}]
[null,"Lot437",{"$f":"IF(tirage!C456=\"\",\"\",tirage!C456)","v":""},null,{"$f":"IF(C440=\"\",\"\",IF(tirage!E456=\"\",\"\",tirage!E456))","v":""},{"$f":"IF(C440=\"\",\"\",IF(tirage!F456=\"\",\"\",tirage!F456))","v":""},{"$f":"IF(C440=\"\",\"\",tirage!G456)","v":""}]
[null,"Lot438",{"$f":"IF(tirage!C457=\"\",\"\",tirage!C457)","v":""},null,{"$f":"IF(C441=\"\",\"\",IF(tirage!E457=\"\",\"\",tirage!E457))","v":""},{"$f":"IF(C441=\"\",\"\",IF(tirage!F457=\"\",\"\",tirage!F457))","v":""},{"$f":"IF(C441=\"\",\"\",tirage!G457)","v":""}]
[null,"Lot439",{"$f":"IF(tirage!C458=\"\",\"\",tirage!C458)","v":""},null,{"$f":"IF(C442=\"\",\"\",IF(tirage!E458=\"\",\"\",tirage!E458))","v":""},{"$f":"IF(C442=\"\",\"\",IF(tirage!F458=\"\",\"\",tirage!F458))","v":""},{"$f":"IF(C442=\"\",\"\",tirage!G458)","v":""}]
[null,"Lot440",{"$f":"IF(tirage!C459=\"\",\"\",tirage!C459)","v":""},null,{"$f":"IF(C443=\"\",\"\",IF(tirage!E459=\"\",\"\",tirage!E459))","v":""},{"$f":"IF(C443=\"\",\"\",IF(tirage!F459=\"\",\"\",tirage!F459))","v":""},{"$f":"IF(C443=\"\",\"\",tirage!G459)","v":""}]
[null,"Lot441",{"$f":"IF(tirage!C460=\"\",\"\",tirage!C460)","v":""},null,{"$f":"IF(C444=\"\",\"\",IF(tirage!E460=\"\",\"\",tirage!E460))","v":""},{"$f":"IF(C444=\"\",\"\",IF(tirage!F460=\"\",\"\",tirage!F460))","v":""},{"$f":"IF(C444=\"\",\"\",tirage!G460)","v":""}]
[null,"Lot442",{"$f":"IF(tirage!C461=\"\",\"\",tirage!C461)","v":""},null,{"$f":"IF(C445=\"\",\"\",IF(tirage!E461=\"\",\"\",tirage!E461))","v":""},{"$f":"IF(C445=\"\",\"\",IF(tirage!F461=\"\",\"\",tirage!F461))","v":""},{"$f":"IF(C445=\"\",\"\",tirage!G461)","v":""}]
[null,"Lot443",{"$f":"IF(tirage!C462=\"\",\"\",tirage!C462)","v":""},null,{"$f":"IF(C446=\"\",\"\",IF(tirage!E462=\"\",\"\",tirage!E462))","v":""},{"$f":"IF(C446=\"\",\"\",IF(tirage!F462=\"\",\"\",tirage!F462))","v":""},{"$f":"IF(C446=\"\",\"\",tirage!G462)","v":""}]
[null,"Lot444",{"$f":"IF(tirage!C463=\"\",\"\",tirage!C463)","v":""},null,{"$f":"IF(C447=\"\",\"\",IF(tirage!E463=\"\",\"\",tirage!E463))","v":""},{"$f":"IF(C447=\"\",\"\",IF(tirage!F463=\"\",\"\",tirage!F463))","v":""},{"$f":"IF(C447=\"\",\"\",tirage!G463)","v":""}]
[null,"Lot445",{"$f":"IF(tirage!C464=\"\",\"\",tirage!C464)","v":""},null,{"$f":"IF(C448=\"\",\"\",IF(tirage!E464=\"\",\"\",tirage!E464))","v":""},{"$f":"IF(C448=\"\",\"\",IF(tirage!F464=\"\",\"\",tirage!F464))","v":""},{"$f":"IF(C448=\"\",\"\",tirage!G464)","v":""}]
[null,"Lot446",{"$f":"IF(tirage!C465=\"\",\"\",tirage!C465)","v":""},null,{"$f":"IF(C449=\"\",\"\",IF(tirage!E465=\"\",\"\",tirage!E465))","v":""},{"$f":"IF(C449=\"\",\"\",IF(tirage!F465=\"\",\"\",tirage!F465))","v":""},{"$f":"IF(C449=\"\",\"\",tirage!G465)","v":""}]
[null,"Lot447",{"$f":"IF(tirage!C466=\"\",\"\",tirage!C466)","v":""},null,{"$f":"IF(C450=\"\",\"\",IF(tirage!E466=\"\",\"\",tirage!E466))","v":""},{"$f":"IF(C450=\"\",\"\",IF(tirage!F466=\"\",\"\",tirage!F466))","v":""},{"$f":"IF(C450=\"\",\"\",tirage!G466)","v":""}]
[null,"Lot448",{"$f":"IF(tirage!C467=\"\",\"\",tirage!C467)","v":""},null,{"$f":"IF(C451=\"\",\"\",IF(tirage!E467=\"\",\"\",tirage!E467))","v":""},{"$f":"IF(C451=\"\",\"\",IF(tirage!F467=\"\",\"\",tirage!F467))","v":""},{"$f":"IF(C451=\"\",\"\",tirage!G467)","v":""}]
[null,"Lot449",{"$f":"IF(tirage!C468=\"\",\"\",tirage!C468)","v":""},null,{"$f":"IF(C452=\"\",\"\",IF(tirage!E468=\"\",\"\",tirage!E468))","v":""},{"$f":"IF(C452=\"\",\"\",IF(tirage!F468=\"\",\"\",tirage!F468))","v":""},{"$f":"IF(C452=\"\",\"\",tirage!G468)","v":""}]
[null,"Lot450",{"$f":"IF(tirage!C469=\"\",\"\",tirage!C469)","v":""},null,{"$f":"IF(C453=\"\",\"\",IF(tirage!E469=\"\",\"\",tirage!E469))","v":""},{"$f":"IF(C453=\"\",\"\",IF(tirage!F469=\"\",\"\",tirage!F469))","v":""},{"$f":"IF(C453=\"\",\"\",tirage!G469)","v":""}]
[null,"Lot451",{"$f":"IF(tirage!C470=\"\",\"\",tirage!C470)","v":""},null,{"$f":"IF(C454=\"\",\"\",IF(tirage!E470=\"\",\"\",tirage!E470))","v":""},{"$f":"IF(C454=\"\",\"\",IF(tirage!F470=\"\",\"\",tirage!F470))","v":""},{"$f":"IF(C454=\"\",\"\",tirage!G470)","v":""}]
[null,"Lot452",{"$f":"IF(tirage!C471=\"\",\"\",tirage!C471)","v":""},null,{"$f":"IF(C455=\"\",\"\",IF(tirage!E471=\"\",\"\",tirage!E471))","v":""},{"$f":"IF(C455=\"\",\"\",IF(tirage!F471=\"\",\"\",tirage!F471))","v":""},{"$f":"IF(C455=\"\",\"\",tirage!G471)","v":""}]
[null,"Lot453",{"$f":"IF(tirage!C472=\"\",\"\",tirage!C472)","v":""},null,{"$f":"IF(C456=\"\",\"\",IF(tirage!E472=\"\",\"\",tirage!E472))","v":""},{"$f":"IF(C456=\"\",\"\",IF(tirage!F472=\"\",\"\",tirage!F472))","v":""},{"$f":"IF(C456=\"\",\"\",tirage!G472)","v":""}]
[null,"Lot454",{"$f":"IF(tirage!C473=\"\",\"\",tirage!C473)","v":""},null,{"$f":"IF(C457=\"\",\"\",IF(tirage!E473=\"\",\"\",tirage!E473))","v":""},{"$f":"IF(C457=\"\",\"\",IF(tirage!F473=\"\",\"\",tirage!F473))","v":""},{"$f":"IF(C457=\"\",\"\",tirage!G473)","v":""}]
[null,"Lot455",{"$f":"IF(tirage!C474=\"\",\"\",tirage!C474)","v":""},null,{"$f":"IF(C458=\"\",\"\",IF(tirage!E474=\"\",\"\",tirage!E474))","v":""},{"$f":"IF(C458=\"\",\"\",IF(tirage!F474=\"\",\"\",tirage!F474))","v":""},{"$f":"IF(C458=\"\",\"\",tirage!G474)","v":""}]
[null,"Lot456",{"$f":"IF(tirage!C475=\"\",\"\",tirage!C475)","v":""},null,{"$f":"IF(C459=\"\",\"\",IF(tirage!E475=\"\",\"\",tirage!E475))","v":""},{"$f":"IF(C459=\"\",\"\",IF(tirage!F475=\"\",\"\",tirage!F475))","v":""},{"$f":"IF(C459=\"\",\"\",tirage!G475)","v":""}]
[null,"Lot457",{"$f":"IF(tirage!C476=\"\",\"\",tirage!C476)","v":""},null,{"$f":"IF(C460=\"\",\"\",IF(tirage!E476=\"\",\"\",tirage!E476))","v":""},{"$f":"IF(C460=\"\",\"\",IF(tirage!F476=\"\",\"\",tirage!F476))","v":""},{"$f":"IF(C460=\"\",\"\",tirage!G476)","v":""}]
[null,"Lot458",{"$f":"IF(tirage!C477=\"\",\"\",tirage!C477)","v":""},null,{"$f":"IF(C461=\"\",\"\",IF(tirage!E477=\"\",\"\",tirage!E477))","v":""},{"$f":"IF(C461=\"\",\"\",IF(tirage!F477=\"\",\"\",tirage!F477))","v":""},{"$f":"IF(C461=\"\",\"\",tirage!G477)","v":""}]
[null,"Lot459",{"$f":"IF(tirage!C478=\"\",\"\",tirage!C478)","v":""},null,{"$f":"IF(C462=\"\",\"\",IF(tirage!E478=\"\",\"\",tirage!E478))","v":""},{"$f":"IF(C462=\"\",\"\",IF(tirage!F478=\"\",\"\",tirage!F478))","v":""},{"$f":"IF(C462=\"\",\"\",tirage!G478)","v":""}]
[null,"Lot460",{"$f":"IF(tirage!C479=\"\",\"\",tirage!C479)","v":""},null,{"$f":"IF(C463=\"\",\"\",IF(tirage!E479=\"\",\"\",tirage!E479))","v":""},{"$f":"IF(C463=\"\",\"\",IF(tirage!F479=\"\",\"\",tirage!F479))","v":""},{"$f":"IF(C463=\"\",\"\",tirage!G479)","v":""}]
[null,"Lot461",{"$f":"IF(tirage!C480=\"\",\"\",tirage!C480)","v":""},null,{"$f":"IF(C464=\"\",\"\",IF(tirage!E480=\"\",\"\",tirage!E480))","v":""},{"$f":"IF(C464=\"\",\"\",IF(tirage!F480=\"\",\"\",tirage!F480))","v":""},{"$f":"IF(C464=\"\",\"\",tirage!G480)","v":""}]
[null,"Lot462",{"$f":"IF(tirage!C481=\"\",\"\",tirage!C481)","v":""},null,{"$f":"IF(C465=\"\",\"\",IF(tirage!E481=\"\",\"\",tirage!E481))","v":""},{"$f":"IF(C465=\"\",\"\",IF(tirage!F481=\"\",\"\",tirage!F481))","v":""},{"$f":"IF(C465=\"\",\"\",tirage!G481)","v":""}]
[null,"Lot463",{"$f":"IF(tirage!C482=\"\",\"\",tirage!C482)","v":""},null,{"$f":"IF(C466=\"\",\"\",IF(tirage!E482=\"\",\"\",tirage!E482))","v":""},{"$f":"IF(C466=\"\",\"\",IF(tirage!F482=\"\",\"\",tirage!F482))","v":""},{"$f":"IF(C466=\"\",\"\",tirage!G482)","v":""}]
[null,"Lot464",{"$f":"IF(tirage!C483=\"\",\"\",tirage!C483)","v":""},null,{"$f":"IF(C467=\"\",\"\",IF(tirage!E483=\"\",\"\",tirage!E483))","v":""},{"$f":"IF(C467=\"\",\"\",IF(tirage!F483=\"\",\"\",tirage!F483))","v":""},{"$f":"IF(C467=\"\",\"\",tirage!G483)","v":""}]
[null,"Lot465",{"$f":"IF(tirage!C484=\"\",\"\",tirage!C484)","v":""},null,{"$f":"IF(C468=\"\",\"\",IF(tirage!E484=\"\",\"\",tirage!E484))","v":""},{"$f":"IF(C468=\"\",\"\",IF(tirage!F484=\"\",\"\",tirage!F484))","v":""},{"$f":"IF(C468=\"\",\"\",tirage!G484)","v":""}]
[null,"Lot466",{"$f":"IF(tirage!C485=\"\",\"\",tirage!C485)","v":""},null,{"$f":"IF(C469=\"\",\"\",IF(tirage!E485=\"\",\"\",tirage!E485))","v":""},{"$f":"IF(C469=\"\",\"\",IF(tirage!F485=\"\",\"\",tirage!F485))","v":""},{"$f":"IF(C469=\"\",\"\",tirage!G485)","v":""}]
[null,"Lot467",{"$f":"IF(tirage!C486=\"\",\"\",tirage!C486)","v":""},null,{"$f":"IF(C470=\"\",\"\",IF(tirage!E486=\"\",\"\",tirage!E486))","v":""},{"$f":"IF(C470=\"\",\"\",IF(tirage!F486=\"\",\"\",tirage!F486))","v":""},{"$f":"IF(C470=\"\",\"\",tirage!G486)","v":""}]
[null,"Lot468",{"$f":"IF(tirage!C487=\"\",\"\",tirage!C487)","v":""},null,{"$f":"IF(C471=\"\",\"\",IF(tirage!E487=\"\",\"\",tirage!E487))","v":""},{"$f":"IF(C471=\"\",\"\",IF(tirage!F487=\"\",\"\",tirage!F487))","v":""},{"$f":"IF(C471=\"\",\"\",tirage!G487)","v":""}]
[null,"Lot469",{"$f":"IF(tirage!C488=\"\",\"\",tirage!C488)","v":""},null,{"$f":"IF(C472=\"\",\"\",IF(tirage!E488=\"\",\"\",tirage!E488))","v":""},{"$f":"IF(C472=\"\",\"\",IF(tirage!F488=\"\",\"\",tirage!F488))","v":""},{"$f":"IF(C472=\"\",\"\",tirage!G488)","v":""}]
[null,"Lot470",{"$f":"IF(tirage!C489=\"\",\"\",tirage!C489)","v":""},null,{"$f":"IF(C473=\"\",\"\",IF(tirage!E489=\"\",\"\",tirage!E489))","v":""},{"$f":"IF(C473=\"\",\"\",IF(tirage!F489=\"\",\"\",tirage!F489))","v":""},{"$f":"IF(C473=\"\",\"\",tirage!G489)","v":""}]
[null,"Lot471",{"$f":"IF(tirage!C490=\"\",\"\",tirage!C490)","v":""},null,{"$f":"IF(C474=\"\",\"\",IF(tirage!E490=\"\",\"\",tirage!E490))","v":""},{"$f":"IF(C474=\"\",\"\",IF(tirage!F490=\"\",\"\",tirage!F490))","v":""},{"$f":"IF(C474=\"\",\"\",tirage!G490)","v":""}]
[null,"Lot472",{"$f":"IF(tirage!C491=\"\",\"\",tirage!C491)","v":""},null,{"$f":"IF(C475=\"\",\"\",IF(tirage!E491=\"\",\"\",tirage!E491))","v":""},{"$f":"IF(C475=\"\",\"\",IF(tirage!F491=\"\",\"\",tirage!F491))","v":""},{"$f":"IF(C475=\"\",\"\",tirage!G491)","v":""}]
[null,"Lot473",{"$f":"IF(tirage!C492=\"\",\"\",tirage!C492)","v":""},null,{"$f":"IF(C476=\"\",\"\",IF(tirage!E492=\"\",\"\",tirage!E492))","v":""},{"$f":"IF(C476=\"\",\"\",IF(tirage!F492=\"\",\"\",tirage!F492))","v":""},{"$f":"IF(C476=\"\",\"\",tirage!G492)","v":""}]
[null,"Lot474",{"$f":"IF(tirage!C493=\"\",\"\",tirage!C493)","v":""},null,{"$f":"IF(C477=\"\",\"\",IF(tirage!E493=\"\",\"\",tirage!E493))","v":""},{"$f":"IF(C477=\"\",\"\",IF(tirage!F493=\"\",\"\",tirage!F493))","v":""},{"$f":"IF(C477=\"\",\"\",tirage!G493)","v":""}]
[null,"Lot475",{"$f":"IF(tirage!C494=\"\",\"\",tirage!C494)","v":""},null,{"$f":"IF(C478=\"\",\"\",IF(tirage!E494=\"\",\"\",tirage!E494))","v":""},{"$f":"IF(C478=\"\",\"\",IF(tirage!F494=\"\",\"\",tirage!F494))","v":""},{"$f":"IF(C478=\"\",\"\",tirage!G494)","v":""}]
[null,"Lot476",{"$f":"IF(tirage!C495=\"\",\"\",tirage!C495)","v":""},null,{"$f":"IF(C479=\"\",\"\",IF(tirage!E495=\"\",\"\",tirage!E495))","v":""},{"$f":"IF(C479=\"\",\"\",IF(tirage!F495=\"\",\"\",tirage!F495))","v":""},{"$f":"IF(C479=\"\",\"\",tirage!G495)","v":""}]
[null,"Lot477",{"$f":"IF(tirage!C496=\"\",\"\",tirage!C496)","v":""},null,{"$f":"IF(C480=\"\",\"\",IF(tirage!E496=\"\",\"\",tirage!E496))","v":""},{"$f":"IF(C480=\"\",\"\",IF(tirage!F496=\"\",\"\",tirage!F496))","v":""},{"$f":"IF(C480=\"\",\"\",tirage!G496)","v":""}]
[null,"Lot478",{"$f":"IF(tirage!C497=\"\",\"\",tirage!C497)","v":""},null,{"$f":"IF(C481=\"\",\"\",IF(tirage!E497=\"\",\"\",tirage!E497))","v":""},{"$f":"IF(C481=\"\",\"\",IF(tirage!F497=\"\",\"\",tirage!F497))","v":""},{"$f":"IF(C481=\"\",\"\",tirage!G497)","v":""}]
[null,"Lot479",{"$f":"IF(tirage!C498=\"\",\"\",tirage!C498)","v":""},null,{"$f":"IF(C482=\"\",\"\",IF(tirage!E498=\"\",\"\",tirage!E498))","v":""},{"$f":"IF(C482=\"\",\"\",IF(tirage!F498=\"\",\"\",tirage!F498))","v":""},{"$f":"IF(C482=\"\",\"\",tirage!G498)","v":""}]
[null,"Lot480",{"$f":"IF(tirage!C499=\"\",\"\",tirage!C499)","v":""},null,{"$f":"IF(C483=\"\",\"\",IF(tirage!E499=\"\",\"\",tirage!E499))","v":""},{"$f":"IF(C483=\"\",\"\",IF(tirage!F499=\"\",\"\",tirage!F499))","v":""},{"$f":"IF(C483=\"\",\"\",tirage!G499)","v":""}]
[null,"Lot481",{"$f":"IF(tirage!C500=\"\",\"\",tirage!C500)","v":""},null,{"$f":"IF(C484=\"\",\"\",IF(tirage!E500=\"\",\"\",tirage!E500))","v":""},{"$f":"IF(C484=\"\",\"\",IF(tirage!F500=\"\",\"\",tirage!F500))","v":""},{"$f":"IF(C484=\"\",\"\",tirage!G500)","v":""}]
[null,"Lot482",{"$f":"IF(tirage!C501=\"\",\"\",tirage!C501)","v":""},null,{"$f":"IF(C485=\"\",\"\",IF(tirage!E501=\"\",\"\",tirage!E501))","v":""},{"$f":"IF(C485=\"\",\"\",IF(tirage!F501=\"\",\"\",tirage!F501))","v":""},{"$f":"IF(C485=\"\",\"\",tirage!G501)","v":""}]
[null,"Lot483",{"$f":"IF(tirage!C502=\"\",\"\",tirage!C502)","v":""},null,{"$f":"IF(C486=\"\",\"\",IF(tirage!E502=\"\",\"\",tirage!E502))","v":""},{"$f":"IF(C486=\"\",\"\",IF(tirage!F502=\"\",\"\",tirage!F502))","v":""},{"$f":"IF(C486=\"\",\"\",tirage!G502)","v":""}]
[null,"Lot484",{"$f":"IF(tirage!C503=\"\",\"\",tirage!C503)","v":""},null,{"$f":"IF(C487=\"\",\"\",IF(tirage!E503=\"\",\"\",tirage!E503))","v":""},{"$f":"IF(C487=\"\",\"\",IF(tirage!F503=\"\",\"\",tirage!F503))","v":""},{"$f":"IF(C487=\"\",\"\",tirage!G503)","v":""}]
[null,"Lot485",{"$f":"IF(tirage!C504=\"\",\"\",tirage!C504)","v":""},null,{"$f":"IF(C488=\"\",\"\",IF(tirage!E504=\"\",\"\",tirage!E504))","v":""},{"$f":"IF(C488=\"\",\"\",IF(tirage!F504=\"\",\"\",tirage!F504))","v":""},{"$f":"IF(C488=\"\",\"\",tirage!G504)","v":""}]
[null,"Lot486",{"$f":"IF(tirage!C505=\"\",\"\",tirage!C505)","v":""},null,{"$f":"IF(C489=\"\",\"\",IF(tirage!E505=\"\",\"\",tirage!E505))","v":""},{"$f":"IF(C489=\"\",\"\",IF(tirage!F505=\"\",\"\",tirage!F505))","v":""},{"$f":"IF(C489=\"\",\"\",tirage!G505)","v":""}]
[null,"Lot487",{"$f":"IF(tirage!C506=\"\",\"\",tirage!C506)","v":""},null,{"$f":"IF(C490=\"\",\"\",IF(tirage!E506=\"\",\"\",tirage!E506))","v":""},{"$f":"IF(C490=\"\",\"\",IF(tirage!F506=\"\",\"\",tirage!F506))","v":""},{"$f":"IF(C490=\"\",\"\",tirage!G506)","v":""}]
[null,"Lot488",{"$f":"IF(tirage!C507=\"\",\"\",tirage!C507)","v":""},null,{"$f":"IF(C491=\"\",\"\",IF(tirage!E507=\"\",\"\",tirage!E507))","v":""},{"$f":"IF(C491=\"\",\"\",IF(tirage!F507=\"\",\"\",tirage!F507))","v":""},{"$f":"IF(C491=\"\",\"\",tirage!G507)","v":""}]
[null,"Lot489",{"$f":"IF(tirage!C508=\"\",\"\",tirage!C508)","v":""},null,{"$f":"IF(C492=\"\",\"\",IF(tirage!E508=\"\",\"\",tirage!E508))","v":""},{"$f":"IF(C492=\"\",\"\",IF(tirage!F508=\"\",\"\",tirage!F508))","v":""},{"$f":"IF(C492=\"\",\"\",tirage!G508)","v":""}]
[null,"Lot490",{"$f":"IF(tirage!C509=\"\",\"\",tirage!C509)","v":""},null,{"$f":"IF(C493=\"\",\"\",IF(tirage!E509=\"\",\"\",tirage!E509))","v":""},{"$f":"IF(C493=\"\",\"\",IF(tirage!F509=\"\",\"\",tirage!F509))","v":""},{"$f":"IF(C493=\"\",\"\",tirage!G509)","v":""}]
[null,"Lot491",{"$f":"IF(tirage!C510=\"\",\"\",tirage!C510)","v":""},null,{"$f":"IF(C494=\"\",\"\",IF(tirage!E510=\"\",\"\",tirage!E510))","v":""},{"$f":"IF(C494=\"\",\"\",IF(tirage!F510=\"\",\"\",tirage!F510))","v":""},{"$f":"IF(C494=\"\",\"\",tirage!G510)","v":""}]
[null,"Lot492",{"$f":"IF(tirage!C511=\"\",\"\",tirage!C511)","v":""},null,{"$f":"IF(C495=\"\",\"\",IF(tirage!E511=\"\",\"\",tirage!E511))","v":""},{"$f":"IF(C495=\"\",\"\",IF(tirage!F511=\"\",\"\",tirage!F511))","v":""},{"$f":"IF(C495=\"\",\"\",tirage!G511)","v":""}]
[null,"Lot493",{"$f":"IF(tirage!C512=\"\",\"\",tirage!C512)","v":""},null,{"$f":"IF(C496=\"\",\"\",IF(tirage!E512=\"\",\"\",tirage!E512))","v":""},{"$f":"IF(C496=\"\",\"\",IF(tirage!F512=\"\",\"\",tirage!F512))","v":""},{"$f":"IF(C496=\"\",\"\",tirage!G512)","v":""}]
[null,"Lot494",{"$f":"IF(tirage!C513=\"\",\"\",tirage!C513)","v":""},null,{"$f":"IF(C497=\"\",\"\",IF(tirage!E513=\"\",\"\",tirage!E513))","v":""},{"$f":"IF(C497=\"\",\"\",IF(tirage!F513=\"\",\"\",tirage!F513))","v":""},{"$f":"IF(C497=\"\",\"\",tirage!G513)","v":""}]
[null,"Lot495",{"$f":"IF(tirage!C514=\"\",\"\",tirage!C514)","v":""},null,{"$f":"IF(C498=\"\",\"\",IF(tirage!E514=\"\",\"\",tirage!E514))","v":""},{"$f":"IF(C498=\"\",\"\",IF(tirage!F514=\"\",\"\",tirage!F514))","v":""},{"$f":"IF(C498=\"\",\"\",tirage!G514)","v":""}]
[null,"Lot496",{"$f":"IF(tirage!C515=\"\",\"\",tirage!C515)","v":""},null,{"$f":"IF(C499=\"\",\"\",IF(tirage!E515=\"\",\"\",tirage!E515))","v":""},{"$f":"IF(C499=\"\",\"\",IF(tirage!F515=\"\",\"\",tirage!F515))","v":""},{"$f":"IF(C499=\"\",\"\",tirage!G515)","v":""}]
[null,"Lot497",{"$f":"IF(tirage!C516=\"\",\"\",tirage!C516)","v":""},null,{"$f":"IF(C500=\"\",\"\",IF(tirage!E516=\"\",\"\",tirage!E516))","v":""},{"$f":"IF(C500=\"\",\"\",IF(tirage!F516=\"\",\"\",tirage!F516))","v":""},{"$f":"IF(C500=\"\",\"\",tirage!G516)","v":""}]
[null,"Lot498",{"$f":"IF(tirage!C517=\"\",\"\",tirage!C517)","v":""},null,{"$f":"IF(C501=\"\",\"\",IF(tirage!E517=\"\",\"\",tirage!E517))","v":""},{"$f":"IF(C501=\"\",\"\",IF(tirage!F517=\"\",\"\",tirage!F517))","v":""},{"$f":"IF(C501=\"\",\"\",tirage!G517)","v":""}]
[null,"Lot499",{"$f":"IF(tirage!C518=\"\",\"\",tirage!C518)","v":""},null,{"$f":"IF(C502=\"\",\"\",IF(tirage!E518=\"\",\"\",tirage!E518))","v":""},{"$f":"IF(C502=\"\",\"\",IF(tirage!F518=\"\",\"\",tirage!F518))","v":""},{"$f":"IF(C502=\"\",\"\",tirage!G518)","v":""}]
[null,"Lot500",{"$f":"IF(tirage!C519=\"\",\"\",tirage!C519)","v":""},null,{"$f":"IF(C503=\"\",\"\",IF(tirage!E519=\"\",\"\",tirage!E519))","v":""},{"$f":"IF(C503=\"\",\"\",IF(tirage!F519=\"\",\"\",tirage!F519))","v":""},{"$f":"IF(C503=\"\",\"\",tirage!G519)","v":""}]